Workbook

Sheet PANEL DE CONTROL DISTRITAL
A1: INSTITUTO NACIONAL ELECTORAL SISTEMA DE GESTIÓN DE LA CALIDAD CIUDAD DE MÉXICO
M2: Fecha de corte dd/mm/aaaa | Q2: Version 0
A4: TABLERO DE CONTROL DISTRITAL DE PROCESOS SUSTANTIVOS DEL SISTEMA DE GESTIÓN DE LA CALIDAD
A5: CAMPAÑA ANUAL PERMANENTE 2024
A6: Número | B6: PROCESOS SUSTANTIVOS E INDICADORES | I6: % AVANCE REGISTRADO | K6: % AVANCE REGISTRADO | M6: % AVANCE REGISTRADO | O6: % AVANCE REGISTRADO | Q6: % AVANCE REGISTRADO | S6: % AVANCE REGISTRADO | U6: % AVANCE REGISTRADO | W6: % AVANCE REGISTRADO | Y6: % AVANCE REGISTRADO | AA6: % AVANCE REGISTRADO | AC6: % AVANCE REGISTRADO | AE6: % AVANCE REGISTRADO | AG6: % AVANCE REGISTRADO | AI6: % AVANCE REGISTRADO | AK6: % AVANCE REGISTRADO | AM6: % AVANCE REGISTRADO | AO6: % AVANCE REGISTRADO | AQ6: % AVANCE REGISTRADO | AS6: % AVANCE REGISTRADO | AU6: % AVANCE REGISTRADO | AW6: % AVANCE REGISTRADO | AY6: % AVANCE REGISTRADO | BB6: % AVANCE REGISTRADO
B7: DESCRIPCIÓN | E7: MEDICIÓN
B8: Proceso | C8: Dueño de Proceso | D8: Indicador | E8: Cálculo | F8: Periodo | G8: Estimado | H8: Nominativo | I8: Distrito 01 | K8: Distrito 02 | M8: Distrito 03 | O8: Distrito 04 | Q8: Distrito 05 | S8: Distrito 06 | U8: Distrito 07 | W8: Distrito 08 | Y8: Distrito 09 | AA8: Distrito 10 | AC8: Distrito 11 | AE8: Distrito 12 | AG8: Distrito 13 | AI8: Distrito 14 | AK8: Distrito 15 | AM8: Distrito 16 | AO8: Distrito 17 | AQ8: Distrito 18 | AS8: Distrito 19 | AU8: Distrito 20 | AW8: Distrito 21 | AY8: Distrito 22 | BB8: Estatal
A9: 1 | B9: Entrevista | C9: Auxiliar de Atención Ciudadana | D9: Fichas requisitadas correctamente. | E9: (Fichas requisitadas correctamente / Fichas revisadas en la muestra del 10%) x 100 | F9: Semanal (remesa) | G9: 0.9 | H9: Fichas requistadas correctamente | I9: =AVERAGE('090151'!V10:V11) -> 0.99192735 | K9: =AVERAGE('090251'!V10:V11) -> 0.97901821 | M9: =AVERAGE('090351'!V10:V11) -> 1 | O9: =AVERAGE('090451'!V10:V11) -> 1 | Q9: =AVERAGE('090551'!V10:V11) -> 1 | S9: =AVERAGE('090651'!V10:V11) -> 0.88693467 | U9: =AVERAGE('090751'!V10:V11) -> 1 | W9: =AVERAGE('090853'!V10:V11,'090852'!V10:V11) -> 0.97909605 | Y9: =AVERAGE('090951'!V10:V11) -> 1 | AA9: =AVERAGE('091051'!V10:V11) -> 1 | AC9: =AVERAGE('091151'!V10:V11) -> 0.98025478 | AE9: =AVERAGE('091251'!V10:V11,'091252'!V10:V11,'091253'!V10:V11) -> 1 | AG9: =AVERAGE('091351'!V10:V11) -> 1 | AI9: =AVERAGE('091451'!V10:V11) -> 1 | AK9: =AVERAGE('091551'!V10:V11,'091552'!V10:V11) -> 1 | AM9: =AVERAGE('091651'!V10:V11) -> 1 | AO9: =AVERAGE('091751'!V10:V11) -> 0.98511628 | AQ9: =AVERAGE('091851'!V10:V11) -> 1 | AS9: =AVERAGE('091952'!V10:V11) -> 0.92203742 | AU9: =AVERAGE('092051'!V10:V11) -> 1 | AW9: =AVERAGE('092151'!V10:V11,'092152'!V10:V11) -> 0.98314249 | AY9: =AVERAGE('092251'!V10:V11) -> 1 | BB9: =AVERAGE(I9,K9,M9,O9,Q9,S9,U9,W9,Y9,AA9,AC9,AE9,AG9,AI9,AK9,AM9,AO9,AQ9,AS9,AU9,AW9,AY9) -> 0.98670578
H10: Fichas revisadas en la Muestra del 10%
A12: 2 | B12: Trámite | C12: Operador de Equipo Tecnológico | D12: Trámites exitosos. | E12: (Número de trámites exitosos / Número de trámites aplicados) x 100 | F12: Semanal (remesa) | G12: 0.9 | H12: Número de trámites exitosos | I12: =AVERAGE('090151'!V13:V14) -> 0.97333607 | K12: =AVERAGE('090251'!V13:V14) -> 0.99531523 | M12: =AVERAGE('090351'!V13:V14) -> 0.99613343 | O12: =AVERAGE('090451'!V13:V14) -> 0.99634563 | Q12: =AVERAGE('090551'!V13:V14) -> 0.99820981 | S12: =AVERAGE('090651'!V13:V14) -> 0.97356867 | U12: =AVERAGE('090751'!V13:V14) -> 0.99645361 | W12: =AVERAGE('090853'!V13:V14,'090852'!V13:V14) -> 0.98610693 | Y12: =AVERAGE('090951'!V13:V14) -> 0.99735861 | AA12: =AVERAGE('091051'!V13:V14) -> 0.97280504 | AC12: =AVERAGE('091151'!V13:V14) -> 0.97587579 | AE12: =AVERAGE('091251'!V13:V14,'091252'!V13:V14,'091253'!V13:V14) -> 0.9712548 | AG12: =AVERAGE('091351'!V13:V14) -> 0.97427284 | AI12: =AVERAGE('091451'!V13:V14) -> 0.99861159 | AK12: =AVERAGE('091551'!V13:V14,'091552'!V13:V14) -> 0.97946056 | AM12: =AVERAGE('091651'!V13:V14) -> 0.97333581 | AO12: =AVERAGE('091751'!V13:V14) -> 0.99669871 | AQ12: =AVERAGE('091851'!V13:V14) -> 0.97362786 | AS12: =AVERAGE('091952'!V13:V14) -> 0.97205346 | AU12: =AVERAGE('092051'!V13:V14) -> 0.99652778 | AW12: =AVERAGE('092151'!V13:V14,'092152'!V13:V14) -> 0.98709122 | AY12: =AVERAGE('092251'!V13:V14) -> 0.99615317 | BB12: =AVERAGE(I12,K12,M12,O12,Q12,S12,U12,W12,Y12,AA12,AC12,AE12,AG12,AI12,AK12,AM12,AO12,AQ12,AS12,AU12,AW12,AY12) -> 0.98548166
H13: Número de trámites aplicados
A15: 3 | B15: Transferencia de la Información. | C15: Responsable de Módulo | D15: Reenvíos exitosos. | E15: (Ejecución de los scripts de reenvío de notificaciones / Solicitud de reenvíos de scripts requeridos) x100 | F15: Semanal (remesa) | G15: 1 | H15: Ejecución de los scripts de reenvío de notificaciones | I15: =AVERAGE('090151'!V16:V17) -> 1 | K15: =AVERAGE('090251'!V16:V17) -> 1 | M15: =AVERAGE('090351'!V16:V17) -> 1 | O15: =AVERAGE('090451'!V16:V17) -> 1 | Q15: =AVERAGE('090551'!V16:V17) -> 1 | S15: =AVERAGE('090651'!V16:V17) -> 1 | U15: =AVERAGE('090751'!V16:V17) -> 1 | W15: =AVERAGE('090853'!V16:V17,'090852'!V16:V17) -> 1 | Y15: =AVERAGE('090951'!V16:V17) -> 1 | AA15: =AVERAGE('091051'!V16:V17) -> 1 | AC15: =AVERAGE('091151'!V16:V17) -> 1 | AE15: =AVERAGE('091251'!V16:V17,'091252'!V16:V17,'091253'!V16:V17) -> 1 | AG15: =AVERAGE('091351'!V16:V17) -> 1 | AI15: =AVERAGE('091451'!V16:V17) -> 1 | AK15: =AVERAGE('091551'!V16:V17,'091552'!V16:V17) -> 1 | AM15: =AVERAGE('091651'!V16:V17) -> 1 | AO15: =AVERAGE('091751'!V16:V17) -> 1 | AQ15: =AVERAGE('091851'!V16:V17) -> 1 | AS15: =AVERAGE('091952'!V16:V17) -> 1 | AU15: =AVERAGE('092051'!V16:V17) -> 1 | AW15: =AVERAGE('092151'!V16:V17,'092152'!V16:V17) -> 1 | AY15: =AVERAGE('092251'!V16:V17) -> 1 | BB15: =AVERAGE(I15,K15,M15,O15,Q15,S15,U15,W15,Y15,AA15,AC15,AE15,AG15,AI15,AK15,AM15,AO15,AQ15,AS15,AU15,AW15,AY15) -> 1
H16: Solicitud de reevíos de scripts requeridos
A18: 4 | B18: Conciliación de Credenciales para Votar. | C18: Responsable de Módulo | D18: Credenciales disponibles para entrega. | E18: [(Credenciales recibidas - Credenciales inconsistentes) / Credenciales recibidas] x 100 | F18: Semanal (remesa) | G18: 0.9 | H18: Credenciales Recibidas - Credenciales inconsistentes | I18: =AVERAGE('090151'!V19:V20) -> 1 | K18: =AVERAGE('090251'!V19:V20) -> 1 | M18: =AVERAGE('090351'!V19:V20) -> 0.99986361 | O18: =AVERAGE('090451'!V19:V20) -> 1 | Q18: =AVERAGE('090551'!V19:V20) -> 0.9999069 | S18: =AVERAGE('090651'!V19:V20) -> 1 | U18: =AVERAGE('090751'!V19:V20) -> 1 | W18: =AVERAGE('090853'!V19:V20,'090852'!V19:V20) -> 0.99996617 | Y18: =AVERAGE('090951'!V19:V20) -> 1 | AA18: =AVERAGE('091051'!V19:V20) -> 0.99990619 | AC18: =AVERAGE('091151'!V19:V20) -> 1 | AE18: =AVERAGE('091251'!V19:V20,'091252'!V19:V20,'091253'!V19:V20) -> 1 | AG18: =AVERAGE('091351'!V19:V20) -> 1 | AI18: =AVERAGE('091451'!V19:V20) -> 1 | AK18: =AVERAGE('091551'!V19:V20,'091552'!V19:V20) -> 1 | AM18: =AVERAGE('091651'!V19:V20) -> 1 | AO18: =AVERAGE('091751'!V19:V20) -> 1 | AQ18: =AVERAGE('091851'!V19:V20) -> 1 | AS18: =AVERAGE('091952'!V19:V20) -> 1 | AU18: =AVERAGE('092051'!V19:V20) -> 1 | AW18: =AVERAGE('092151'!V19:V20,'092152'!V19:V20) -> 1 | AY18: =AVERAGE('092251'!V19:V20) -> 1 | BB18: =AVERAGE(I18,K18,M18,O18,Q18,S18,U18,W18,Y18,AA18,AC18,AE18,AG18,AI18,AK18,AM18,AO18,AQ18,AS18,AU18,AW18,AY18) -> 0.99998377
H19: Credenciales recibidas
A21: 5 | B21: Conciliación de Credenciales para Votar. | C21: Responsable de Módulo | D21: Arqueo de credenciales. | E21: (Credenciales disponibles (físicas) / Credenciales disponibles registradas en SIIRFE-MAC) x 100 | F21: Semanal (remesa) | G21: 1 | H21: Credenciales disponibles (físicas) | I21: =AVERAGE('090151'!V22:V23) -> 1 | K21: =AVERAGE('090251'!V22:V23) -> 1 | M21: =AVERAGE('090351'!V22:V23) -> 1 | O21: =AVERAGE('090451'!V22:V23) -> 1 | Q21: =AVERAGE('090551'!V22:V23) -> 1 | S21: =AVERAGE('090651'!V22:V23) -> 1 | U21: =AVERAGE('090751'!V22:V23) -> 1 | W21: =AVERAGE('090853'!V22:V23,'090852'!V22:V23) -> 1 | Y21: =AVERAGE('090951'!V22:V23) -> 1 | AA21: =AVERAGE('091051'!V22:V23) -> 1 | AC21: =AVERAGE('091151'!V22:V23) -> 1 | AE21: =AVERAGE('091251'!V22:V23,'091252'!V22:V23,'091253'!V22:V23) -> 1 | AG21: =AVERAGE('091351'!V22:V23) -> 1 | AI21: =AVERAGE('091451'!V22:V23) -> 1 | AK21: =AVERAGE('091551'!V22:V23,'091552'!V22:V23) -> 1 | AM21: =AVERAGE('091651'!V22:V23) -> 1 | AO21: =AVERAGE('091751'!V22:V23) -> 1 | AQ21: =AVERAGE('091851'!V22:V23) -> 1 | AS21: =AVERAGE('091952'!V22:V23) -> 1 | AU21: =AVERAGE('092051'!V22:V23) -> 1 | AW21: =AVERAGE('092151'!V22:V23,'092152'!V22:V23) -> 1 | AY21: =AVERAGE('092251'!V22:V23) -> 1 | BB21: =AVERAGE(I21,K21,M21,O21,Q21,S21,U21,W21,Y21,AA21,AC21,AE21,AG21,AI21,AK21,AM21,AO21,AQ21,AS21,AU21,AW21,AY21) -> 1
H22: Credenciales disponibles registradas en SIIRFE
A24: 6 | B24: Entrega de la Credencial para Votar. | C24: Operador de Equipo Tecnológico | D24: Efectividad de entrega de CPV en MAC. | E24: (Total de credenciales entregadas / Total de ciudadanas y ciudadanos que acuden al MAC a recoger su credencial) x 100 | F24: Semanal (remesa) | G24: 0.9 | H24: Total de credenciales entregadas | I24: =AVERAGE('090151'!V25:V26) -> 0.99988038 | K24: =AVERAGE('090251'!V25:V26) -> 0.99795244 | M24: =AVERAGE('090351'!V25:V26) -> 1 | O24: =AVERAGE('090451'!V25:V26) -> 0.99118522 | Q24: =AVERAGE('090551'!V25:V26) -> 0.99959004 | S24: =AVERAGE('090651'!V25:V26) -> 1 | U24: =AVERAGE('090751'!V25:V26) -> 0.99866844 | W24: =AVERAGE('090853'!V25:V26,'090852'!V25:V26) -> 0.99826401 | Y24: =AVERAGE('090951'!V25:V26) -> 0.99806133 | AA24: =AVERAGE('091051'!V25:V26) -> 0.99924949 | AC24: =AVERAGE('091151'!V25:V26) -> 0.99985214 | AE24: =AVERAGE('091251'!V25:V26,'091252'!V25:V26,'091253'!V25:V26) -> 0.99796809 | AG24: =AVERAGE('091351'!V25:V26) -> 0.99855254 | AI24: =AVERAGE('091451'!V25:V26) -> 1 | AK24: =AVERAGE('091551'!V25:V26,'091552'!V25:V26) -> 0.99964977 | AM24: =AVERAGE('091651'!V25:V26) -> 0.99825822 | AO24: =AVERAGE('091751'!V25:V26) -> 1 | AQ24: =AVERAGE('091851'!V25:V26) -> 0.99906878 | AS24: =AVERAGE('091952'!V25:V26) -> 0.99548562 | AU24: =AVERAGE('092051'!V25:V26) -> 1 | AW24: =AVERAGE('092151'!V25:V26,'092152'!V25:V26) -> 0.99917324 | AY24: =AVERAGE('092251'!V25:V26) -> 0.9953998 | BB24: =AVERAGE(I24,K24,M24,O24,Q24,S24,U24,W24,Y24,AA24,AC24,AE24,AG24,AI24,AK24,AM24,AO24,AQ24,AS24,AU24,AW24,AY24) -> 0.99846634
H25: Total de ciudadanos que acuden a MAC a recoger su credencial

Sheet 090151
A1: ='PANEL DE CONTROL DISTRITAL'!A1:Q1 -> INSTITUTO NACIONAL ELECTORAL SISTEMA DE GESTIÓN DE LA CALIDAD CIUDAD DE MÉXICO
D2: Distrito | E2: 1 | F2: Módulo | H2: 90151
A4: TABLERO DE CONTROL DE PROCESOS SUSTANTIVOS DEL SISTEMA DE GESTIÓN DE LA CALIDAD
A6: ='PANEL DE CONTROL DISTRITAL'!A6 -> Número | B6: ='PANEL DE CONTROL DISTRITAL'!B6 -> PROCESOS SUSTANTIVOS E INDICADORES | I6: SEMANA OPERATIVA | V6: % AVANCE REGISTRADO
B7: ='PANEL DE CONTROL DISTRITAL'!B7 -> DESCRIPCIÓN | E7: ='PANEL DE CONTROL DISTRITAL'!E7 -> MEDICIÓN | I7: CAMPAÑA ANUAL PERMANENTE 2024
B9: ='PANEL DE CONTROL DISTRITAL'!B8 -> Proceso | C9: ='PANEL DE CONTROL DISTRITAL'!C8 -> Dueño de Proceso | D9: ='PANEL DE CONTROL DISTRITAL'!D8 -> Indicador | E9: ='PANEL DE CONTROL DISTRITAL'!E8 -> Cálculo | F9: ='PANEL DE CONTROL DISTRITAL'!F8 -> Periodo | G9: ='PANEL DE CONTROL DISTRITAL'!G8 -> Estimado | H9: ='PANEL DE CONTROL DISTRITAL'!H8 -> Nominativo | I9: 2024-28 | J9: 2024-29 | K9: 2024-30 | L9: 2024-31 | M9: 2024-32 | N9: 2024-33 | O9: 2024-34 | P9: 2024-35 | Q9: 2024-36 | R9: 2024-37 | S9: 2024-38 | T9: 2024-39 | U9: 2024-40
A10: ='PANEL DE CONTROL DISTRITAL'!A9 -> 1 | B10: ='PANEL DE CONTROL DISTRITAL'!B9 -> Entrevista | C10: ='PANEL DE CONTROL DISTRITAL'!C9 -> Auxiliar de Atención Ciudadana | D10: ='PANEL DE CONTROL DISTRITAL'!D9 -> Fichas requisitadas correctamente. | E10: ='PANEL DE CONTROL DISTRITAL'!E9 -> (Fichas requisitadas correctamente / Fichas revisadas en la muestra del 10%) x 100 | F10: ='PANEL DE CONTROL DISTRITAL'!F9 -> Semanal (remesa) | G10: ='PANEL DE CONTROL DISTRITAL'!G9 -> 0.9 | H10: ='PANEL DE CONTROL DISTRITAL'!H9 -> Fichas requistadas correctamente | I10: 11 | J10: 90 | K10: 84 | L10: 82 | M10: 77 | N10: 78 | O10: 83 | P10: 79 | Q10: 80 | R10: 82 | S10: 82 | T10: 76 | U10: 79 | V10: =IFERROR(SUM(I10:U10)/SUM(I11:U11),0) -> 0.99192735
H11: ='PANEL DE CONTROL DISTRITAL'!H10 -> Fichas revisadas en la Muestra del 10% | I11: 11 | J11: 93 | K11: 85 | L11: 82 | M11: 78 | N11: 78 | O11: 83 | P11: 79 | Q11: 83 | R11: 82 | S11: 82 | T11: 76 | U11: 79
A13: ='PANEL DE CONTROL DISTRITAL'!A12 -> 2 | B13: ='PANEL DE CONTROL DISTRITAL'!B12 -> Trámite | C13: ='PANEL DE CONTROL DISTRITAL'!C12 -> Operador de Equipo Tecnológico | D13: ='PANEL DE CONTROL DISTRITAL'!D12 -> Trámites exitosos. | E13: ='PANEL DE CONTROL DISTRITAL'!E12 -> (Número de trámites exitosos / Número de trámites aplicados) x 100 | F13: ='PANEL DE CONTROL DISTRITAL'!F12 -> Semanal (remesa) | G13: ='PANEL DE CONTROL DISTRITAL'!G12 -> 0.9 | H13: ='PANEL DE CONTROL DISTRITAL'!H12 -> Número de trámites exitosos | I13: 104 | J13: 903 | K13: 833 | L13: 804 | M13: 772 | N13: 761 | O13: 811 | P13: 786 | Q13: 813 | R13: 804 | S13: 805 | T13: 748 | U13: 547 | V13: =IFERROR(SUM(I13:U13)/SUM(I14:U14),0) -> 0.97333607
H14: ='PANEL DE CONTROL DISTRITAL'!H13 -> Número de trámites aplicados | I14: 105 | J14: 906 | K14: 839 | L14: 808 | M14: 773 | N14: 762 | O14: 812 | P14: 790 | Q14: 815 | R14: 808 | S14: 806 | T14: 751 | U14: 776
A16: ='PANEL DE CONTROL DISTRITAL'!A15 -> 3 | B16: ='PANEL DE CONTROL DISTRITAL'!B15 -> Transferencia de la Información. | C16: ='PANEL DE CONTROL DISTRITAL'!C15 -> Responsable de Módulo | D16: ='PANEL DE CONTROL DISTRITAL'!D15 -> Reenvíos exitosos. | E16: ='PANEL DE CONTROL DISTRITAL'!E15 -> (Ejecución de los scripts de reenvío de notificaciones / Solicitud de reenvíos de scripts requeridos) x100 | F16: ='PANEL DE CONTROL DISTRITAL'!F15 -> Semanal (remesa) | G16: ='PANEL DE CONTROL DISTRITAL'!G15 -> 1 | H16: ='PANEL DE CONTROL DISTRITAL'!H15 -> Ejecución de los scripts de reenvío de notificaciones | I16: 0 | J16: 0 | K16: 0 | L16: 0 | M16: 0 | N16: 0 | O16: 0 | P16: 0 | Q16: 0 | R16: 0 | S16: 0 | T16: 0 | U16: 0 | V16: =IFERROR(SUM(I16:U16)/SUM(I17:U17),1) -> 1
H17: ='PANEL DE CONTROL DISTRITAL'!H16 -> Solicitud de reevíos de scripts requeridos | I17: 0 | J17: 0 | K17: 0 | L17: 0 | M17: 0 | N17: 0 | O17: 0 | P17: 0 | Q17: 0 | R17: 0 | S17: 0 | T17: 0 | U17: 0
A19: ='PANEL DE CONTROL DISTRITAL'!A18 -> 4 | B19: ='PANEL DE CONTROL DISTRITAL'!B18 -> Conciliación de Credenciales para Votar. | C19: ='PANEL DE CONTROL DISTRITAL'!C18 -> Responsable de Módulo | D19: ='PANEL DE CONTROL DISTRITAL'!D18 -> Credenciales disponibles para entrega. | E19: ='PANEL DE CONTROL DISTRITAL'!E18 -> [(Credenciales recibidas - Credenciales inconsistentes) / Credenciales recibidas] x 100 | F19: ='PANEL DE CONTROL DISTRITAL'!F18 -> Semanal (remesa) | G19: ='PANEL DE CONTROL DISTRITAL'!G18 -> 0.9 | H19: ='PANEL DE CONTROL DISTRITAL'!H18 -> Credenciales Recibidas - Credenciales inconsistentes | I19: 0 | J19: 488 | K19: 963 | L19: 808 | M19: 780 | N19: 788 | O19: 752 | P19: 826 | Q19: 636 | R19: 964 | S19: 809 | T19: 781 | U19: 771 | V19: =IFERROR(SUM(I19:U19)/SUM(I20:U20),0) -> 1
H20: ='PANEL DE CONTROL DISTRITAL'!H19 -> Credenciales recibidas | I20: 0 | J20: 488 | K20: 963 | L20: 808 | M20: 780 | N20: 788 | O20: 752 | P20: 826 | Q20: 636 | R20: 964 | S20: 809 | T20: 781 | U20: 771
A22: ='PANEL DE CONTROL DISTRITAL'!A21 -> 5 | B22: ='PANEL DE CONTROL DISTRITAL'!B21 -> Conciliación de Credenciales para Votar. | C22: ='PANEL DE CONTROL DISTRITAL'!C21 -> Responsable de Módulo | D22: ='PANEL DE CONTROL DISTRITAL'!D21 -> Arqueo de credenciales. | E22: ='PANEL DE CONTROL DISTRITAL'!E21 -> (Credenciales disponibles (físicas) / Credenciales disponibles registradas en SIIRFE-MAC) x 100 | F22: ='PANEL DE CONTROL DISTRITAL'!F21 -> Semanal (remesa) | G22: ='PANEL DE CONTROL DISTRITAL'!G21 -> 1 | H22: ='PANEL DE CONTROL DISTRITAL'!H21 -> Credenciales disponibles (físicas) | I22: 245 | J22: 706 | K22: 1142 | L22: 1184 | M22: 1135 | N22: 1230 | O22: 1201 | P22: 1228 | Q22: 1056 | R22: 1235 | S22: 1215 | T22: 1219 | U22: 1221 | V22: =IFERROR(SUM(I22:U22)/SUM(I23:U23),0) -> 1
H23: ='PANEL DE CONTROL DISTRITAL'!H22 -> Credenciales disponibles registradas en SIIRFE | I23: 245 | J23: 706 | K23: 1142 | L23: 1184 | M23: 1135 | N23: 1230 | O23: 1201 | P23: 1228 | Q23: 1056 | R23: 1235 | S23: 1215 | T23: 1219 | U23: 1221
A25: ='PANEL DE CONTROL DISTRITAL'!A24 -> 6 | B25: ='PANEL DE CONTROL DISTRITAL'!B24 -> Entrega de la Credencial para Votar. | C25: ='PANEL DE CONTROL DISTRITAL'!C24 -> Operador de Equipo Tecnológico | D25: ='PANEL DE CONTROL DISTRITAL'!D24 -> Efectividad de entrega de CPV en MAC. | E25: ='PANEL DE CONTROL DISTRITAL'!E24 -> (Total de credenciales entregadas / Total de ciudadanas y ciudadanos que acuden al MAC a recoger su credencial) x 100 | F25: ='PANEL DE CONTROL DISTRITAL'!F24 -> Semanal (remesa) | G25: ='PANEL DE CONTROL DISTRITAL'!G24 -> 0.9 | H25: ='PANEL DE CONTROL DISTRITAL'!H24 -> Total de credenciales entregadas | I25: 0 | J25: 27 | K25: 527 | L25: 766 | M25: 805 | N25: 693 | O25: 781 | P25: 799 | Q25: 808 | R25: 778 | S25: 829 | T25: 777 | U25: 769 | V25: =IFERROR(SUM(I25:U25)/SUM(I26:U26),0) -> 0.99988038
H26: ='PANEL DE CONTROL DISTRITAL'!H25 -> Total de ciudadanos que acuden a MAC a recoger su credencial | I26: 0 | J26: 27 | K26: 527 | L26: 766 | M26: 806 | N26: 693 | O26: 781 | P26: 799 | Q26: 808 | R26: 778 | S26: 829 | T26: 777 | U26: 769
B27: *Registre el valor nominal solicitado en la celda, el resultado proporcional esta automatizado.
B34: CUADRO DE OBSERVACIONES
B35: Descripción | H35: No conformidad

Sheet 090251
A1: ='PANEL DE CONTROL DISTRITAL'!A1:Q1 -> INSTITUTO NACIONAL ELECTORAL SISTEMA DE GESTIÓN DE LA CALIDAD CIUDAD DE MÉXICO
D2: Distrito | E2: 2 | F2: Módulo | H2: 90251
A4: TABLERO DE CONTROL DE PROCESOS SUSTANTIVOS DEL SISTEMA DE GESTIÓN DE LA CALIDAD
A6: ='PANEL DE CONTROL DISTRITAL'!A6 -> Número | B6: ='PANEL DE CONTROL DISTRITAL'!B6 -> PROCESOS SUSTANTIVOS E INDICADORES | I6: SEMANA OPERATIVA | V6: % AVANCE REGISTRADO
B7: ='PANEL DE CONTROL DISTRITAL'!B7 -> DESCRIPCIÓN | E7: ='PANEL DE CONTROL DISTRITAL'!E7 -> MEDICIÓN | I7: CAMPAÑA ANUAL PERMANENTE 2024
B9: ='PANEL DE CONTROL DISTRITAL'!B8 -> Proceso | C9: ='PANEL DE CONTROL DISTRITAL'!C8 -> Dueño de Proceso | D9: ='PANEL DE CONTROL DISTRITAL'!D8 -> Indicador | E9: ='PANEL DE CONTROL DISTRITAL'!E8 -> Cálculo | F9: ='PANEL DE CONTROL DISTRITAL'!F8 -> Periodo | G9: ='PANEL DE CONTROL DISTRITAL'!G8 -> Estimado | H9: ='PANEL DE CONTROL DISTRITAL'!H8 -> Nominativo | I9: ='090151'!I9 -> 2024-28 | J9: ='090151'!J9 -> 2024-29 | K9: ='090151'!K9 -> 2024-30 | L9: ='090151'!L9 -> 2024-31 | M9: ='090151'!M9 -> 2024-32 | N9: ='090151'!N9 -> 2024-33 | O9: ='090151'!O9 -> 2024-34 | P9: ='090151'!P9 -> 2024-35 | ... U9: ='090151'!U9 -> 2024-40
A10: ='PANEL DE CONTROL DISTRITAL'!A9 -> 1 | B10: ='PANEL DE CONTROL DISTRITAL'!B9 -> Entrevista | C10: ='PANEL DE CONTROL DISTRITAL'!C9 -> Auxiliar de Atención Ciudadana | D10: ='PANEL DE CONTROL DISTRITAL'!D9 -> Fichas requisitadas correctamente. | E10: ='PANEL DE CONTROL DISTRITAL'!E9 -> (Fichas requisitadas correctamente / Fichas revisadas en la muestra del 10%) x 100 | F10: ='PANEL DE CONTROL DISTRITAL'!F9 -> Semanal (remesa) | G10: ='PANEL DE CONTROL DISTRITAL'!G9 -> 0.9 | H10: ='PANEL DE CONTROL DISTRITAL'!H9 -> Fichas requistadas correctamente | I10: 30 | J10: 231 | K10: 196 | L10: 200 | M10: 208 | N10: 201 | O10: 205 | P10: 208 | Q10: 201 | R10: 208 | S10: 197 | T10: 200 | U10: 188 | V10: =IFERROR(SUM(I10:U10)/SUM(I11:U11),0) -> 0.97901821
H11: ='PANEL DE CONTROL DISTRITAL'!H10 -> Fichas revisadas en la Muestra del 10% | I11: 30 | J11: 240 | K11: 215 | L11: 200 | M11: 210 | N11: 205 | O11: 207 | P11: 209 | Q11: 208 | R11: 210 | S11: 200 | T11: 202 | U11: 190
A13: ='PANEL DE CONTROL DISTRITAL'!A12 -> 2 | B13: ='PANEL DE CONTROL DISTRITAL'!B12 -> Trámite | C13: ='PANEL DE CONTROL DISTRITAL'!C12 -> Operador de Equipo Tecnológico | D13: ='PANEL DE CONTROL DISTRITAL'!D12 -> Trámites exitosos. | E13: ='PANEL DE CONTROL DISTRITAL'!E12 -> (Número de trámites exitosos / Número de trámites aplicados) x 100 | F13: ='PANEL DE CONTROL DISTRITAL'!F12 -> Semanal (remesa) | G13: ='PANEL DE CONTROL DISTRITAL'!G12 -> 0.9 | H13: ='PANEL DE CONTROL DISTRITAL'!H12 -> Número de trámites exitosos | I13: 303 | J13: 2363 | K13: 2126 | L13: 1994 | M13: 2089 | N13: 2041 | O13: 2059 | P13: 2082 | Q13: 2069 | R13: 2083 | S13: 1980 | T13: 1999 | U13: 1882 | V13: =IFERROR(SUM(I13:U13)/SUM(I14:U14),0) -> 0.99531523
H14: ='PANEL DE CONTROL DISTRITAL'!H13 -> Número de trámites aplicados | I14: 303 | J14: 2373 | K14: 2133 | L14: 1999 | M14: 2101 | N14: 2053 | O14: 2065 | P14: 2085 | Q14: 2074 | R14: 2094 | S14: 1994 | T14: 2014 | U14: 1900
A16: ='PANEL DE CONTROL DISTRITAL'!A15 -> 3 | B16: ='PANEL DE CONTROL DISTRITAL'!B15 -> Transferencia de la Información. | C16: ='PANEL DE CONTROL DISTRITAL'!C15 -> Responsable de Módulo | D16: ='PANEL DE CONTROL DISTRITAL'!D15 -> Reenvíos exitosos. | E16: ='PANEL DE CONTROL DISTRITAL'!E15 -> (Ejecución de los scripts de reenvío de notificaciones / Solicitud de reenvíos de scripts requeridos) x100 | F16: ='PANEL DE CONTROL DISTRITAL'!F15 -> Semanal (remesa) | G16: ='PANEL DE CONTROL DISTRITAL'!G15 -> 1 | H16: ='PANEL DE CONTROL DISTRITAL'!H15 -> Ejecución de los scripts de reenvío de notificaciones | I16: 0 | J16: 0 | K16: 0 | L16: 0 | M16: 0 | N16: 0 | O16: 0 | P16: 0 | Q16: 0 | R16: 0 | S16: 0 | T16: 0 | U16: 0 | V16: =IFERROR(SUM(I16:U16)/SUM(I17:U17),1) -> 1
H17: ='PANEL DE CONTROL DISTRITAL'!H16 -> Solicitud de reevíos de scripts requeridos | I17: 0 | J17: 0 | K17: 0 | L17: 0 | M17: 0 | N17: 0 | O17: 0 | P17: 0 | Q17: 0 | R17: 0 | S17: 0 | T17: 0 | U17: 0
A19: ='PANEL DE CONTROL DISTRITAL'!A18 -> 4 | B19: ='PANEL DE CONTROL DISTRITAL'!B18 -> Conciliación de Credenciales para Votar. | C19: ='PANEL DE CONTROL DISTRITAL'!C18 -> Responsable de Módulo | D19: ='PANEL DE CONTROL DISTRITAL'!D18 -> Credenciales disponibles para entrega. | E19: ='PANEL DE CONTROL DISTRITAL'!E18 -> [(Credenciales recibidas - Credenciales inconsistentes) / Credenciales recibidas] x 100 | F19: ='PANEL DE CONTROL DISTRITAL'!F18 -> Semanal (remesa) | G19: ='PANEL DE CONTROL DISTRITAL'!G18 -> 0.9 | H19: ='PANEL DE CONTROL DISTRITAL'!H18 -> Credenciales Recibidas - Credenciales inconsistentes | I19: 300 | J19: 1330 | K19: 2190 | L19: 2044 | M19: 2033 | N19: 2066 | O19: 2067 | P19: 2088 | Q19: 1678 | R19: 2463 | S19: 1999 | T19: 2020 | U19: 1939 | V19: =IFERROR(SUM(I19:U19)/SUM(I20:U20),0) -> 1
H20: ='PANEL DE CONTROL DISTRITAL'!H19 -> Credenciales recibidas | I20: 300 | J20: 1330 | K20: 2190 | L20: 2044 | M20: 2033 | N20: 2066 | O20: 2067 | P20: 2088 | Q20: 1678 | R20: 2463 | S20: 1999 | T20: 2020 | U20: 1939
A22: ='PANEL DE CONTROL DISTRITAL'!A21 -> 5 | B22: ='PANEL DE CONTROL DISTRITAL'!B21 -> Conciliación de Credenciales para Votar. | C22: ='PANEL DE CONTROL DISTRITAL'!C21 -> Responsable de Módulo | D22: ='PANEL DE CONTROL DISTRITAL'!D21 -> Arqueo de credenciales. | E22: ='PANEL DE CONTROL DISTRITAL'!E21 -> (Credenciales disponibles (físicas) / Credenciales disponibles registradas en SIIRFE-MAC) x 100 | F22: ='PANEL DE CONTROL DISTRITAL'!F21 -> Semanal (remesa) | G22: ='PANEL DE CONTROL DISTRITAL'!G21 -> 1 | H22: ='PANEL DE CONTROL DISTRITAL'!H21 -> Credenciales disponibles (físicas) | I22: 1126 | J22: 2134 | K22: 3130 | L22: 3273 | M22: 3341 | N22: 3435 | O22: 3506 | P22: 3613 | Q22: 3287 | R22: 3671 | S22: 3647 | T22: 3533 | U22: 3516 | V22: =IFERROR(SUM(I22:U22)/SUM(I23:U23),0) -> 1
H23: ='PANEL DE CONTROL DISTRITAL'!H22 -> Credenciales disponibles registradas en SIIRFE | I23: 1126 | J23: 2134 | K23: 3130 | L23: 3273 | M23: 3341 | N23: 3435 | O23: 3506 | P23: 3613 | Q23: 3287 | R23: 3671 | S23: 3647 | T23: 3533 | U23: 3516
A25: ='PANEL DE CONTROL DISTRITAL'!A24 -> 6 | B25: ='PANEL DE CONTROL DISTRITAL'!B24 -> Entrega de la Credencial para Votar. | C25: ='PANEL DE CONTROL DISTRITAL'!C24 -> Operador de Equipo Tecnológico | D25: ='PANEL DE CONTROL DISTRITAL'!D24 -> Efectividad de entrega de CPV en MAC. | E25: ='PANEL DE CONTROL DISTRITAL'!E24 -> (Total de credenciales entregadas / Total de ciudadanas y ciudadanos que acuden al MAC a recoger su credencial) x 100 | F25: ='PANEL DE CONTROL DISTRITAL'!F24 -> Semanal (remesa) | G25: ='PANEL DE CONTROL DISTRITAL'!G24 -> 0.9 | H25: ='PANEL DE CONTROL DISTRITAL'!H24 -> Total de credenciales entregadas | I25: 7 | J25: 322 | K25: 1194 | L25: 1901 | M25: 1907 | N25: 1969 | O25: 1996 | P25: 1981 | Q25: 2004 | R25: 2051 | S25: 2023 | T25: 2134 | U25: 1956 | V25: =IFERROR(SUM(I25:U25)/SUM(I26:U26),0) -> 0.99795244
H26: ='PANEL DE CONTROL DISTRITAL'!H25 -> Total de ciudadanos que acuden a MAC a recoger su credencial | I26: 7 | J26: 325 | K26: 1196 | L26: 1906 | M26: 1913 | N26: 1975 | O26: 2000 | P26: 1988 | Q26: 2005 | R26: 2052 | S26: 2026 | T26: 2137 | U26: 1959
B27: *Registre el valor nominal solicitado en la celda, el resultado proporcional esta automatizado.
B34: CUADRO DE OBSERVACIONES
B35: Descripción | H35: No conformidad

Sheet 090351
A1: ='PANEL DE CONTROL DISTRITAL'!A1:Q1 -> INSTITUTO NACIONAL ELECTORAL SISTEMA DE GESTIÓN DE LA CALIDAD CIUDAD DE MÉXICO
D2: Distrito | E2: 3 | F2: Módulo | H2: 90351
A4: TABLERO DE CONTROL DE PROCESOS SUSTANTIVOS DEL SISTEMA DE GESTIÓN DE LA CALIDAD
A6: ='PANEL DE CONTROL DISTRITAL'!A6 -> Número | B6: ='PANEL DE CONTROL DISTRITAL'!B6 -> PROCESOS SUSTANTIVOS E INDICADORES | I6: SEMANA OPERATIVA | V6: % AVANCE REGISTRADO
B7: ='PANEL DE CONTROL DISTRITAL'!B7 -> DESCRIPCIÓN | E7: ='PANEL DE CONTROL DISTRITAL'!E7 -> MEDICIÓN | I7: CAMPAÑA ANUAL PERMANENTE 2024
B9: ='PANEL DE CONTROL DISTRITAL'!B8 -> Proceso | C9: ='PANEL DE CONTROL DISTRITAL'!C8 -> Dueño de Proceso | D9: ='PANEL DE CONTROL DISTRITAL'!D8 -> Indicador | E9: ='PANEL DE CONTROL DISTRITAL'!E8 -> Cálculo | F9: ='PANEL DE CONTROL DISTRITAL'!F8 -> Periodo | G9: ='PANEL DE CONTROL DISTRITAL'!G8 -> Estimado | H9: ='PANEL DE CONTROL DISTRITAL'!H8 -> Nominativo | I9: ='090151'!I9 -> 2024-28 | J9: ='090151'!J9 -> 2024-29 | K9: ='090151'!K9 -> 2024-30 | L9: ='090151'!L9 -> 2024-31 | M9: ='090151'!M9 -> 2024-32 | N9: ='090151'!N9 -> 2024-33 | O9: ='090151'!O9 -> 2024-34 | P9: ='090151'!P9 -> 2024-35 | ... U9: ='090151'!U9 -> 2024-40
A10: ='PANEL DE CONTROL DISTRITAL'!A9 -> 1 | B10: ='PANEL DE CONTROL DISTRITAL'!B9 -> Entrevista | C10: ='PANEL DE CONTROL DISTRITAL'!C9 -> Auxiliar de Atención Ciudadana | D10: ='PANEL DE CONTROL DISTRITAL'!D9 -> Fichas requisitadas correctamente. | E10: ='PANEL DE CONTROL DISTRITAL'!E9 -> (Fichas requisitadas correctamente / Fichas revisadas en la muestra del 10%) x 100 | F10: ='PANEL DE CONTROL DISTRITAL'!F9 -> Semanal (remesa) | G10: ='PANEL DE CONTROL DISTRITAL'!G9 -> 0.9 | H10: ='PANEL DE CONTROL DISTRITAL'!H9 -> Fichas requistadas correctamente | I10: 60 | J10: 132 | K10: 128 | L10: 125 | M10: 127 | N10: 123 | O10: 125 | P10: 129 | Q10: 121 | R10: 125 | S10: 129 | T10: 128 | U10: 123 | V10: =IFERROR(SUM(I10:U10)/SUM(I11:U11),0) -> 1
H11: ='PANEL DE CONTROL DISTRITAL'!H10 -> Fichas revisadas en la Muestra del 10% | I11: 60 | J11: 132 | K11: 128 | L11: 125 | M11: 127 | N11: 123 | O11: 125 | P11: 129 | Q11: 121 | R11: 125 | S11: 129 | T11: 128 | U11: 123
A13: ='PANEL DE CONTROL DISTRITAL'!A12 -> 2 | B13: ='PANEL DE CONTROL DISTRITAL'!B12 -> Trámite | C13: ='PANEL DE CONTROL DISTRITAL'!C12 -> Operador de Equipo Tecnológico | D13: ='PANEL DE CONTROL DISTRITAL'!D12 -> Trámites exitosos. | E13: ='PANEL DE CONTROL DISTRITAL'!E12 -> (Número de trámites exitosos / Número de trámites aplicados) x 100 | F13: ='PANEL DE CONTROL DISTRITAL'!F12 -> Semanal (remesa) | G13: ='PANEL DE CONTROL DISTRITAL'!G12 -> 0.9 | H13: ='PANEL DE CONTROL DISTRITAL'!H12 -> Número de trámites exitosos | I13: 575 | J13: 1260 | K13: 1236 | L13: 1214 | M13: 1212 | N13: 1181 | O13: 1210 | P13: 1240 | Q13: 1169 | R13: 1210 | S13: 1261 | T13: 1247 | U13: 1185 | V13: =IFERROR(SUM(I13:U13)/SUM(I14:U14),0) -> 0.99613343
H14: ='PANEL DE CONTROL DISTRITAL'!H13 -> Número de trámites aplicados | I14: 578 | J14: 1262 | K14: 1241 | L14: 1218 | M14: 1219 | N14: 1186 | O14: 1215 | P14: 1243 | Q14: 1174 | R14: 1214 | S14: 1268 | T14: 1251 | U14: 1190
A16: ='PANEL DE CONTROL DISTRITAL'!A15 -> 3 | B16: ='PANEL DE CONTROL DISTRITAL'!B15 -> Transferencia de la Información. | C16: ='PANEL DE CONTROL DISTRITAL'!C15 -> Responsable de Módulo | D16: ='PANEL DE CONTROL DISTRITAL'!D15 -> Reenvíos exitosos. | E16: ='PANEL DE CONTROL DISTRITAL'!E15 -> (Ejecución de los scripts de reenvío de notificaciones / Solicitud de reenvíos de scripts requeridos) x100 | F16: ='PANEL DE CONTROL DISTRITAL'!F15 -> Semanal (remesa) | G16: ='PANEL DE CONTROL DISTRITAL'!G15 -> 1 | H16: ='PANEL DE CONTROL DISTRITAL'!H15 -> Ejecución de los scripts de reenvío de notificaciones | I16: 0 | J16: 1 | K16: 0 | L16: 0 | M16: 0 | N16: 0 | O16: 0 | P16: 0 | Q16: 0 | R16: 0 | S16: 0 | T16: 1 | U16: 0 | V16: =IFERROR(SUM(I16:U16)/SUM(I17:U17),1) -> 1
H17: ='PANEL DE CONTROL DISTRITAL'!H16 -> Solicitud de reevíos de scripts requeridos | I17: 0 | J17: 1 | K17: 0 | L17: 0 | M17: 0 | N17: 0 | O17: 0 | P17: 0 | Q17: 0 | R17: 0 | S17: 0 | T17: 1 | U17: 0
A19: ='PANEL DE CONTROL DISTRITAL'!A18 -> 4 | B19: ='PANEL DE CONTROL DISTRITAL'!B18 -> Conciliación de Credenciales para Votar. | C19: ='PANEL DE CONTROL DISTRITAL'!C18 -> Responsable de Módulo | D19: ='PANEL DE CONTROL DISTRITAL'!D18 -> Credenciales disponibles para entrega. | E19: ='PANEL DE CONTROL DISTRITAL'!E18 -> [(Credenciales recibidas - Credenciales inconsistentes) / Credenciales recibidas] x 100 | F19: ='PANEL DE CONTROL DISTRITAL'!F18 -> Semanal (remesa) | G19: ='PANEL DE CONTROL DISTRITAL'!G18 -> 0.9 | H19: ='PANEL DE CONTROL DISTRITAL'!H18 -> Credenciales Recibidas - Credenciales inconsistentes | I19: 308 | J19: 973 | K19: 1210 | L19: 1228 | M19: 1195 | N19: 1236 | O19: 1187 | P19: 1216 | Q19: 996 | R19: 1380 | S19: 1280 | T19: 1213 | U19: 1240 | V19: =IFERROR(SUM(I19:U19)/SUM(I20:U20),0) -> 0.99986361
H20: ='PANEL DE CONTROL DISTRITAL'!H19 -> Credenciales recibidas | I20: 308 | J20: 973 | K20: 1210 | L20: 1228 | M20: 1195 | N20: 1236 | O20: 1187 | P20: 1216 | Q20: 996 | R20: 1381 | S20: 1280 | T20: 1213 | U20: 1241
A22: ='PANEL DE CONTROL DISTRITAL'!A21 -> 5 | B22: ='PANEL DE CONTROL DISTRITAL'!B21 -> Conciliación de Credenciales para Votar. | C22: ='PANEL DE CONTROL DISTRITAL'!C21 -> Responsable de Módulo | D22: ='PANEL DE CONTROL DISTRITAL'!D21 -> Arqueo de credenciales. | E22: ='PANEL DE CONTROL DISTRITAL'!E21 -> (Credenciales disponibles (físicas) / Credenciales disponibles registradas en SIIRFE-MAC) x 100 | F22: ='PANEL DE CONTROL DISTRITAL'!F21 -> Semanal (remesa) | G22: ='PANEL DE CONTROL DISTRITAL'!G21 -> 1 | H22: ='PANEL DE CONTROL DISTRITAL'!H21 -> Credenciales disponibles (físicas) | I22: 802 | J22: 1528 | K22: 1897 | L22: 1966 | M22: 1983 | N22: 2045 | O22: 2067 | P22: 2189 | Q22: 1989 | R22: 2152 | S22: 2232 | T22: 2228 | U22: 2297 | V22: =IFERROR(SUM(I22:U22)/SUM(I23:U23),0) -> 1
H23: ='PANEL DE CONTROL DISTRITAL'!H22 -> Credenciales disponibles registradas en SIIRFE | I23: 802 | J23: 1528 | K23: 1897 | L23: 1966 | M23: 1983 | N23: 2045 | O23: 2067 | P23: 2189 | Q23: 1989 | R23: 2152 | S23: 2232 | T23: 2228 | U23: 2297
A25: ='PANEL DE CONTROL DISTRITAL'!A24 -> 6 | B25: ='PANEL DE CONTROL DISTRITAL'!B24 -> Entrega de la Credencial para Votar. | C25: ='PANEL DE CONTROL DISTRITAL'!C24 -> Operador de Equipo Tecnológico | D25: ='PANEL DE CONTROL DISTRITAL'!D24 -> Efectividad de entrega de CPV en MAC. | E25: ='PANEL DE CONTROL DISTRITAL'!E24 -> (Total de credenciales entregadas / Total de ciudadanas y ciudadanos que acuden al MAC a recoger su credencial) x 100 | F25: ='PANEL DE CONTROL DISTRITAL'!F24 -> Semanal (remesa) | G25: ='PANEL DE CONTROL DISTRITAL'!G24 -> 0.9 | H25: ='PANEL DE CONTROL DISTRITAL'!H24 -> Total de credenciales entregadas | I25: 25 | J25: 247 | K25: 841 | L25: 1159 | M25: 1125 | N25: 1174 | O25: 1165 | P25: 1094 | Q25: 1196 | R25: 1201 | S25: 1200 | T25: 1217 | U25: 1171 | V25: =IFERROR(SUM(I25:U25)/SUM(I26:U26),0) -> 1
H26: ='PANEL DE CONTROL DISTRITAL'!H25 -> Total de ciudadanos que acuden a MAC a recoger su credencial | I26: 25 | J26: 247 | K26: 841 | L26: 1159 | M26: 1125 | N26: 1174 | O26: 1165 | P26: 1094 | Q26: 1196 | R26: 1201 | S26: 1200 | T26: 1217 | U26: 1171
B27: *Registre el valor nominal solicitado en la celda, el resultado proporcional esta automatizado.
B34: CUADRO DE OBSERVACIONES
B35: Descripción | H35: No conformidad

Sheet 090451
A1: ='PANEL DE CONTROL DISTRITAL'!A1:Q1 -> INSTITUTO NACIONAL ELECTORAL SISTEMA DE GESTIÓN DE LA CALIDAD CIUDAD DE MÉXICO
D2: Distrito | E2: 4 | F2: Módulo | H2: 90451
A4: TABLERO DE CONTROL DE PROCESOS SUSTANTIVOS DEL SISTEMA DE GESTIÓN DE LA CALIDAD
A6: ='PANEL DE CONTROL DISTRITAL'!A6 -> Número | B6: ='PANEL DE CONTROL DISTRITAL'!B6 -> PROCESOS SUSTANTIVOS E INDICADORES | I6: SEMANA OPERATIVA | V6: % AVANCE REGISTRADO
B7: ='PANEL DE CONTROL DISTRITAL'!B7 -> DESCRIPCIÓN | E7: ='PANEL DE CONTROL DISTRITAL'!E7 -> MEDICIÓN | I7: CAMPAÑA ANUAL PERMANENTE 2024
B9: ='PANEL DE CONTROL DISTRITAL'!B8 -> Proceso | C9: ='PANEL DE CONTROL DISTRITAL'!C8 -> Dueño de Proceso | D9: ='PANEL DE CONTROL DISTRITAL'!D8 -> Indicador | E9: ='PANEL DE CONTROL DISTRITAL'!E8 -> Cálculo | F9: ='PANEL DE CONTROL DISTRITAL'!F8 -> Periodo | G9: ='PANEL DE CONTROL DISTRITAL'!G8 -> Estimado | H9: ='PANEL DE CONTROL DISTRITAL'!H8 -> Nominativo | I9: ='090151'!I9 -> 2024-28 | J9: ='090151'!J9 -> 2024-29 | K9: ='090151'!K9 -> 2024-30 | L9: ='090151'!L9 -> 2024-31 | M9: ='090151'!M9 -> 2024-32 | N9: ='090151'!N9 -> 2024-33 | O9: ='090151'!O9 -> 2024-34 | P9: ='090151'!P9 -> 2024-35 | ... U9: ='090151'!U9 -> 2024-40
A10: ='PANEL DE CONTROL DISTRITAL'!A9 -> 1 | B10: ='PANEL DE CONTROL DISTRITAL'!B9 -> Entrevista | C10: ='PANEL DE CONTROL DISTRITAL'!C9 -> Auxiliar de Atención Ciudadana | D10: ='PANEL DE CONTROL DISTRITAL'!D9 -> Fichas requisitadas correctamente. | E10: ='PANEL DE CONTROL DISTRITAL'!E9 -> (Fichas requisitadas correctamente / Fichas revisadas en la muestra del 10%) x 100 | F10: ='PANEL DE CONTROL DISTRITAL'!F9 -> Semanal (remesa) | G10: ='PANEL DE CONTROL DISTRITAL'!G9 -> 0.9 | H10: ='PANEL DE CONTROL DISTRITAL'!H9 -> Fichas requistadas correctamente | I10: 81 | J10: 178 | K10: 181 | L10: 169 | M10: 163 | N10: 164 | O10: 136 | P10: 120 | Q10: 193 | R10: 173 | S10: 173 | T10: 173 | U10: 170 | V10: =IFERROR(SUM(I10:U10)/SUM(I11:U11),0) -> 1
H11: ='PANEL DE CONTROL DISTRITAL'!H10 -> Fichas revisadas en la Muestra del 10% | I11: 81 | J11: 178 | K11: 181 | L11: 169 | M11: 163 | N11: 164 | O11: 136 | P11: 120 | Q11: 193 | R11: 173 | S11: 173 | T11: 173 | U11: 170
A13: ='PANEL DE CONTROL DISTRITAL'!A12 -> 2 | B13: ='PANEL DE CONTROL DISTRITAL'!B12 -> Trámite | C13: ='PANEL DE CONTROL DISTRITAL'!C12 -> Operador de Equipo Tecnológico | D13: ='PANEL DE CONTROL DISTRITAL'!D12 -> Trámites exitosos. | E13: ='PANEL DE CONTROL DISTRITAL'!E12 -> (Número de trámites exitosos / Número de trámites aplicados) x 100 | F13: ='PANEL DE CONTROL DISTRITAL'!F12 -> Semanal (remesa) | G13: ='PANEL DE CONTROL DISTRITAL'!G12 -> 0.9 | H13: ='PANEL DE CONTROL DISTRITAL'!H12 -> Número de trámites exitosos | I13: 803 | J13: 1781 | K13: 1811 | L13: 1687 | M13: 1630 | N13: 1634 | O13: 1362 | P13: 1202 | Q13: 1929 | R13: 1723 | S13: 1719 | T13: 1739 | U13: 1701 | V13: =IFERROR(SUM(I13:U13)/SUM(I14:U14),0) -> 0.99634563
H14: ='PANEL DE CONTROL DISTRITAL'!H13 -> Número de trámites aplicados | I14: 805 | J14: 1785 | K14: 1815 | L14: 1697 | M14: 1637 | N14: 1642 | O14: 1368 | P14: 1209 | Q14: 1936 | R14: 1732 | S14: 1731 | T14: 1739 | U14: 1701
A16: ='PANEL DE CONTROL DISTRITAL'!A15 -> 3 | B16: ='PANEL DE CONTROL DISTRITAL'!B15 -> Transferencia de la Información. | C16: ='PANEL DE CONTROL DISTRITAL'!C15 -> Responsable de Módulo | D16: ='PANEL DE CONTROL DISTRITAL'!D15 -> Reenvíos exitosos. | E16: ='PANEL DE CONTROL DISTRITAL'!E15 -> (Ejecución de los scripts de reenvío de notificaciones / Solicitud de reenvíos de scripts requeridos) x100 | F16: ='PANEL DE CONTROL DISTRITAL'!F15 -> Semanal (remesa) | G16: ='PANEL DE CONTROL DISTRITAL'!G15 -> 1 | H16: ='PANEL DE CONTROL DISTRITAL'!H15 -> Ejecución de los scripts de reenvío de notificaciones | I16: 1 | J16: 0 | K16: 0 | L16: 0 | M16: 1 | N16: 1 | O16: 1 | P16: 1 | Q16: 1 | R16: 1 | S16: 1 | T16: 1 | U16: 0 | V16: =IFERROR(SUM(I16:U16)/SUM(I17:U17),1) -> 1
H17: ='PANEL DE CONTROL DISTRITAL'!H16 -> Solicitud de reevíos de scripts requeridos | I17: 1 | J17: 0 | K17: 0 | L17: 0 | M17: 1 | N17: 1 | O17: 1 | P17: 1 | Q17: 1 | R17: 1 | S17: 1 | T17: 1 | U17: 0
A19: ='PANEL DE CONTROL DISTRITAL'!A18 -> 4 | B19: ='PANEL DE CONTROL DISTRITAL'!B18 -> Conciliación de Credenciales para Votar. | C19: ='PANEL DE CONTROL DISTRITAL'!C18 -> Responsable de Módulo | D19: ='PANEL DE CONTROL DISTRITAL'!D18 -> Credenciales disponibles para entrega. | E19: ='PANEL DE CONTROL DISTRITAL'!E18 -> [(Credenciales recibidas - Credenciales inconsistentes) / Credenciales recibidas] x 100 | F19: ='PANEL DE CONTROL DISTRITAL'!F18 -> Semanal (remesa) | G19: ='PANEL DE CONTROL DISTRITAL'!G18 -> 0.9 | H19: ='PANEL DE CONTROL DISTRITAL'!H18 -> Credenciales Recibidas - Credenciales inconsistentes | I19: 492 | J19: 1227 | K19: 1856 | L19: 1714 | M19: 1639 | N19: 1694 | O19: 1389 | P19: 1299 | Q19: 1294 | R19: 2151 | S19: 1754 | T19: 1719 | U19: 1685 | V19: =IFERROR(SUM(I19:U19)/SUM(I20:U20),0) -> 1
H20: ='PANEL DE CONTROL DISTRITAL'!H19 -> Credenciales recibidas | I20: 492 | J20: 1227 | K20: 1856 | L20: 1714 | M20: 1639 | N20: 1694 | O20: 1389 | P20: 1299 | Q20: 1294 | R20: 2151 | S20: 1754 | T20: 1719 | U20: 1685
A22: ='PANEL DE CONTROL DISTRITAL'!A21 -> 5 | B22: ='PANEL DE CONTROL DISTRITAL'!B21 -> Conciliación de Credenciales para Votar. | C22: ='PANEL DE CONTROL DISTRITAL'!C21 -> Responsable de Módulo | D22: ='PANEL DE CONTROL DISTRITAL'!D21 -> Arqueo de credenciales. | E22: ='PANEL DE CONTROL DISTRITAL'!E21 -> (Credenciales disponibles (físicas) / Credenciales disponibles registradas en SIIRFE-MAC) x 100 | F22: ='PANEL DE CONTROL DISTRITAL'!F21 -> Semanal (remesa) | G22: ='PANEL DE CONTROL DISTRITAL'!G21 -> 1 | H22: ='PANEL DE CONTROL DISTRITAL'!H21 -> Credenciales disponibles (físicas) | I22: 1048 | J22: 1755 | K22: 2469 | L22: 2519 | M22: 2503 | N22: 2554 | O22: 2382 | P22: 2248 | Q22: 2207 | R22: 2778 | S22: 2815 | T22: 2750 | U22: 2789 | V22: =IFERROR(SUM(I22:U22)/SUM(I23:U23),0) -> 1
H23: ='PANEL DE CONTROL DISTRITAL'!H22 -> Credenciales disponibles registradas en SIIRFE | I23: 1048 | J23: 1755 | K23: 2469 | L23: 2519 | M23: 2503 | N23: 2554 | O23: 2382 | P23: 2248 | Q23: 2207 | R23: 2778 | S23: 2815 | T23: 2750 | U23: 2789
A25: ='PANEL DE CONTROL DISTRITAL'!A24 -> 6 | B25: ='PANEL DE CONTROL DISTRITAL'!B24 -> Entrega de la Credencial para Votar. | C25: ='PANEL DE CONTROL DISTRITAL'!C24 -> Operador de Equipo Tecnológico | D25: ='PANEL DE CONTROL DISTRITAL'!D24 -> Efectividad de entrega de CPV en MAC. | E25: ='PANEL DE CONTROL DISTRITAL'!E24 -> (Total de credenciales entregadas / Total de ciudadanas y ciudadanos que acuden al MAC a recoger su credencial) x 100 | F25: ='PANEL DE CONTROL DISTRITAL'!F24 -> Semanal (remesa) | G25: ='PANEL DE CONTROL DISTRITAL'!G24 -> 0.9 | H25: ='PANEL DE CONTROL DISTRITAL'!H24 -> Total de credenciales entregadas | I25: 38 | J25: 520 | K25: 1142 | L25: 1663 | M25: 1610 | N25: 1643 | O25: 1561 | P25: 1433 | Q25: 1335 | R25: 1563 | S25: 1717 | T25: 1784 | U25: 1645 | V25: =IFERROR(SUM(I25:U25)/SUM(I26:U26),0) -> 0.99118522
H26: ='PANEL DE CONTROL DISTRITAL'!H25 -> Total de ciudadanos que acuden a MAC a recoger su credencial | I26: 38 | J26: 530 | K26: 1150 | L26: 1668 | M26: 1635 | N26: 1645 | O26: 1578 | P26: 1456 | Q26: 1348 | R26: 1575 | S26: 1759 | T26: 1784 | U26: 1645
B27: *Registre el valor nominal solicitado en la celda, el resultado proporcional esta automatizado.
B34: CUADRO DE OBSERVACIONES
B35: Descripción | H35: No conformidad
B36: El Folio 2409045110040, No cuenta con proceso de digitalizacion No esta completo por lo que no se pudo enviar (Fecha de Ejecucion 10-04-2024) se levanto Caso CAU REQ000001568233.(10-04-2024).

Sheet 090551
A1: ='PANEL DE CONTROL DISTRITAL'!A1:Q1 -> INSTITUTO NACIONAL ELECTORAL SISTEMA DE GESTIÓN DE LA CALIDAD CIUDAD DE MÉXICO
D2: Distrito | E2: 5 | F2: Módulo | H2: 90551
A4: TABLERO DE CONTROL DE PROCESOS SUSTANTIVOS DEL SISTEMA DE GESTIÓN DE LA CALIDAD
A6: ='PANEL DE CONTROL DISTRITAL'!A6 -> Número | B6: ='PANEL DE CONTROL DISTRITAL'!B6 -> PROCESOS SUSTANTIVOS E INDICADORES | I6: SEMANA OPERATIVA | V6: % AVANCE REGISTRADO
B7: ='PANEL DE CONTROL DISTRITAL'!B7 -> DESCRIPCIÓN | E7: ='PANEL DE CONTROL DISTRITAL'!E7 -> MEDICIÓN | I7: CAMPAÑA ANUAL PERMANENTE 2024
B9: ='PANEL DE CONTROL DISTRITAL'!B8 -> Proceso | C9: ='PANEL DE CONTROL DISTRITAL'!C8 -> Dueño de Proceso | D9: ='PANEL DE CONTROL DISTRITAL'!D8 -> Indicador | E9: ='PANEL DE CONTROL DISTRITAL'!E8 -> Cálculo | F9: ='PANEL DE CONTROL DISTRITAL'!F8 -> Periodo | G9: ='PANEL DE CONTROL DISTRITAL'!G8 -> Estimado | H9: ='PANEL DE CONTROL DISTRITAL'!H8 -> Nominativo | I9: ='090151'!I9 -> 2024-28 | J9: ='090151'!J9 -> 2024-29 | K9: ='090151'!K9 -> 2024-30 | L9: ='090151'!L9 -> 2024-31 | M9: ='090151'!M9 -> 2024-32 | N9: ='090151'!N9 -> 2024-33 | O9: ='090151'!O9 -> 2024-34 | P9: ='090151'!P9 -> 2024-35 | ... U9: ='090151'!U9 -> 2024-40
A10: ='PANEL DE CONTROL DISTRITAL'!A9 -> 1 | B10: ='PANEL DE CONTROL DISTRITAL'!B9 -> Entrevista | C10: ='PANEL DE CONTROL DISTRITAL'!C9 -> Auxiliar de Atención Ciudadana | D10: ='PANEL DE CONTROL DISTRITAL'!D9 -> Fichas requisitadas correctamente. | E10: ='PANEL DE CONTROL DISTRITAL'!E9 -> (Fichas requisitadas correctamente / Fichas revisadas en la muestra del 10%) x 100 | F10: ='PANEL DE CONTROL DISTRITAL'!F9 -> Semanal (remesa) | G10: ='PANEL DE CONTROL DISTRITAL'!G9 -> 0.9 | H10: ='PANEL DE CONTROL DISTRITAL'!H9 -> Fichas requistadas correctamente | I10: 9 | J10: 97 | K10: 92 | L10: 86 | M10: 94 | N10: 98 | O10: 91 | P10: 90 | Q10: 100 | R10: 93 | S10: 97 | T10: 96 | U10: 91 | V10: =IFERROR(SUM(I10:U10)/SUM(I11:U11),0) -> 1
H11: ='PANEL DE CONTROL DISTRITAL'!H10 -> Fichas revisadas en la Muestra del 10% | I11: 9 | J11: 97 | K11: 92 | L11: 86 | M11: 94 | N11: 98 | O11: 91 | P11: 90 | Q11: 100 | R11: 93 | S11: 97 | T11: 96 | U11: 91
A13: ='PANEL DE CONTROL DISTRITAL'!A12 -> 2 | B13: ='PANEL DE CONTROL DISTRITAL'!B12 -> Trámite | C13: ='PANEL DE CONTROL DISTRITAL'!C12 -> Operador de Equipo Tecnológico | D13: ='PANEL DE CONTROL DISTRITAL'!D12 -> Trámites exitosos. | E13: ='PANEL DE CONTROL DISTRITAL'!E12 -> (Número de trámites exitosos / Número de trámites aplicados) x 100 | F13: ='PANEL DE CONTROL DISTRITAL'!F12 -> Semanal (remesa) | G13: ='PANEL DE CONTROL DISTRITAL'!G12 -> 0.9 | H13: ='PANEL DE CONTROL DISTRITAL'!H12 -> Número de trámites exitosos | I13: 89 | J13: 954 | K13: 909 | L13: 853 | M13: 924 | N13: 961 | O13: 907 | P13: 887 | Q13: 974 | R13: 909 | S13: 954 | T13: 939 | U13: 892 | V13: =IFERROR(SUM(I13:U13)/SUM(I14:U14),0) -> 0.99820981
H14: ='PANEL DE CONTROL DISTRITAL'!H13 -> Número de trámites aplicados | I14: 90 | J14: 954 | K14: 911 | L14: 854 | M14: 926 | N14: 962 | O14: 909 | P14: 889 | Q14: 975 | R14: 912 | S14: 954 | T14: 941 | U14: 895
A16: ='PANEL DE CONTROL DISTRITAL'!A15 -> 3 | B16: ='PANEL DE CONTROL DISTRITAL'!B15 -> Transferencia de la Información. | C16: ='PANEL DE CONTROL DISTRITAL'!C15 -> Responsable de Módulo | D16: ='PANEL DE CONTROL DISTRITAL'!D15 -> Reenvíos exitosos. | E16: ='PANEL DE CONTROL DISTRITAL'!E15 -> (Ejecución de los scripts de reenvío de notificaciones / Solicitud de reenvíos de scripts requeridos) x100 | F16: ='PANEL DE CONTROL DISTRITAL'!F15 -> Semanal (remesa) | G16: ='PANEL DE CONTROL DISTRITAL'!G15 -> 1 | H16: ='PANEL DE CONTROL DISTRITAL'!H15 -> Ejecución de los scripts de reenvío de notificaciones | I16: 0 | J16: 0 | K16: 0 | L16: 0 | M16: 0 | N16: 0 | O16: 0 | P16: 0 | Q16: 0 | R16: 0 | S16: 1 | T16: 0 | U16: 0 | V16: =IFERROR(SUM(I16:U16)/SUM(I17:U17),1) -> 1
H17: ='PANEL DE CONTROL DISTRITAL'!H16 -> Solicitud de reevíos de scripts requeridos | I17: 0 | J17: 0 | K17: 0 | L17: 0 | M17: 0 | N17: 0 | O17: 0 | P17: 0 | Q17: 0 | R17: 0 | S17: 1 | T17: 0 | U17: 0
A19: ='PANEL DE CONTROL DISTRITAL'!A18 -> 4 | B19: ='PANEL DE CONTROL DISTRITAL'!B18 -> Conciliación de Credenciales para Votar. | C19: ='PANEL DE CONTROL DISTRITAL'!C18 -> Responsable de Módulo | D19: ='PANEL DE CONTROL DISTRITAL'!D18 -> Credenciales disponibles para entrega. | E19: ='PANEL DE CONTROL DISTRITAL'!E18 -> [(Credenciales recibidas - Credenciales inconsistentes) / Credenciales recibidas] x 100 | F19: ='PANEL DE CONTROL DISTRITAL'!F18 -> Semanal (remesa) | G19: ='PANEL DE CONTROL DISTRITAL'!G18 -> 0.9 | H19: ='PANEL DE CONTROL DISTRITAL'!H18 -> Credenciales Recibidas - Credenciales inconsistentes | I19: 57 | J19: 564 | K19: 906 | L19: 879 | M19: 843 | N19: 986 | O19: 909 | P19: 900 | Q19: 794 | R19: 1090 | S19: 919 | T19: 997 | U19: 896 | V19: =IFERROR(SUM(I19:U19)/SUM(I20:U20),0) -> 0.9999069
H20: ='PANEL DE CONTROL DISTRITAL'!H19 -> Credenciales recibidas | I20: 57 | J20: 564 | K20: 906 | L20: 879 | M20: 843 | N20: 986 | O20: 909 | P20: 900 | Q20: 794 | R20: 1090 | S20: 919 | T20: 998 | U20: 896
A22: ='PANEL DE CONTROL DISTRITAL'!A21 -> 5 | B22: ='PANEL DE CONTROL DISTRITAL'!B21 -> Conciliación de Credenciales para Votar. | C22: ='PANEL DE CONTROL DISTRITAL'!C21 -> Responsable de Módulo | D22: ='PANEL DE CONTROL DISTRITAL'!D21 -> Arqueo de credenciales. | E22: ='PANEL DE CONTROL DISTRITAL'!E21 -> (Credenciales disponibles (físicas) / Credenciales disponibles registradas en SIIRFE-MAC) x 100 | F22: ='PANEL DE CONTROL DISTRITAL'!F21 -> Semanal (remesa) | G22: ='PANEL DE CONTROL DISTRITAL'!G21 -> 1 | H22: ='PANEL DE CONTROL DISTRITAL'!H21 -> Credenciales disponibles (físicas) | I22: 443 | J22: 936 | K22: 1273 | L22: 1318 | M22: 1256 | N22: 1220 | O22: 1207 | P22: 1272 | Q22: 1213 | R22: 1301 | S22: 1412 | T22: 1457 | U22: 1342 | V22: =IFERROR(SUM(I22:U22)/SUM(I23:U23),0) -> 1
H23: ='PANEL DE CONTROL DISTRITAL'!H22 -> Credenciales disponibles registradas en SIIRFE | I23: 443 | J23: 936 | K23: 1273 | L23: 1318 | M23: 1256 | N23: 1220 | O23: 1207 | P23: 1272 | Q23: 1213 | R23: 1301 | S23: 1412 | T23: 1457 | U23: 1342
A25: ='PANEL DE CONTROL DISTRITAL'!A24 -> 6 | B25: ='PANEL DE CONTROL DISTRITAL'!B24 -> Entrega de la Credencial para Votar. | C25: ='PANEL DE CONTROL DISTRITAL'!C24 -> Operador de Equipo Tecnológico | D25: ='PANEL DE CONTROL DISTRITAL'!D24 -> Efectividad de entrega de CPV en MAC. | E25: ='PANEL DE CONTROL DISTRITAL'!E24 -> (Total de credenciales entregadas / Total de ciudadanas y ciudadanos que acuden al MAC a recoger su credencial) x 100 | F25: ='PANEL DE CONTROL DISTRITAL'!F24 -> Semanal (remesa) | G25: ='PANEL DE CONTROL DISTRITAL'!G24 -> 0.9 | H25: ='PANEL DE CONTROL DISTRITAL'!H24 -> Total de credenciales entregadas | I25: 12 | J25: 71 | K25: 569 | L25: 834 | M25: 876 | N25: 1022 | O25: 922 | P25: 835 | Q25: 853 | R25: 988 | S25: 808 | T25: 952 | U25: 1011 | V25: =IFERROR(SUM(I25:U25)/SUM(I26:U26),0) -> 0.99959004
H26: ='PANEL DE CONTROL DISTRITAL'!H25 -> Total de ciudadanos que acuden a MAC a recoger su credencial | I26: 12 | J26: 71 | K26: 569 | L26: 834 | M26: 876 | N26: 1023 | O26: 922 | P26: 835 | Q26: 855 | R26: 989 | S26: 808 | T26: 952 | U26: 1011
B27: *Registre el valor nominal solicitado en la celda, el resultado proporcional esta automatizado.
B34: CUADRO DE OBSERVACIONES
B35: Descripción | H35: No conformidad

Sheet 090651
A1: ='PANEL DE CONTROL DISTRITAL'!A1:Q1 -> INSTITUTO NACIONAL ELECTORAL SISTEMA DE GESTIÓN DE LA CALIDAD CIUDAD DE MÉXICO
D2: Distrito | E2: 6 | F2: Módulo | H2: 90651
A4: TABLERO DE CONTROL DE PROCESOS SUSTANTIVOS DEL SISTEMA DE GESTIÓN DE LA CALIDAD
A6: ='PANEL DE CONTROL DISTRITAL'!A6 -> Número | B6: ='PANEL DE CONTROL DISTRITAL'!B6 -> PROCESOS SUSTANTIVOS E INDICADORES | I6: SEMANA OPERATIVA | V6: % AVANCE REGISTRADO
B7: ='PANEL DE CONTROL DISTRITAL'!B7 -> DESCRIPCIÓN | E7: ='PANEL DE CONTROL DISTRITAL'!E7 -> MEDICIÓN | I7: CAMPAÑA ANUAL PERMANENTE 2024
B9: ='PANEL DE CONTROL DISTRITAL'!B8 -> Proceso | C9: ='PANEL DE CONTROL DISTRITAL'!C8 -> Dueño de Proceso | D9: ='PANEL DE CONTROL DISTRITAL'!D8 -> Indicador | E9: ='PANEL DE CONTROL DISTRITAL'!E8 -> Cálculo | F9: ='PANEL DE CONTROL DISTRITAL'!F8 -> Periodo | G9: ='PANEL DE CONTROL DISTRITAL'!G8 -> Estimado | H9: ='PANEL DE CONTROL DISTRITAL'!H8 -> Nominativo | I9: ='090151'!I9 -> 2024-28 | J9: ='090151'!J9 -> 2024-29 | K9: ='090151'!K9 -> 2024-30 | L9: ='090151'!L9 -> 2024-31 | M9: ='090151'!M9 -> 2024-32 | N9: ='090151'!N9 -> 2024-33 | O9: ='090151'!O9 -> 2024-34 | P9: ='090151'!P9 -> 2024-35 | ... U9: ='090151'!U9 -> 2024-40
A10: ='PANEL DE CONTROL DISTRITAL'!A9 -> 1 | B10: ='PANEL DE CONTROL DISTRITAL'!B9 -> Entrevista | C10: ='PANEL DE CONTROL DISTRITAL'!C9 -> Auxiliar de Atención Ciudadana | D10: ='PANEL DE CONTROL DISTRITAL'!D9 -> Fichas requisitadas correctamente. | E10: ='PANEL DE CONTROL DISTRITAL'!E9 -> (Fichas requisitadas correctamente / Fichas revisadas en la muestra del 10%) x 100 | F10: ='PANEL DE CONTROL DISTRITAL'!F9 -> Semanal (remesa) | G10: ='PANEL DE CONTROL DISTRITAL'!G9 -> 0.9 | H10: ='PANEL DE CONTROL DISTRITAL'!H9 -> Fichas requistadas correctamente | I10: 47 | J10: 94 | K10: 80 | L10: 71 | M10: 91 | N10: 79 | O10: 89 | P10: 88 | Q10: 95 | R10: 81 | S10: 79 | T10: 83 | U10: 82 | V10: =IFERROR(SUM(I10:U10)/SUM(I11:U11),0) -> 0.88693467
H11: ='PANEL DE CONTROL DISTRITAL'!H10 -> Fichas revisadas en la Muestra del 10% | I11: 47 | J11: 94 | K11: 96 | L11: 99 | M11: 97 | N11: 92 | O11: 98 | P11: 93 | Q11: 102 | R11: 99 | S11: 91 | T11: 95 | U11: 91
A13: ='PANEL DE CONTROL DISTRITAL'!A12 -> 2 | B13: ='PANEL DE CONTROL DISTRITAL'!B12 -> Trámite | C13: ='PANEL DE CONTROL DISTRITAL'!C12 -> Operador de Equipo Tecnológico | D13: ='PANEL DE CONTROL DISTRITAL'!D12 -> Trámites exitosos. | E13: ='PANEL DE CONTROL DISTRITAL'!E12 -> (Número de trámites exitosos / Número de trámites aplicados) x 100 | F13: ='PANEL DE CONTROL DISTRITAL'!F12 -> Semanal (remesa) | G13: ='PANEL DE CONTROL DISTRITAL'!G12 -> 0.9 | H13: ='PANEL DE CONTROL DISTRITAL'!H12 -> Número de trámites exitosos | I13: 445 | J13: 896 | K13: 921 | L13: 866 | M13: 934 | N13: 880 | O13: 939 | P13: 894 | Q13: 972 | R13: 941 | S13: 872 | T13: 917 | U13: 610 | V13: =IFERROR(SUM(I13:U13)/SUM(I14:U14),0) -> 0.97356867
H14: ='PANEL DE CONTROL DISTRITAL'!H13 -> Número de trámites aplicados | I14: 445 | J14: 898 | K14: 925 | L14: 867 | M14: 937 | N14: 882 | O14: 942 | P14: 895 | Q14: 974 | R14: 947 | S14: 879 | T14: 920 | U14: 877
A16: ='PANEL DE CONTROL DISTRITAL'!A15 -> 3 | B16: ='PANEL DE CONTROL DISTRITAL'!B15 -> Transferencia de la Información. | C16: ='PANEL DE CONTROL DISTRITAL'!C15 -> Responsable de Módulo | D16: ='PANEL DE CONTROL DISTRITAL'!D15 -> Reenvíos exitosos. | E16: ='PANEL DE CONTROL DISTRITAL'!E15 -> (Ejecución de los scripts de reenvío de notificaciones / Solicitud de reenvíos de scripts requeridos) x100 | F16: ='PANEL DE CONTROL DISTRITAL'!F15 -> Semanal (remesa) | G16: ='PANEL DE CONTROL DISTRITAL'!G15 -> 1 | H16: ='PANEL DE CONTROL DISTRITAL'!H15 -> Ejecución de los scripts de reenvío de notificaciones | I16: 0 | J16: 0 | K16: 0 | L16: 0 | M16: 0 | N16: 0 | O16: 0 | P16: 0 | Q16: 0 | R16: 0 | S16: 0 | T16: 0 | U16: 0 | V16: =IFERROR(SUM(I16:U16)/SUM(I17:U17),1) -> 1
H17: ='PANEL DE CONTROL DISTRITAL'!H16 -> Solicitud de reevíos de scripts requeridos | I17: 0 | J17: 0 | K17: 0 | L17: 0 | M17: 0 | N17: 0 | O17: 0 | P17: 0 | Q17: 0 | R17: 0 | S17: 0 | T17: 0 | U17: 0
A19: ='PANEL DE CONTROL DISTRITAL'!A18 -> 4 | B19: ='PANEL DE CONTROL DISTRITAL'!B18 -> Conciliación de Credenciales para Votar. | C19: ='PANEL DE CONTROL DISTRITAL'!C18 -> Responsable de Módulo | D19: ='PANEL DE CONTROL DISTRITAL'!D18 -> Credenciales disponibles para entrega. | E19: ='PANEL DE CONTROL DISTRITAL'!E18 -> [(Credenciales recibidas - Credenciales inconsistentes) / Credenciales recibidas] x 100 | F19: ='PANEL DE CONTROL DISTRITAL'!F18 -> Semanal (remesa) | G19: ='PANEL DE CONTROL DISTRITAL'!G18 -> 0.9 | H19: ='PANEL DE CONTROL DISTRITAL'!H18 -> Credenciales Recibidas - Credenciales inconsistentes | I19: 259 | J19: 651 | K19: 936 | L19: 871 | M19: 863 | N19: 965 | O19: 886 | P19: 920 | Q19: 763 | R19: 1113 | S19: 917 | T19: 890 | U19: 908 | V19: =IFERROR(SUM(I19:U19)/SUM(I20:U20),0) -> 1
H20: ='PANEL DE CONTROL DISTRITAL'!H19 -> Credenciales recibidas | I20: 259 | J20: 651 | K20: 936 | L20: 871 | M20: 863 | N20: 965 | O20: 886 | P20: 920 | Q20: 763 | R20: 1113 | S20: 917 | T20: 890 | U20: 908
A22: ='PANEL DE CONTROL DISTRITAL'!A21 -> 5 | B22: ='PANEL DE CONTROL DISTRITAL'!B21 -> Conciliación de Credenciales para Votar. | C22: ='PANEL DE CONTROL DISTRITAL'!C21 -> Responsable de Módulo | D22: ='PANEL DE CONTROL DISTRITAL'!D21 -> Arqueo de credenciales. | E22: ='PANEL DE CONTROL DISTRITAL'!E21 -> (Credenciales disponibles (físicas) / Credenciales disponibles registradas en SIIRFE-MAC) x 100 | F22: ='PANEL DE CONTROL DISTRITAL'!F21 -> Semanal (remesa) | G22: ='PANEL DE CONTROL DISTRITAL'!G21 -> 1 | H22: ='PANEL DE CONTROL DISTRITAL'!H21 -> Credenciales disponibles (físicas) | I22: 587 | J22: 970 | K22: 1321 | L22: 1325 | M22: 1376 | N22: 1529 | O22: 1521 | P22: 1611 | Q22: 1471 | R22: 1657 | S22: 1635 | T22: 1572 | U22: 1606 | V22: =IFERROR(SUM(I22:U22)/SUM(I23:U23),0) -> 1
H23: ='PANEL DE CONTROL DISTRITAL'!H22 -> Credenciales disponibles registradas en SIIRFE | I23: 587 | J23: 970 | K23: 1321 | L23: 1325 | M23: 1376 | N23: 1529 | O23: 1521 | P23: 1611 | Q23: 1471 | R23: 1657 | S23: 1635 | T23: 1572 | U23: 1606
A25: ='PANEL DE CONTROL DISTRITAL'!A24 -> 6 | B25: ='PANEL DE CONTROL DISTRITAL'!B24 -> Entrega de la Credencial para Votar. | C25: ='PANEL DE CONTROL DISTRITAL'!C24 -> Operador de Equipo Tecnológico | D25: ='PANEL DE CONTROL DISTRITAL'!D24 -> Efectividad de entrega de CPV en MAC. | E25: ='PANEL DE CONTROL DISTRITAL'!E24 -> (Total de credenciales entregadas / Total de ciudadanas y ciudadanos que acuden al MAC a recoger su credencial) x 100 | F25: ='PANEL DE CONTROL DISTRITAL'!F24 -> Semanal (remesa) | G25: ='PANEL DE CONTROL DISTRITAL'!G24 -> 0.9 | H25: ='PANEL DE CONTROL DISTRITAL'!H24 -> Total de credenciales entregadas | I25: 16 | J25: 268 | K25: 585 | L25: 867 | M25: 783 | N25: 812 | O25: 894 | P25: 830 | Q25: 903 | R25: 921 | S25: 939 | T25: 953 | U25: 874 | V25: =IFERROR(SUM(I25:U25)/SUM(I26:U26),0) -> 1
H26: ='PANEL DE CONTROL DISTRITAL'!H25 -> Total de ciudadanos que acuden a MAC a recoger su credencial | I26: 16 | J26: 268 | K26: 585 | L26: 867 | M26: 783 | N26: 812 | O26: 894 | P26: 830 | Q26: 903 | R26: 921 | S26: 939 | T26: 953 | U26: 874
B27: *Registre el valor nominal solicitado en la celda, el resultado proporcional esta automatizado.
B34: CUADRO DE OBSERVACIONES
B35: Descripción | H35: No conformidad
B36: Con fechas 30 de julio y 01 de agosto de 2024, se llevó a cabo el "Curso de reforzamiento sobre el Mantenimiento del Sistema de Gestión de Calidad", en el cual se analizó entre otros temas la integración de los tableros de procesos sustantivos, incluyendo el proceso sustantivo de entrevista, asi como la integración de la ficha de atención ciudadana.

Sheet 090751
A1: ='PANEL DE CONTROL DISTRITAL'!A1:Q1 -> INSTITUTO NACIONAL ELECTORAL SISTEMA DE GESTIÓN DE LA CALIDAD CIUDAD DE MÉXICO
D2: Distrito | E2: 7 | F2: Módulo | H2: 90751
A4: TABLERO DE CONTROL DE PROCESOS SUSTANTIVOS DEL SISTEMA DE GESTIÓN DE LA CALIDAD
A6: ='PANEL DE CONTROL DISTRITAL'!A6 -> Número | B6: ='PANEL DE CONTROL DISTRITAL'!B6 -> PROCESOS SUSTANTIVOS E INDICADORES | I6: SEMANA OPERATIVA | V6: % AVANCE REGISTRADO
B7: ='PANEL DE CONTROL DISTRITAL'!B7 -> DESCRIPCIÓN | E7: ='PANEL DE CONTROL DISTRITAL'!E7 -> MEDICIÓN | I7: CAMPAÑA ANUAL PERMANENTE 2024
B9: ='PANEL DE CONTROL DISTRITAL'!B8 -> Proceso | C9: ='PANEL DE CONTROL DISTRITAL'!C8 -> Dueño de Proceso | D9: ='PANEL DE CONTROL DISTRITAL'!D8 -> Indicador | E9: ='PANEL DE CONTROL DISTRITAL'!E8 -> Cálculo | F9: ='PANEL DE CONTROL DISTRITAL'!F8 -> Periodo | G9: ='PANEL DE CONTROL DISTRITAL'!G8 -> Estimado | H9: ='PANEL DE CONTROL DISTRITAL'!H8 -> Nominativo | I9: ='090151'!I9 -> 2024-28 | J9: ='090151'!J9 -> 2024-29 | K9: ='090151'!K9 -> 2024-30 | L9: ='090151'!L9 -> 2024-31 | M9: ='090151'!M9 -> 2024-32 | N9: ='090151'!N9 -> 2024-33 | O9: ='090151'!O9 -> 2024-34 | P9: ='090151'!P9 -> 2024-35 | ... U9: ='090151'!U9 -> 2024-40
A10: ='PANEL DE CONTROL DISTRITAL'!A9 -> 1 | B10: ='PANEL DE CONTROL DISTRITAL'!B9 -> Entrevista | C10: ='PANEL DE CONTROL DISTRITAL'!C9 -> Auxiliar de Atención Ciudadana | D10: ='PANEL DE CONTROL DISTRITAL'!D9 -> Fichas requisitadas correctamente. | E10: ='PANEL DE CONTROL DISTRITAL'!E9 -> (Fichas requisitadas correctamente / Fichas revisadas en la muestra del 10%) x 100 | F10: ='PANEL DE CONTROL DISTRITAL'!F9 -> Semanal (remesa) | G10: ='PANEL DE CONTROL DISTRITAL'!G9 -> 0.9 | H10: ='PANEL DE CONTROL DISTRITAL'!H9 -> Fichas requistadas correctamente | I10: 61 | J10: 87 | K10: 90 | L10: 88 | M10: 90 | N10: 87 | O10: 81 | P10: 119 | Q10: 115 | R10: 116 | S10: 115 | T10: 110 | U10: 115 | V10: =IFERROR(SUM(I10:U10)/SUM(I11:U11),0) -> 1
H11: ='PANEL DE CONTROL DISTRITAL'!H10 -> Fichas revisadas en la Muestra del 10% | I11: 61 | J11: 87 | K11: 90 | L11: 88 | M11: 90 | N11: 87 | O11: 81 | P11: 119 | Q11: 115 | R11: 116 | S11: 115 | T11: 110 | U11: 115
A13: ='PANEL DE CONTROL DISTRITAL'!A12 -> 2 | B13: ='PANEL DE CONTROL DISTRITAL'!B12 -> Trámite | C13: ='PANEL DE CONTROL DISTRITAL'!C12 -> Operador de Equipo Tecnológico | D13: ='PANEL DE CONTROL DISTRITAL'!D12 -> Trámites exitosos. | E13: ='PANEL DE CONTROL DISTRITAL'!E12 -> (Número de trámites exitosos / Número de trámites aplicados) x 100 | F13: ='PANEL DE CONTROL DISTRITAL'!F12 -> Semanal (remesa) | G13: ='PANEL DE CONTROL DISTRITAL'!G12 -> 0.9 | H13: ='PANEL DE CONTROL DISTRITAL'!H12 -> Número de trámites exitosos | I13: 586 | J13: 828 | K13: 865 | L13: 839 | M13: 855 | N13: 835 | O13: 819 | P13: 1166 | Q13: 1111 | R13: 1157 | S13: 1110 | T13: 1085 | U13: 1107 | V13: =IFERROR(SUM(I13:U13)/SUM(I14:U14),0) -> 0.99645361
H14: ='PANEL DE CONTROL DISTRITAL'!H13 -> Número de trámites aplicados | I14: 589 | J14: 832 | K14: 869 | L14: 840 | M14: 858 | N14: 838 | O14: 819 | P14: 1169 | Q14: 1113 | R14: 1159 | S14: 1114 | T14: 1091 | U14: 1116
A16: ='PANEL DE CONTROL DISTRITAL'!A15 -> 3 | B16: ='PANEL DE CONTROL DISTRITAL'!B15 -> Transferencia de la Información. | C16: ='PANEL DE CONTROL DISTRITAL'!C15 -> Responsable de Módulo | D16: ='PANEL DE CONTROL DISTRITAL'!D15 -> Reenvíos exitosos. | E16: ='PANEL DE CONTROL DISTRITAL'!E15 -> (Ejecución de los scripts de reenvío de notificaciones / Solicitud de reenvíos de scripts requeridos) x100 | F16: ='PANEL DE CONTROL DISTRITAL'!F15 -> Semanal (remesa) | G16: ='PANEL DE CONTROL DISTRITAL'!G15 -> 1 | H16: ='PANEL DE CONTROL DISTRITAL'!H15 -> Ejecución de los scripts de reenvío de notificaciones | I16: 0 | J16: 0 | K16: 0 | L16: 1 | M16: 0 | N16: 0 | O16: 0 | P16: 0 | Q16: 0 | R16: 0 | S16: 0 | T16: 0 | U16: 0 | V16: =IFERROR(SUM(I16:U16)/SUM(I17:U17),1) -> 1
H17: ='PANEL DE CONTROL DISTRITAL'!H16 -> Solicitud de reevíos de scripts requeridos | I17: 0 | J17: 0 | K17: 0 | L17: 1 | M17: 0 | N17: 0 | O17: 0 | P17: 0 | Q17: 0 | R17: 0 | S17: 0 | T17: 0 | U17: 0
A19: ='PANEL DE CONTROL DISTRITAL'!A18 -> 4 | B19: ='PANEL DE CONTROL DISTRITAL'!B18 -> Conciliación de Credenciales para Votar. | C19: ='PANEL DE CONTROL DISTRITAL'!C18 -> Responsable de Módulo | D19: ='PANEL DE CONTROL DISTRITAL'!D18 -> Credenciales disponibles para entrega. | E19: ='PANEL DE CONTROL DISTRITAL'!E18 -> [(Credenciales recibidas - Credenciales inconsistentes) / Credenciales recibidas] x 100 | F19: ='PANEL DE CONTROL DISTRITAL'!F18 -> Semanal (remesa) | G19: ='PANEL DE CONTROL DISTRITAL'!G18 -> 0.9 | H19: ='PANEL DE CONTROL DISTRITAL'!H18 -> Credenciales Recibidas - Credenciales inconsistentes | I19: 325 | J19: 719 | K19: 869 | L19: 829 | M19: 850 | N19: 827 | O19: 829 | P19: 983 | Q19: 974 | R19: 1306 | S19: 1155 | T19: 1069 | U19: 1136 | V19: =IFERROR(SUM(I19:U19)/SUM(I20:U20),0) -> 1
H20: ='PANEL DE CONTROL DISTRITAL'!H19 -> Credenciales recibidas | I20: 325 | J20: 719 | K20: 869 | L20: 829 | M20: 850 | N20: 827 | O20: 829 | P20: 983 | Q20: 974 | R20: 1306 | S20: 1155 | T20: 1069 | U20: 1136
A22: ='PANEL DE CONTROL DISTRITAL'!A21 -> 5 | B22: ='PANEL DE CONTROL DISTRITAL'!B21 -> Conciliación de Credenciales para Votar. | C22: ='PANEL DE CONTROL DISTRITAL'!C21 -> Responsable de Módulo | D22: ='PANEL DE CONTROL DISTRITAL'!D21 -> Arqueo de credenciales. | E22: ='PANEL DE CONTROL DISTRITAL'!E21 -> (Credenciales disponibles (físicas) / Credenciales disponibles registradas en SIIRFE-MAC) x 100 | F22: ='PANEL DE CONTROL DISTRITAL'!F21 -> Semanal (remesa) | G22: ='PANEL DE CONTROL DISTRITAL'!G21 -> 1 | H22: ='PANEL DE CONTROL DISTRITAL'!H21 -> Credenciales disponibles (físicas) | I22: 800 | J22: 1193 | K22: 1160 | L22: 1007 | M22: 950 | N22: 936 | O22: 1029 | P22: 1179 | Q22: 1228 | R22: 1604 | S22: 1560 | T22: 1552 | U22: 1791 | V22: =IFERROR(SUM(I22:U22)/SUM(I23:U23),0) -> 1
H23: ='PANEL DE CONTROL DISTRITAL'!H22 -> Credenciales disponibles registradas en SIIRFE | I23: 800 | J23: 1193 | K23: 1160 | L23: 1007 | M23: 950 | N23: 936 | O23: 1029 | P23: 1179 | Q23: 1228 | R23: 1604 | S23: 1560 | T23: 1552 | U23: 1791
A25: ='PANEL DE CONTROL DISTRITAL'!A24 -> 6 | B25: ='PANEL DE CONTROL DISTRITAL'!B24 -> Entrega de la Credencial para Votar. | C25: ='PANEL DE CONTROL DISTRITAL'!C24 -> Operador de Equipo Tecnológico | D25: ='PANEL DE CONTROL DISTRITAL'!D24 -> Efectividad de entrega de CPV en MAC. | E25: ='PANEL DE CONTROL DISTRITAL'!E24 -> (Total de credenciales entregadas / Total de ciudadanas y ciudadanos que acuden al MAC a recoger su credencial) x 100 | F25: ='PANEL DE CONTROL DISTRITAL'!F24 -> Semanal (remesa) | G25: ='PANEL DE CONTROL DISTRITAL'!G24 -> 0.9 | H25: ='PANEL DE CONTROL DISTRITAL'!H24 -> Total de credenciales entregadas | I25: 17 | J25: 326 | K25: 901 | L25: 982 | M25: 854 | N25: 841 | O25: 736 | P25: 833 | Q25: 925 | R25: 911 | S25: 1200 | T25: 1077 | U25: 897 | V25: =IFERROR(SUM(I25:U25)/SUM(I26:U26),0) -> 0.99866844
H26: ='PANEL DE CONTROL DISTRITAL'!H25 -> Total de ciudadanos que acuden a MAC a recoger su credencial | I26: 17 | J26: 327 | K26: 906 | L26: 986 | M26: 856 | N26: 841 | O26: 737 | P26: 833 | Q26: 926 | R26: 911 | S26: 1200 | T26: 1077 | U26: 897
B27: *Registre el valor nominal solicitado en la celda, el resultado proporcional esta automatizado.
B34: CUADRO DE OBSERVACIONES
B35: Descripción | H35: No conformidad

Sheet 090852
A1: ='PANEL DE CONTROL DISTRITAL'!A1:Q1 -> INSTITUTO NACIONAL ELECTORAL SISTEMA DE GESTIÓN DE LA CALIDAD CIUDAD DE MÉXICO
D2: Distrito | E2: 8 | F2: Módulo | H2: 90852
A4: TABLERO DE CONTROL DE PROCESOS SUSTANTIVOS DEL SISTEMA DE GESTIÓN DE LA CALIDAD
A6: ='PANEL DE CONTROL DISTRITAL'!A6 -> Número | B6: ='PANEL DE CONTROL DISTRITAL'!B6 -> PROCESOS SUSTANTIVOS E INDICADORES | I6: SEMANA OPERATIVA | V6: % AVANCE REGISTRADO
B7: ='PANEL DE CONTROL DISTRITAL'!B7 -> DESCRIPCIÓN | E7: ='PANEL DE CONTROL DISTRITAL'!E7 -> MEDICIÓN | I7: CAMPAÑA ANUAL PERMANENTE 2024
B9: ='PANEL DE CONTROL DISTRITAL'!B8 -> Proceso | C9: ='PANEL DE CONTROL DISTRITAL'!C8 -> Dueño de Proceso | D9: ='PANEL DE CONTROL DISTRITAL'!D8 -> Indicador | E9: ='PANEL DE CONTROL DISTRITAL'!E8 -> Cálculo | F9: ='PANEL DE CONTROL DISTRITAL'!F8 -> Periodo | G9: ='PANEL DE CONTROL DISTRITAL'!G8 -> Estimado | H9: ='PANEL DE CONTROL DISTRITAL'!H8 -> Nominativo | I9: ='090151'!I9 -> 2024-28 | J9: ='090151'!J9 -> 2024-29 | K9: ='090151'!K9 -> 2024-30 | L9: ='090151'!L9 -> 2024-31 | M9: ='090151'!M9 -> 2024-32 | N9: ='090151'!N9 -> 2024-33 | O9: ='090151'!O9 -> 2024-34 | P9: ='090151'!P9 -> 2024-35 | ... U9: ='090151'!U9 -> 2024-40
A10: ='PANEL DE CONTROL DISTRITAL'!A9 -> 1 | B10: ='PANEL DE CONTROL DISTRITAL'!B9 -> Entrevista | C10: ='PANEL DE CONTROL DISTRITAL'!C9 -> Auxiliar de Atención Ciudadana | D10: ='PANEL DE CONTROL DISTRITAL'!D9 -> Fichas requisitadas correctamente. | E10: ='PANEL DE CONTROL DISTRITAL'!E9 -> (Fichas requisitadas correctamente / Fichas revisadas en la muestra del 10%) x 100 | F10: ='PANEL DE CONTROL DISTRITAL'!F9 -> Semanal (remesa) | G10: ='PANEL DE CONTROL DISTRITAL'!G9 -> 0.9 | H10: ='PANEL DE CONTROL DISTRITAL'!H9 -> Fichas requistadas correctamente | I10: 63 | J10: 131 | K10: 139 | L10: 132 | M10: 125 | N10: 124 | O10: 123 | P10: 124 | Q10: 123 | R10: 127 | S10: 121 | T10: 120 | U10: 112 | V10: =IFERROR(SUM(I10:U10)/SUM(I11:U11),0) -> 1
H11: ='PANEL DE CONTROL DISTRITAL'!H10 -> Fichas revisadas en la Muestra del 10% | I11: 63 | J11: 131 | K11: 139 | L11: 132 | M11: 125 | N11: 124 | O11: 123 | P11: 124 | Q11: 123 | R11: 127 | S11: 121 | T11: 120 | U11: 112
A13: ='PANEL DE CONTROL DISTRITAL'!A12 -> 2 | B13: ='PANEL DE CONTROL DISTRITAL'!B12 -> Trámite | C13: ='PANEL DE CONTROL DISTRITAL'!C12 -> Operador de Equipo Tecnológico | D13: ='PANEL DE CONTROL DISTRITAL'!D12 -> Trámites exitosos. | E13: ='PANEL DE CONTROL DISTRITAL'!E12 -> (Número de trámites exitosos / Número de trámites aplicados) x 100 | F13: ='PANEL DE CONTROL DISTRITAL'!F12 -> Semanal (remesa) | G13: ='PANEL DE CONTROL DISTRITAL'!G12 -> 0.9 | H13: ='PANEL DE CONTROL DISTRITAL'!H12 -> Número de trámites exitosos | I13: 601 | J13: 1275 | K13: 1361 | L13: 1276 | M13: 1221 | N13: 1213 | O13: 1208 | P13: 1201 | Q13: 1203 | R13: 1244 | S13: 1177 | T13: 1187 | U13: 1115 | V13: =IFERROR(SUM(I13:U13)/SUM(I14:U14),0) -> 0.99732428
H14: ='PANEL DE CONTROL DISTRITAL'!H13 -> Número de trámites aplicados | I14: 607 | J14: 1278 | K14: 1364 | L14: 1279 | M14: 1229 | N14: 1215 | O14: 1208 | P14: 1204 | Q14: 1204 | R14: 1247 | S14: 1179 | T14: 1191 | U14: 1118
A16: ='PANEL DE CONTROL DISTRITAL'!A15 -> 3 | B16: ='PANEL DE CONTROL DISTRITAL'!B15 -> Transferencia de la Información. | C16: ='PANEL DE CONTROL DISTRITAL'!C15 -> Responsable de Módulo | D16: ='PANEL DE CONTROL DISTRITAL'!D15 -> Reenvíos exitosos. | E16: ='PANEL DE CONTROL DISTRITAL'!E15 -> (Ejecución de los scripts de reenvío de notificaciones / Solicitud de reenvíos de scripts requeridos) x100 | F16: ='PANEL DE CONTROL DISTRITAL'!F15 -> Semanal (remesa) | G16: ='PANEL DE CONTROL DISTRITAL'!G15 -> 1 | H16: ='PANEL DE CONTROL DISTRITAL'!H15 -> Ejecución de los scripts de reenvío de notificaciones | I16: 0 | J16: 0 | K16: 0 | L16: 0 | M16: 0 | N16: 0 | O16: 0 | P16: 0 | Q16: 0 | R16: 0 | S16: 0 | T16: 0 | U16: 0 | V16: =IFERROR(SUM(I16:U16)/SUM(I17:U17),1) -> 1
H17: ='PANEL DE CONTROL DISTRITAL'!H16 -> Solicitud de reevíos de scripts requeridos | I17: 0 | J17: 0 | K17: 0 | L17: 0 | M17: 0 | N17: 0 | O17: 0 | P17: 0 | Q17: 0 | R17: 0 | S17: 0 | T17: 0 | U17: 0
A19: ='PANEL DE CONTROL DISTRITAL'!A18 -> 4 | B19: ='PANEL DE CONTROL DISTRITAL'!B18 -> Conciliación de Credenciales para Votar. | C19: ='PANEL DE CONTROL DISTRITAL'!C18 -> Responsable de Módulo | D19: ='PANEL DE CONTROL DISTRITAL'!D18 -> Credenciales disponibles para entrega. | E19: ='PANEL DE CONTROL DISTRITAL'!E18 -> [(Credenciales recibidas - Credenciales inconsistentes) / Credenciales recibidas] x 100 | F19: ='PANEL DE CONTROL DISTRITAL'!F18 -> Semanal (remesa) | G19: ='PANEL DE CONTROL DISTRITAL'!G18 -> 0.9 | H19: ='PANEL DE CONTROL DISTRITAL'!H18 -> Credenciales Recibidas - Credenciales inconsistentes | I19: 313 | J19: 933 | K19: 1361 | L19: 1321 | M19: 1222 | N19: 1264 | O19: 1159 | P19: 1207 | Q19: 985 | R19: 1474 | S19: 1208 | T19: 1168 | U19: 1165 | V19: =IFERROR(SUM(I19:U19)/SUM(I20:U20),0) -> 0.99993235
H20: ='PANEL DE CONTROL DISTRITAL'!H19 -> Credenciales recibidas | I20: 313 | J20: 933 | K20: 1361 | L20: 1321 | M20: 1222 | N20: 1264 | O20: 1159 | P20: 1207 | Q20: 985 | R20: 1475 | S20: 1208 | T20: 1168 | U20: 1165
A22: ='PANEL DE CONTROL DISTRITAL'!A21 -> 5 | B22: ='PANEL DE CONTROL DISTRITAL'!B21 -> Conciliación de Credenciales para Votar. | C22: ='PANEL DE CONTROL DISTRITAL'!C21 -> Responsable de Módulo | D22: ='PANEL DE CONTROL DISTRITAL'!D21 -> Arqueo de credenciales. | E22: ='PANEL DE CONTROL DISTRITAL'!E21 -> (Credenciales disponibles (físicas) / Credenciales disponibles registradas en SIIRFE-MAC) x 100 | F22: ='PANEL DE CONTROL DISTRITAL'!F21 -> Semanal (remesa) | G22: ='PANEL DE CONTROL DISTRITAL'!G21 -> 1 | H22: ='PANEL DE CONTROL DISTRITAL'!H21 -> Credenciales disponibles (físicas) | I22: 879 | J22: 1484 | K22: 2012 | L22: 2097 | M22: 2039 | N22: 2165 | O22: 2061 | P22: 2130 | Q22: 1916 | R22: 2196 | S22: 2205 | T22: 2156 | U22: 2146 | V22: =IFERROR(SUM(I22:U22)/SUM(I23:U23),0) -> 1
H23: ='PANEL DE CONTROL DISTRITAL'!H22 -> Credenciales disponibles registradas en SIIRFE | I23: 879 | J23: 1484 | K23: 2012 | L23: 2097 | M23: 2039 | N23: 2165 | O23: 2061 | P23: 2130 | Q23: 1916 | R23: 2196 | S23: 2205 | T23: 2156 | U23: 2146
A25: ='PANEL DE CONTROL DISTRITAL'!A24 -> 6 | B25: ='PANEL DE CONTROL DISTRITAL'!B24 -> Entrega de la Credencial para Votar. | C25: ='PANEL DE CONTROL DISTRITAL'!C24 -> Operador de Equipo Tecnológico | D25: ='PANEL DE CONTROL DISTRITAL'!D24 -> Efectividad de entrega de CPV en MAC. | E25: ='PANEL DE CONTROL DISTRITAL'!E24 -> (Total de credenciales entregadas / Total de ciudadanas y ciudadanos que acuden al MAC a recoger su credencial) x 100 | F25: ='PANEL DE CONTROL DISTRITAL'!F24 -> Semanal (remesa) | G25: ='PANEL DE CONTROL DISTRITAL'!G24 -> 0.9 | H25: ='PANEL DE CONTROL DISTRITAL'!H24 -> Total de credenciales entregadas | I25: 45 | J25: 328 | K25: 833 | L25: 1236 | M25: 1223 | N25: 1137 | O25: 1264 | P25: 1138 | Q25: 1199 | R25: 1181 | S25: 1199 | T25: 1217 | U25: 1175 | V25: =IFERROR(SUM(I25:U25)/SUM(I26:U26),0) -> 1
H26: ='PANEL DE CONTROL DISTRITAL'!H25 -> Total de ciudadanos que acuden a MAC a recoger su credencial | I26: 45 | J26: 328 | K26: 833 | L26: 1236 | M26: 1223 | N26: 1137 | O26: 1264 | P26: 1138 | Q26: 1199 | R26: 1181 | S26: 1199 | T26: 1217 | U26: 1175
B27: *Registre el valor nominal solicitado en la celda, el resultado proporcional esta automatizado.
B34: CUADRO DE OBSERVACIONES
B35: Descripción | H35: No conformidad

Sheet 090853
A1: ='PANEL DE CONTROL DISTRITAL'!A1:Q1 -> INSTITUTO NACIONAL ELECTORAL SISTEMA DE GESTIÓN DE LA CALIDAD CIUDAD DE MÉXICO
D2: Distrito | E2: 8 | F2: Módulo | H2: 90853
A4: TABLERO DE CONTROL DE PROCESOS SUSTANTIVOS DEL SISTEMA DE GESTIÓN DE LA CALIDAD
A6: ='PANEL DE CONTROL DISTRITAL'!A6 -> Número | B6: ='PANEL DE CONTROL DISTRITAL'!B6 -> PROCESOS SUSTANTIVOS E INDICADORES | I6: SEMANA OPERATIVA | V6: % AVANCE REGISTRADO
B7: ='PANEL DE CONTROL DISTRITAL'!B7 -> DESCRIPCIÓN | E7: ='PANEL DE CONTROL DISTRITAL'!E7 -> MEDICIÓN | I7: CAMPAÑA ANUAL PERMANENTE 2024
B9: ='PANEL DE CONTROL DISTRITAL'!B8 -> Proceso | C9: ='PANEL DE CONTROL DISTRITAL'!C8 -> Dueño de Proceso | D9: ='PANEL DE CONTROL DISTRITAL'!D8 -> Indicador | E9: ='PANEL DE CONTROL DISTRITAL'!E8 -> Cálculo | F9: ='PANEL DE CONTROL DISTRITAL'!F8 -> Periodo | G9: ='PANEL DE CONTROL DISTRITAL'!G8 -> Estimado | H9: ='PANEL DE CONTROL DISTRITAL'!H8 -> Nominativo | I9: ='090151'!I9 -> 2024-28 | J9: ='090151'!J9 -> 2024-29 | K9: ='090151'!K9 -> 2024-30 | L9: ='090151'!L9 -> 2024-31 | M9: ='090151'!M9 -> 2024-32 | N9: ='090151'!N9 -> 2024-33 | O9: ='090151'!O9 -> 2024-34 | P9: ='090151'!P9 -> 2024-35 | ... U9: ='090151'!U9 -> 2024-40
A10: ='PANEL DE CONTROL DISTRITAL'!A9 -> 1 | B10: ='PANEL DE CONTROL DISTRITAL'!B9 -> Entrevista | C10: ='PANEL DE CONTROL DISTRITAL'!C9 -> Auxiliar de Atención Ciudadana | D10: ='PANEL DE CONTROL DISTRITAL'!D9 -> Fichas requisitadas correctamente. | E10: ='PANEL DE CONTROL DISTRITAL'!E9 -> (Fichas requisitadas correctamente / Fichas revisadas en la muestra del 10%) x 100 | F10: ='PANEL DE CONTROL DISTRITAL'!F9 -> Semanal (remesa) | G10: ='PANEL DE CONTROL DISTRITAL'!G9 -> 0.9 | H10: ='PANEL DE CONTROL DISTRITAL'!H9 -> Fichas requistadas correctamente | I10: 45 | J10: 144 | K10: 138 | L10: 134 | M10: 140 | N10: 142 | O10: 131 | P10: 127 | Q10: 140 | R10: 139 | S10: 138 | T10: 140 | U10: 138 | V10: =IFERROR(SUM(I10:U10)/SUM(I11:U11),0) -> 0.95819209
H11: ='PANEL DE CONTROL DISTRITAL'!H10 -> Fichas revisadas en la Muestra del 10% | I11: 50 | J11: 154 | K11: 147 | L11: 141 | M11: 144 | N11: 144 | O11: 145 | P11: 131 | Q11: 144 | R11: 143 | S11: 143 | T11: 144 | U11: 140
A13: ='PANEL DE CONTROL DISTRITAL'!A12 -> 2 | B13: ='PANEL DE CONTROL DISTRITAL'!B12 -> Trámite | C13: ='PANEL DE CONTROL DISTRITAL'!C12 -> Operador de Equipo Tecnológico | D13: ='PANEL DE CONTROL DISTRITAL'!D12 -> Trámites exitosos. | E13: ='PANEL DE CONTROL DISTRITAL'!E12 -> (Número de trámites exitosos / Número de trámites aplicados) x 100 | F13: ='PANEL DE CONTROL DISTRITAL'!F12 -> Semanal (remesa) | G13: ='PANEL DE CONTROL DISTRITAL'!G12 -> 0.9 | H13: ='PANEL DE CONTROL DISTRITAL'!H12 -> Número de trámites exitosos | I13: 476 | J13: 1439 | K13: 1345 | L13: 1278 | M13: 1343 | N13: 1340 | O13: 1324 | P13: 1295 | Q13: 1329 | R13: 1313 | S13: 1335 | T13: 1338 | U13: 957 | V13: =IFERROR(SUM(I13:U13)/SUM(I14:U14),0) -> 0.97488957
H14: ='PANEL DE CONTROL DISTRITAL'!H13 -> Número de trámites aplicados | I14: 477 | J14: 1443 | K14: 1349 | L14: 1284 | M14: 1345 | N14: 1346 | O14: 1333 | P14: 1303 | Q14: 1338 | R14: 1321 | S14: 1341 | T14: 1346 | U14: 1301
A16: ='PANEL DE CONTROL DISTRITAL'!A15 -> 3 | B16: ='PANEL DE CONTROL DISTRITAL'!B15 -> Transferencia de la Información. | C16: ='PANEL DE CONTROL DISTRITAL'!C15 -> Responsable de Módulo | D16: ='PANEL DE CONTROL DISTRITAL'!D15 -> Reenvíos exitosos. | E16: ='PANEL DE CONTROL DISTRITAL'!E15 -> (Ejecución de los scripts de reenvío de notificaciones / Solicitud de reenvíos de scripts requeridos) x100 | F16: ='PANEL DE CONTROL DISTRITAL'!F15 -> Semanal (remesa) | G16: ='PANEL DE CONTROL DISTRITAL'!G15 -> 1 | H16: ='PANEL DE CONTROL DISTRITAL'!H15 -> Ejecución de los scripts de reenvío de notificaciones | I16: 0 | J16: 0 | K16: 0 | L16: 0 | M16: 0 | N16: 0 | O16: 0 | P16: 0 | Q16: 1 | R16: 0 | S16: 0 | T16: 0 | U16: 0 | V16: =IFERROR(SUM(I16:U16)/SUM(I17:U17),1) -> 1
H17: ='PANEL DE CONTROL DISTRITAL'!H16 -> Solicitud de reevíos de scripts requeridos | I17: 0 | J17: 0 | K17: 0 | L17: 0 | M17: 0 | N17: 0 | O17: 0 | P17: 0 | Q17: 1 | R17: 0 | S17: 0 | T17: 0 | U17: 0
A19: ='PANEL DE CONTROL DISTRITAL'!A18 -> 4 | B19: ='PANEL DE CONTROL DISTRITAL'!B18 -> Conciliación de Credenciales para Votar. | C19: ='PANEL DE CONTROL DISTRITAL'!C18 -> Responsable de Módulo | D19: ='PANEL DE CONTROL DISTRITAL'!D18 -> Credenciales disponibles para entrega. | E19: ='PANEL DE CONTROL DISTRITAL'!E18 -> [(Credenciales recibidas - Credenciales inconsistentes) / Credenciales recibidas] x 100 | F19: ='PANEL DE CONTROL DISTRITAL'!F18 -> Semanal (remesa) | G19: ='PANEL DE CONTROL DISTRITAL'!G18 -> 0.9 | H19: ='PANEL DE CONTROL DISTRITAL'!H18 -> Credenciales Recibidas - Credenciales inconsistentes | I19: 251 | J19: 989 | K19: 1397 | L19: 1342 | M19: 1251 | N19: 1379 | O19: 1295 | P19: 1353 | Q19: 1048 | R19: 1535 | S19: 1354 | T19: 1321 | U19: 1334 | V19: =IFERROR(SUM(I19:U19)/SUM(I20:U20),0) -> 1
H20: ='PANEL DE CONTROL DISTRITAL'!H19 -> Credenciales recibidas | I20: 251 | J20: 989 | K20: 1397 | L20: 1342 | M20: 1251 | N20: 1379 | O20: 1295 | P20: 1353 | Q20: 1048 | R20: 1535 | S20: 1354 | T20: 1321 | U20: 1334
A22: ='PANEL DE CONTROL DISTRITAL'!A21 -> 5 | B22: ='PANEL DE CONTROL DISTRITAL'!B21 -> Conciliación de Credenciales para Votar. | C22: ='PANEL DE CONTROL DISTRITAL'!C21 -> Responsable de Módulo | D22: ='PANEL DE CONTROL DISTRITAL'!D21 -> Arqueo de credenciales. | E22: ='PANEL DE CONTROL DISTRITAL'!E21 -> (Credenciales disponibles (físicas) / Credenciales disponibles registradas en SIIRFE-MAC) x 100 | F22: ='PANEL DE CONTROL DISTRITAL'!F21 -> Semanal (remesa) | G22: ='PANEL DE CONTROL DISTRITAL'!G21 -> 1 | H22: ='PANEL DE CONTROL DISTRITAL'!H21 -> Credenciales disponibles (físicas) | I22: 886 | J22: 1603 | K22: 2091 | L22: 2229 | M22: 2246 | N22: 2389 | O22: 2408 | P22: 2482 | Q22: 2242 | R22: 2487 | S22: 2588 | T22: 2597 | U22: 2664 | V22: =IFERROR(SUM(I22:U22)/SUM(I23:U23),0) -> 1
H23: ='PANEL DE CONTROL DISTRITAL'!H22 -> Credenciales disponibles registradas en SIIRFE | I23: 886 | J23: 1603 | K23: 2091 | L23: 2229 | M23: 2246 | N23: 2389 | O23: 2408 | P23: 2482 | Q23: 2242 | R23: 2487 | S23: 2588 | T23: 2597 | U23: 2664
A25: ='PANEL DE CONTROL DISTRITAL'!A24 -> 6 | B25: ='PANEL DE CONTROL DISTRITAL'!B24 -> Entrega de la Credencial para Votar. | C25: ='PANEL DE CONTROL DISTRITAL'!C24 -> Operador de Equipo Tecnológico | D25: ='PANEL DE CONTROL DISTRITAL'!D24 -> Efectividad de entrega de CPV en MAC. | E25: ='PANEL DE CONTROL DISTRITAL'!E24 -> (Total de credenciales entregadas / Total de ciudadanas y ciudadanos que acuden al MAC a recoger su credencial) x 100 | F25: ='PANEL DE CONTROL DISTRITAL'!F24 -> Semanal (remesa) | G25: ='PANEL DE CONTROL DISTRITAL'!G24 -> 0.9 | H25: ='PANEL DE CONTROL DISTRITAL'!H24 -> Total de credenciales entregadas | I25: 35 | J25: 272 | K25: 909 | L25: 1204 | M25: 1184 | N25: 1235 | O25: 1276 | P25: 1279 | Q25: 1288 | R25: 1263 | S25: 1253 | T25: 1312 | U25: 1267 | V25: =IFERROR(SUM(I25:U25)/SUM(I26:U26),0) -> 0.99652803
H26: ='PANEL DE CONTROL DISTRITAL'!H25 -> Total de ciudadanos que acuden a MAC a recoger su credencial | I26: 35 | J26: 276 | K26: 912 | L26: 1209 | M26: 1186 | N26: 1239 | O26: 1279 | P26: 1285 | Q26: 1290 | R26: 1272 | S26: 1256 | T26: 1315 | U26: 1271
B27: *Registre el valor nominal solicitado en la celda, el resultado proporcional esta automatizado.
B34: CUADRO DE OBSERVACIONES
B35: Descripción | H35: No conformidad

Sheet 090951
A1: ='PANEL DE CONTROL DISTRITAL'!A1:Q1 -> INSTITUTO NACIONAL ELECTORAL SISTEMA DE GESTIÓN DE LA CALIDAD CIUDAD DE MÉXICO
D2: Distrito | E2: 9 | F2: Módulo | H2: 90951
A4: TABLERO DE CONTROL DE PROCESOS SUSTANTIVOS DEL SISTEMA DE GESTIÓN DE LA CALIDAD
A6: ='PANEL DE CONTROL DISTRITAL'!A6 -> Número | B6: ='PANEL DE CONTROL DISTRITAL'!B6 -> PROCESOS SUSTANTIVOS E INDICADORES | I6: SEMANA OPERATIVA | V6: % AVANCE REGISTRADO
B7: ='PANEL DE CONTROL DISTRITAL'!B7 -> DESCRIPCIÓN | E7: ='PANEL DE CONTROL DISTRITAL'!E7 -> MEDICIÓN | I7: CAMPAÑA ANUAL PERMANENTE 2024
B9: ='PANEL DE CONTROL DISTRITAL'!B8 -> Proceso | C9: ='PANEL DE CONTROL DISTRITAL'!C8 -> Dueño de Proceso | D9: ='PANEL DE CONTROL DISTRITAL'!D8 -> Indicador | E9: ='PANEL DE CONTROL DISTRITAL'!E8 -> Cálculo | F9: ='PANEL DE CONTROL DISTRITAL'!F8 -> Periodo | G9: ='PANEL DE CONTROL DISTRITAL'!G8 -> Estimado | H9: ='PANEL DE CONTROL DISTRITAL'!H8 -> Nominativo | I9: ='090151'!I9 -> 2024-28 | J9: ='090151'!J9 -> 2024-29 | K9: ='090151'!K9 -> 2024-30 | L9: ='090151'!L9 -> 2024-31 | M9: ='090151'!M9 -> 2024-32 | N9: ='090151'!N9 -> 2024-33 | O9: ='090151'!O9 -> 2024-34 | P9: ='090151'!P9 -> 2024-35 | ... U9: ='090151'!U9 -> 2024-40
A10: ='PANEL DE CONTROL DISTRITAL'!A9 -> 1 | B10: ='PANEL DE CONTROL DISTRITAL'!B9 -> Entrevista | C10: ='PANEL DE CONTROL DISTRITAL'!C9 -> Auxiliar de Atención Ciudadana | D10: ='PANEL DE CONTROL DISTRITAL'!D9 -> Fichas requisitadas correctamente. | E10: ='PANEL DE CONTROL DISTRITAL'!E9 -> (Fichas requisitadas correctamente / Fichas revisadas en la muestra del 10%) x 100 | F10: ='PANEL DE CONTROL DISTRITAL'!F9 -> Semanal (remesa) | G10: ='PANEL DE CONTROL DISTRITAL'!G9 -> 0.9 | H10: ='PANEL DE CONTROL DISTRITAL'!H9 -> Fichas requistadas correctamente | I10: 39 | J10: 118 | K10: 113 | L10: 105 | M10: 80 | N10: 108 | O10: 113 | P10: 104 | Q10: 111 | R10: 108 | S10: 102 | T10: 106 | U10: 108 | V10: =IFERROR(SUM(I10:U10)/SUM(I11:U11),0) -> 1
H11: ='PANEL DE CONTROL DISTRITAL'!H10 -> Fichas revisadas en la Muestra del 10% | I11: 39 | J11: 118 | K11: 113 | L11: 105 | M11: 80 | N11: 108 | O11: 113 | P11: 104 | Q11: 111 | R11: 108 | S11: 102 | T11: 106 | U11: 108
A13: ='PANEL DE CONTROL DISTRITAL'!A12 -> 2 | B13: ='PANEL DE CONTROL DISTRITAL'!B12 -> Trámite | C13: ='PANEL DE CONTROL DISTRITAL'!C12 -> Operador de Equipo Tecnológico | D13: ='PANEL DE CONTROL DISTRITAL'!D12 -> Trámites exitosos. | E13: ='PANEL DE CONTROL DISTRITAL'!E12 -> (Número de trámites exitosos / Número de trámites aplicados) x 100 | F13: ='PANEL DE CONTROL DISTRITAL'!F12 -> Semanal (remesa) | G13: ='PANEL DE CONTROL DISTRITAL'!G12 -> 0.9 | H13: ='PANEL DE CONTROL DISTRITAL'!H12 -> Número de trámites exitosos | I13: 386 | J13: 1147 | K13: 1101 | L13: 989 | M13: 792 | N13: 1072 | O13: 1128 | P13: 1034 | Q13: 1103 | R13: 1041 | S13: 975 | T13: 1046 | U13: 1024 | V13: =IFERROR(SUM(I13:U13)/SUM(I14:U14),0) -> 0.99735861
H14: ='PANEL DE CONTROL DISTRITAL'!H13 -> Número de trámites aplicados | I14: 387 | J14: 1148 | K14: 1103 | L14: 992 | M14: 793 | N14: 1076 | O14: 1129 | P14: 1035 | Q14: 1105 | R14: 1041 | S14: 977 | T14: 1054 | U14: 1032
A16: ='PANEL DE CONTROL DISTRITAL'!A15 -> 3 | B16: ='PANEL DE CONTROL DISTRITAL'!B15 -> Transferencia de la Información. | C16: ='PANEL DE CONTROL DISTRITAL'!C15 -> Responsable de Módulo | D16: ='PANEL DE CONTROL DISTRITAL'!D15 -> Reenvíos exitosos. | E16: ='PANEL DE CONTROL DISTRITAL'!E15 -> (Ejecución de los scripts de reenvío de notificaciones / Solicitud de reenvíos de scripts requeridos) x100 | F16: ='PANEL DE CONTROL DISTRITAL'!F15 -> Semanal (remesa) | G16: ='PANEL DE CONTROL DISTRITAL'!G15 -> 1 | H16: ='PANEL DE CONTROL DISTRITAL'!H15 -> Ejecución de los scripts de reenvío de notificaciones | I16: 0 | J16: 0 | K16: 0 | L16: 0 | M16: 0 | N16: 0 | O16: 0 | P16: 0 | Q16: 0 | R16: 0 | S16: 0 | T16: 0 | U16: 0 | V16: =IFERROR(SUM(I16:U16)/SUM(I17:U17),1) -> 1
H17: ='PANEL DE CONTROL DISTRITAL'!H16 -> Solicitud de reevíos de scripts requeridos | I17: 0 | J17: 0 | K17: 0 | L17: 0 | M17: 0 | N17: 0 | O17: 0 | P17: 0 | Q17: 0 | R17: 0 | S17: 0 | T17: 0 | U17: 0
A19: ='PANEL DE CONTROL DISTRITAL'!A18 -> 4 | B19: ='PANEL DE CONTROL DISTRITAL'!B18 -> Conciliación de Credenciales para Votar. | C19: ='PANEL DE CONTROL DISTRITAL'!C18 -> Responsable de Módulo | D19: ='PANEL DE CONTROL DISTRITAL'!D18 -> Credenciales disponibles para entrega. | E19: ='PANEL DE CONTROL DISTRITAL'!E18 -> [(Credenciales recibidas - Credenciales inconsistentes) / Credenciales recibidas] x 100 | F19: ='PANEL DE CONTROL DISTRITAL'!F18 -> Semanal (remesa) | G19: ='PANEL DE CONTROL DISTRITAL'!G18 -> 0.9 | H19: ='PANEL DE CONTROL DISTRITAL'!H18 -> Credenciales Recibidas - Credenciales inconsistentes | I19: 216 | J19: 788 | K19: 1129 | L19: 1018 | M19: 1002 | N19: 878 | O19: 1066 | P19: 1076 | Q19: 860 | R19: 1272 | S19: 1043 | T19: 973 | U19: 1055 | V19: =IFERROR(SUM(I19:U19)/SUM(I20:U20),0) -> 1
H20: ='PANEL DE CONTROL DISTRITAL'!H19 -> Credenciales recibidas | I20: 216 | J20: 788 | K20: 1129 | L20: 1018 | M20: 1002 | N20: 878 | O20: 1066 | P20: 1076 | Q20: 860 | R20: 1272 | S20: 1043 | T20: 973 | U20: 1055
A22: ='PANEL DE CONTROL DISTRITAL'!A21 -> 5 | B22: ='PANEL DE CONTROL DISTRITAL'!B21 -> Conciliación de Credenciales para Votar. | C22: ='PANEL DE CONTROL DISTRITAL'!C21 -> Responsable de Módulo | D22: ='PANEL DE CONTROL DISTRITAL'!D21 -> Arqueo de credenciales. | E22: ='PANEL DE CONTROL DISTRITAL'!E21 -> (Credenciales disponibles (físicas) / Credenciales disponibles registradas en SIIRFE-MAC) x 100 | F22: ='PANEL DE CONTROL DISTRITAL'!F21 -> Semanal (remesa) | G22: ='PANEL DE CONTROL DISTRITAL'!G21 -> 1 | H22: ='PANEL DE CONTROL DISTRITAL'!H21 -> Credenciales disponibles (físicas) | I22: 511 | J22: 1193 | K22: 1490 | L22: 1552 | M22: 1640 | N22: 1338 | O22: 1346 | P22: 1304 | Q22: 1131 | R22: 1290 | S22: 1301 | T22: 1243 | U22: 1308 | V22: =IFERROR(SUM(I22:U22)/SUM(I23:U23),0) -> 1
H23: ='PANEL DE CONTROL DISTRITAL'!H22 -> Credenciales disponibles registradas en SIIRFE | I23: 511 | J23: 1193 | K23: 1490 | L23: 1552 | M23: 1640 | N23: 1338 | O23: 1346 | P23: 1304 | Q23: 1131 | R23: 1290 | S23: 1301 | T23: 1243 | U23: 1308
A25: ='PANEL DE CONTROL DISTRITAL'!A24 -> 6 | B25: ='PANEL DE CONTROL DISTRITAL'!B24 -> Entrega de la Credencial para Votar. | C25: ='PANEL DE CONTROL DISTRITAL'!C24 -> Operador de Equipo Tecnológico | D25: ='PANEL DE CONTROL DISTRITAL'!D24 -> Efectividad de entrega de CPV en MAC. | E25: ='PANEL DE CONTROL DISTRITAL'!E24 -> (Total de credenciales entregadas / Total de ciudadanas y ciudadanos que acuden al MAC a recoger su credencial) x 100 | F25: ='PANEL DE CONTROL DISTRITAL'!F24 -> Semanal (remesa) | G25: ='PANEL DE CONTROL DISTRITAL'!G24 -> 0.9 | H25: ='PANEL DE CONTROL DISTRITAL'!H24 -> Total de credenciales entregadas | I25: 2 | J25: 106 | K25: 832 | L25: 956 | M25: 880 | N25: 1180 | O25: 1058 | P25: 1118 | Q25: 1033 | R25: 1108 | S25: 1032 | T25: 1031 | U25: 990 | V25: =IFERROR(SUM(I25:U25)/SUM(I26:U26),0) -> 0.99806133
H26: ='PANEL DE CONTROL DISTRITAL'!H25 -> Total de ciudadanos que acuden a MAC a recoger su credencial | I26: 2 | J26: 106 | K26: 837 | L26: 957 | M26: 884 | N26: 1183 | O26: 1059 | P26: 1118 | Q26: 1034 | R26: 1108 | S26: 1032 | T26: 1036 | U26: 992
B27: *Registre el valor nominal solicitado en la celda, el resultado proporcional esta automatizado.
B34: CUADRO DE OBSERVACIONES
B35: Descripción | H35: No conformidad

Sheet 091051
A1: ='PANEL DE CONTROL DISTRITAL'!A1:Q1 -> INSTITUTO NACIONAL ELECTORAL SISTEMA DE GESTIÓN DE LA CALIDAD CIUDAD DE MÉXICO
D2: Distrito | E2: 10 | F2: Módulo | H2: 91051
A4: TABLERO DE CONTROL DE PROCESOS SUSTANTIVOS DEL SISTEMA DE GESTIÓN DE LA CALIDAD
A6: ='PANEL DE CONTROL DISTRITAL'!A6 -> Número | B6: ='PANEL DE CONTROL DISTRITAL'!B6 -> PROCESOS SUSTANTIVOS E INDICADORES | I6: SEMANA OPERATIVA | V6: % AVANCE REGISTRADO
B7: ='PANEL DE CONTROL DISTRITAL'!B7 -> DESCRIPCIÓN | E7: ='PANEL DE CONTROL DISTRITAL'!E7 -> MEDICIÓN | I7: CAMPAÑA ANUAL PERMANENTE 2024
B9: ='PANEL DE CONTROL DISTRITAL'!B8 -> Proceso | C9: ='PANEL DE CONTROL DISTRITAL'!C8 -> Dueño de Proceso | D9: ='PANEL DE CONTROL DISTRITAL'!D8 -> Indicador | E9: ='PANEL DE CONTROL DISTRITAL'!E8 -> Cálculo | F9: ='PANEL DE CONTROL DISTRITAL'!F8 -> Periodo | G9: ='PANEL DE CONTROL DISTRITAL'!G8 -> Estimado | H9: ='PANEL DE CONTROL DISTRITAL'!H8 -> Nominativo | I9: ='090151'!I9 -> 2024-28 | J9: ='090151'!J9 -> 2024-29 | K9: ='090151'!K9 -> 2024-30 | L9: ='090151'!L9 -> 2024-31 | M9: ='090151'!M9 -> 2024-32 | N9: ='090151'!N9 -> 2024-33 | O9: ='090151'!O9 -> 2024-34 | P9: ='090151'!P9 -> 2024-35 | ... U9: ='090151'!U9 -> 2024-40
A10: ='PANEL DE CONTROL DISTRITAL'!A9 -> 1 | B10: ='PANEL DE CONTROL DISTRITAL'!B9 -> Entrevista | C10: ='PANEL DE CONTROL DISTRITAL'!C9 -> Auxiliar de Atención Ciudadana | D10: ='PANEL DE CONTROL DISTRITAL'!D9 -> Fichas requisitadas correctamente. | E10: ='PANEL DE CONTROL DISTRITAL'!E9 -> (Fichas requisitadas correctamente / Fichas revisadas en la muestra del 10%) x 100 | F10: ='PANEL DE CONTROL DISTRITAL'!F9 -> Semanal (remesa) | G10: ='PANEL DE CONTROL DISTRITAL'!G9 -> 0.9 | H10: ='PANEL DE CONTROL DISTRITAL'!H9 -> Fichas requistadas correctamente | I10: 37 | J10: 99 | K10: 95 | L10: 90 | M10: 91 | N10: 92 | O10: 94 | P10: 87 | Q10: 90 | R10: 88 | S10: 86 | T10: 84 | U10: 80 | V10: =IFERROR(SUM(I10:U10)/SUM(I11:U11),0) -> 1
H11: ='PANEL DE CONTROL DISTRITAL'!H10 -> Fichas revisadas en la Muestra del 10% | I11: 37 | J11: 99 | K11: 95 | L11: 90 | M11: 91 | N11: 92 | O11: 94 | P11: 87 | Q11: 90 | R11: 88 | S11: 86 | T11: 84 | U11: 80
A13: ='PANEL DE CONTROL DISTRITAL'!A12 -> 2 | B13: ='PANEL DE CONTROL DISTRITAL'!B12 -> Trámite | C13: ='PANEL DE CONTROL DISTRITAL'!C12 -> Operador de Equipo Tecnológico | D13: ='PANEL DE CONTROL DISTRITAL'!D12 -> Trámites exitosos. | E13: ='PANEL DE CONTROL DISTRITAL'!E12 -> (Número de trámites exitosos / Número de trámites aplicados) x 100 | F13: ='PANEL DE CONTROL DISTRITAL'!F12 -> Semanal (remesa) | G13: ='PANEL DE CONTROL DISTRITAL'!G12 -> 0.9 | H13: ='PANEL DE CONTROL DISTRITAL'!H12 -> Número de trámites exitosos | I13: 364 | J13: 979 | K13: 940 | L13: 890 | M13: 902 | N13: 908 | O13: 927 | P13: 857 | Q13: 892 | R13: 873 | S13: 850 | T13: 828 | U13: 593 | V13: =IFERROR(SUM(I13:U13)/SUM(I14:U14),0) -> 0.97280504
H14: ='PANEL DE CONTROL DISTRITAL'!H13 -> Número de trámites aplicados | I14: 365 | J14: 979 | K14: 943 | L14: 890 | M14: 903 | N14: 910 | O14: 930 | P14: 861 | Q14: 895 | R14: 875 | S14: 851 | T14: 832 | U14: 871
A16: ='PANEL DE CONTROL DISTRITAL'!A15 -> 3 | B16: ='PANEL DE CONTROL DISTRITAL'!B15 -> Transferencia de la Información. | C16: ='PANEL DE CONTROL DISTRITAL'!C15 -> Responsable de Módulo | D16: ='PANEL DE CONTROL DISTRITAL'!D15 -> Reenvíos exitosos. | E16: ='PANEL DE CONTROL DISTRITAL'!E15 -> (Ejecución de los scripts de reenvío de notificaciones / Solicitud de reenvíos de scripts requeridos) x100 | F16: ='PANEL DE CONTROL DISTRITAL'!F15 -> Semanal (remesa) | G16: ='PANEL DE CONTROL DISTRITAL'!G15 -> 1 | H16: ='PANEL DE CONTROL DISTRITAL'!H15 -> Ejecución de los scripts de reenvío de notificaciones | I16: 0 | J16: 0 | K16: 0 | L16: 0 | M16: 0 | N16: 0 | O16: 0 | P16: 0 | Q16: 0 | R16: 0 | S16: 0 | T16: 0 | U16: 0 | V16: =IFERROR(SUM(I16:U16)/SUM(I17:U17),1) -> 1
H17: ='PANEL DE CONTROL DISTRITAL'!H16 -> Solicitud de reevíos de scripts requeridos | I17: 0 | J17: 0 | K17: 0 | L17: 0 | M17: 0 | N17: 0 | O17: 0 | P17: 0 | Q17: 0 | R17: 0 | S17: 0 | T17: 0 | U17: 0
A19: ='PANEL DE CONTROL DISTRITAL'!A18 -> 4 | B19: ='PANEL DE CONTROL DISTRITAL'!B18 -> Conciliación de Credenciales para Votar. | C19: ='PANEL DE CONTROL DISTRITAL'!C18 -> Responsable de Módulo | D19: ='PANEL DE CONTROL DISTRITAL'!D18 -> Credenciales disponibles para entrega. | E19: ='PANEL DE CONTROL DISTRITAL'!E18 -> [(Credenciales recibidas - Credenciales inconsistentes) / Credenciales recibidas] x 100 | F19: ='PANEL DE CONTROL DISTRITAL'!F18 -> Semanal (remesa) | G19: ='PANEL DE CONTROL DISTRITAL'!G18 -> 0.9 | H19: ='PANEL DE CONTROL DISTRITAL'!H18 -> Credenciales Recibidas - Credenciales inconsistentes | I19: 206 | J19: 696 | K19: 934 | L19: 940 | M19: 875 | N19: 919 | O19: 907 | P19: 887 | Q19: 733 | R19: 1001 | S19: 902 | T19: 835 | U19: 824 | V19: =IFERROR(SUM(I19:U19)/SUM(I20:U20),0) -> 0.99990619
H20: ='PANEL DE CONTROL DISTRITAL'!H19 -> Credenciales recibidas | I20: 206 | J20: 697 | K20: 934 | L20: 940 | M20: 875 | N20: 919 | O20: 907 | P20: 887 | Q20: 733 | R20: 1001 | S20: 902 | T20: 835 | U20: 824
A22: ='PANEL DE CONTROL DISTRITAL'!A21 -> 5 | B22: ='PANEL DE CONTROL DISTRITAL'!B21 -> Conciliación de Credenciales para Votar. | C22: ='PANEL DE CONTROL DISTRITAL'!C21 -> Responsable de Módulo | D22: ='PANEL DE CONTROL DISTRITAL'!D21 -> Arqueo de credenciales. | E22: ='PANEL DE CONTROL DISTRITAL'!E21 -> (Credenciales disponibles (físicas) / Credenciales disponibles registradas en SIIRFE-MAC) x 100 | F22: ='PANEL DE CONTROL DISTRITAL'!F21 -> Semanal (remesa) | G22: ='PANEL DE CONTROL DISTRITAL'!G21 -> 1 | H22: ='PANEL DE CONTROL DISTRITAL'!H21 -> Credenciales disponibles (físicas) | I22: 708 | J22: 1160 | K22: 1503 | L22: 1583 | M22: 1589 | N22: 1663 | O22: 1714 | P22: 1747 | Q22: 1530 | R22: 1714 | S22: 1788 | T22: 1767 | U22: 1802 | V22: =IFERROR(SUM(I22:U22)/SUM(I23:U23),0) -> 1
H23: ='PANEL DE CONTROL DISTRITAL'!H22 -> Credenciales disponibles registradas en SIIRFE | I23: 708 | J23: 1160 | K23: 1503 | L23: 1583 | M23: 1589 | N23: 1663 | O23: 1714 | P23: 1747 | Q23: 1530 | R23: 1714 | S23: 1788 | T23: 1767 | U23: 1802
A25: ='PANEL DE CONTROL DISTRITAL'!A24 -> 6 | B25: ='PANEL DE CONTROL DISTRITAL'!B24 -> Entrega de la Credencial para Votar. | C25: ='PANEL DE CONTROL DISTRITAL'!C24 -> Operador de Equipo Tecnológico | D25: ='PANEL DE CONTROL DISTRITAL'!D24 -> Efectividad de entrega de CPV en MAC. | E25: ='PANEL DE CONTROL DISTRITAL'!E24 -> (Total de credenciales entregadas / Total de ciudadanas y ciudadanos que acuden al MAC a recoger su credencial) x 100 | F25: ='PANEL DE CONTROL DISTRITAL'!F24 -> Semanal (remesa) | G25: ='PANEL DE CONTROL DISTRITAL'!G24 -> 0.9 | H25: ='PANEL DE CONTROL DISTRITAL'!H24 -> Total de credenciales entregadas | I25: 18 | J25: 244 | K25: 591 | L25: 860 | M25: 824 | N25: 844 | O25: 856 | P25: 854 | Q25: 950 | R25: 806 | S25: 828 | T25: 856 | U25: 789 | V25: =IFERROR(SUM(I25:U25)/SUM(I26:U26),0) -> 0.99924949
H26: ='PANEL DE CONTROL DISTRITAL'!H25 -> Total de ciudadanos que acuden a MAC a recoger su credencial | I26: 18 | J26: 244 | K26: 591 | L26: 860 | M26: 824 | N26: 844 | O26: 859 | P26: 855 | Q26: 951 | R26: 807 | S26: 828 | T26: 857 | U26: 789
B27: *Registre el valor nominal solicitado en la celda, el resultado proporcional esta automatizado.
B34: CUADRO DE OBSERVACIONES
B35: Descripción | H35: No conformidad

Sheet 091151
A1: ='PANEL DE CONTROL DISTRITAL'!A1:Q1 -> INSTITUTO NACIONAL ELECTORAL SISTEMA DE GESTIÓN DE LA CALIDAD CIUDAD DE MÉXICO
D2: Distrito | E2: 11 | F2: Módulo | H2: 91151
A4: TABLERO DE CONTROL DE PROCESOS SUSTANTIVOS DEL SISTEMA DE GESTIÓN DE LA CALIDAD
A6: ='PANEL DE CONTROL DISTRITAL'!A6 -> Número | B6: ='PANEL DE CONTROL DISTRITAL'!B6 -> PROCESOS SUSTANTIVOS E INDICADORES | I6: SEMANA OPERATIVA | V6: % AVANCE REGISTRADO
B7: ='PANEL DE CONTROL DISTRITAL'!B7 -> DESCRIPCIÓN | E7: ='PANEL DE CONTROL DISTRITAL'!E7 -> MEDICIÓN | I7: CAMPAÑA ANUAL PERMANENTE 2024
B9: ='PANEL DE CONTROL DISTRITAL'!B8 -> Proceso | C9: ='PANEL DE CONTROL DISTRITAL'!C8 -> Dueño de Proceso | D9: ='PANEL DE CONTROL DISTRITAL'!D8 -> Indicador | E9: ='PANEL DE CONTROL DISTRITAL'!E8 -> Cálculo | F9: ='PANEL DE CONTROL DISTRITAL'!F8 -> Periodo | G9: ='PANEL DE CONTROL DISTRITAL'!G8 -> Estimado | H9: ='PANEL DE CONTROL DISTRITAL'!H8 -> Nominativo | I9: ='090151'!I9 -> 2024-28 | J9: ='090151'!J9 -> 2024-29 | K9: ='090151'!K9 -> 2024-30 | L9: ='090151'!L9 -> 2024-31 | M9: ='090151'!M9 -> 2024-32 | N9: ='090151'!N9 -> 2024-33 | O9: ='090151'!O9 -> 2024-34 | P9: ='090151'!P9 -> 2024-35 | ... U9: ='090151'!U9 -> 2024-40
A10: ='PANEL DE CONTROL DISTRITAL'!A9 -> 1 | B10: ='PANEL DE CONTROL DISTRITAL'!B9 -> Entrevista | C10: ='PANEL DE CONTROL DISTRITAL'!C9 -> Auxiliar de Atención Ciudadana | D10: ='PANEL DE CONTROL DISTRITAL'!D9 -> Fichas requisitadas correctamente. | E10: ='PANEL DE CONTROL DISTRITAL'!E9 -> (Fichas requisitadas correctamente / Fichas revisadas en la muestra del 10%) x 100 | F10: ='PANEL DE CONTROL DISTRITAL'!F9 -> Semanal (remesa) | G10: ='PANEL DE CONTROL DISTRITAL'!G9 -> 0.9 | H10: ='PANEL DE CONTROL DISTRITAL'!H9 -> Fichas requistadas correctamente | I10: 40 | J10: 145 | K10: 145 | L10: 102 | M10: 140 | N10: 135 | O10: 130 | P10: 145 | Q10: 127 | R10: 113 | S10: 95 | T10: 100 | U10: 122 | V10: =IFERROR(SUM(I10:U10)/SUM(I11:U11),0) -> 0.98025478
H11: ='PANEL DE CONTROL DISTRITAL'!H10 -> Fichas revisadas en la Muestra del 10% | I11: 40 | J11: 145 | K11: 145 | L11: 127 | M11: 140 | N11: 135 | O11: 130 | P11: 145 | Q11: 127 | R11: 113 | S11: 95 | T11: 100 | U11: 128
A13: ='PANEL DE CONTROL DISTRITAL'!A12 -> 2 | B13: ='PANEL DE CONTROL DISTRITAL'!B12 -> Trámite | C13: ='PANEL DE CONTROL DISTRITAL'!C12 -> Operador de Equipo Tecnológico | D13: ='PANEL DE CONTROL DISTRITAL'!D12 -> Trámites exitosos. | E13: ='PANEL DE CONTROL DISTRITAL'!E12 -> (Número de trámites exitosos / Número de trámites aplicados) x 100 | F13: ='PANEL DE CONTROL DISTRITAL'!F12 -> Semanal (remesa) | G13: ='PANEL DE CONTROL DISTRITAL'!G12 -> 0.9 | H13: ='PANEL DE CONTROL DISTRITAL'!H12 -> Número de trámites exitosos | I13: 372 | J13: 1473 | K13: 1452 | L13: 1261 | M13: 1352 | N13: 1328 | O13: 1285 | P13: 1445 | Q13: 1262 | R13: 1127 | S13: 936 | T13: 977 | U13: 940 | V13: =IFERROR(SUM(I13:U13)/SUM(I14:U14),0) -> 0.97587579
H14: ='PANEL DE CONTROL DISTRITAL'!H13 -> Número de trámites aplicados | I14: 372 | J14: 1475 | K14: 1453 | L14: 1264 | M14: 1354 | N14: 1331 | O14: 1290 | P14: 1450 | Q14: 1264 | R14: 1130 | S14: 941 | T14: 984 | U14: 1278
A16: ='PANEL DE CONTROL DISTRITAL'!A15 -> 3 | B16: ='PANEL DE CONTROL DISTRITAL'!B15 -> Transferencia de la Información. | C16: ='PANEL DE CONTROL DISTRITAL'!C15 -> Responsable de Módulo | D16: ='PANEL DE CONTROL DISTRITAL'!D15 -> Reenvíos exitosos. | E16: ='PANEL DE CONTROL DISTRITAL'!E15 -> (Ejecución de los scripts de reenvío de notificaciones / Solicitud de reenvíos de scripts requeridos) x100 | F16: ='PANEL DE CONTROL DISTRITAL'!F15 -> Semanal (remesa) | G16: ='PANEL DE CONTROL DISTRITAL'!G15 -> 1 | H16: ='PANEL DE CONTROL DISTRITAL'!H15 -> Ejecución de los scripts de reenvío de notificaciones | I16: 0 | J16: 0 | K16: 0 | L16: 0 | M16: 0 | N16: 0 | O16: 0 | P16: 0 | Q16: 0 | R16: 0 | S16: 0 | T16: 0 | U16: 0 | V16: =IFERROR(SUM(I16:U16)/SUM(I17:U17),1) -> 1
H17: ='PANEL DE CONTROL DISTRITAL'!H16 -> Solicitud de reevíos de scripts requeridos | I17: 0 | J17: 0 | K17: 0 | L17: 0 | M17: 0 | N17: 0 | O17: 0 | P17: 0 | Q17: 0 | R17: 0 | S17: 0 | T17: 0 | U17: 0
A19: ='PANEL DE CONTROL DISTRITAL'!A18 -> 4 | B19: ='PANEL DE CONTROL DISTRITAL'!B18 -> Conciliación de Credenciales para Votar. | C19: ='PANEL DE CONTROL DISTRITAL'!C18 -> Responsable de Módulo | D19: ='PANEL DE CONTROL DISTRITAL'!D18 -> Credenciales disponibles para entrega. | E19: ='PANEL DE CONTROL DISTRITAL'!E18 -> [(Credenciales recibidas - Credenciales inconsistentes) / Credenciales recibidas] x 100 | F19: ='PANEL DE CONTROL DISTRITAL'!F18 -> Semanal (remesa) | G19: ='PANEL DE CONTROL DISTRITAL'!G18 -> 0.9 | H19: ='PANEL DE CONTROL DISTRITAL'!H18 -> Credenciales Recibidas - Credenciales inconsistentes | I19: 185 | J19: 982 | K19: 1478 | L19: 1353 | M19: 1310 | N19: 1329 | O19: 1286 | P19: 1372 | Q19: 1197 | R19: 1368 | S19: 1020 | T19: 924 | U19: 1163 | V19: =IFERROR(SUM(I19:U19)/SUM(I20:U20),0) -> 1
H20: ='PANEL DE CONTROL DISTRITAL'!H19 -> Credenciales recibidas | I20: 185 | J20: 982 | K20: 1478 | L20: 1353 | M20: 1310 | N20: 1329 | O20: 1286 | P20: 1372 | Q20: 1197 | R20: 1368 | S20: 1020 | T20: 924 | U20: 1163
A22: ='PANEL DE CONTROL DISTRITAL'!A21 -> 5 | B22: ='PANEL DE CONTROL DISTRITAL'!B21 -> Conciliación de Credenciales para Votar. | C22: ='PANEL DE CONTROL DISTRITAL'!C21 -> Responsable de Módulo | D22: ='PANEL DE CONTROL DISTRITAL'!D21 -> Arqueo de credenciales. | E22: ='PANEL DE CONTROL DISTRITAL'!E21 -> (Credenciales disponibles (físicas) / Credenciales disponibles registradas en SIIRFE-MAC) x 100 | F22: ='PANEL DE CONTROL DISTRITAL'!F21 -> Semanal (remesa) | G22: ='PANEL DE CONTROL DISTRITAL'!G21 -> 1 | H22: ='PANEL DE CONTROL DISTRITAL'!H21 -> Credenciales disponibles (físicas) | I22: 983 | J22: 1742 | K22: 2284 | L22: 2398 | M22: 2371 | N22: 2449 | O22: 2476 | P22: 2512 | Q22: 2373 | R22: 2272 | S22: 2104 | T22: 1987 | U22: 2180 | V22: =IFERROR(SUM(I22:U22)/SUM(I23:U23),0) -> 1
H23: ='PANEL DE CONTROL DISTRITAL'!H22 -> Credenciales disponibles registradas en SIIRFE | I23: 983 | J23: 1742 | K23: 2284 | L23: 2398 | M23: 2371 | N23: 2449 | O23: 2476 | P23: 2512 | Q23: 2373 | R23: 2272 | S23: 2104 | T23: 1987 | U23: 2180
A25: ='PANEL DE CONTROL DISTRITAL'!A24 -> 6 | B25: ='PANEL DE CONTROL DISTRITAL'!B24 -> Entrega de la Credencial para Votar. | C25: ='PANEL DE CONTROL DISTRITAL'!C24 -> Operador de Equipo Tecnológico | D25: ='PANEL DE CONTROL DISTRITAL'!D24 -> Efectividad de entrega de CPV en MAC. | E25: ='PANEL DE CONTROL DISTRITAL'!E24 -> (Total de credenciales entregadas / Total de ciudadanas y ciudadanos que acuden al MAC a recoger su credencial) x 100 | F25: ='PANEL DE CONTROL DISTRITAL'!F24 -> Semanal (remesa) | G25: ='PANEL DE CONTROL DISTRITAL'!G24 -> 0.9 | H25: ='PANEL DE CONTROL DISTRITAL'!H24 -> Total de credenciales entregadas | I25: 30 | J25: 223 | K25: 936 | L25: 1239 | M25: 1273 | N25: 1250 | O25: 1259 | P25: 1336 | Q25: 1336 | R25: 1443 | S25: 1188 | T25: 1041 | U25: 970 | V25: =IFERROR(SUM(I25:U25)/SUM(I26:U26),0) -> 0.99985214
H26: ='PANEL DE CONTROL DISTRITAL'!H25 -> Total de ciudadanos que acuden a MAC a recoger su credencial | I26: 30 | J26: 223 | K26: 936 | L26: 1240 | M26: 1273 | N26: 1250 | O26: 1259 | P26: 1336 | Q26: 1336 | R26: 1443 | S26: 1188 | T26: 1041 | U26: 971
B27: *Registre el valor nominal solicitado en la celda, el resultado proporcional esta automatizado.
B34: CUADRO DE OBSERVACIONES
B35: Descripción | H35: No conformidad

Sheet 091251
A1: ='PANEL DE CONTROL DISTRITAL'!A1:Q1 -> INSTITUTO NACIONAL ELECTORAL SISTEMA DE GESTIÓN DE LA CALIDAD CIUDAD DE MÉXICO
D2: Distrito | E2: 12 | F2: Módulo | H2: 91251
A4: TABLERO DE CONTROL DE PROCESOS SUSTANTIVOS DEL SISTEMA DE GESTIÓN DE LA CALIDAD
A6: ='PANEL DE CONTROL DISTRITAL'!A6 -> Número | B6: ='PANEL DE CONTROL DISTRITAL'!B6 -> PROCESOS SUSTANTIVOS E INDICADORES | I6: SEMANA OPERATIVA | V6: % AVANCE REGISTRADO
B7: ='PANEL DE CONTROL DISTRITAL'!B7 -> DESCRIPCIÓN | E7: ='PANEL DE CONTROL DISTRITAL'!E7 -> MEDICIÓN | I7: CAMPAÑA ANUAL PERMANENTE 2024
B9: ='PANEL DE CONTROL DISTRITAL'!B8 -> Proceso | C9: ='PANEL DE CONTROL DISTRITAL'!C8 -> Dueño de Proceso | D9: ='PANEL DE CONTROL DISTRITAL'!D8 -> Indicador | E9: ='PANEL DE CONTROL DISTRITAL'!E8 -> Cálculo | F9: ='PANEL DE CONTROL DISTRITAL'!F8 -> Periodo | G9: ='PANEL DE CONTROL DISTRITAL'!G8 -> Estimado | H9: ='PANEL DE CONTROL DISTRITAL'!H8 -> Nominativo | I9: ='090151'!I9 -> 2024-28 | J9: ='090151'!J9 -> 2024-29 | K9: ='090151'!K9 -> 2024-30 | L9: ='090151'!L9 -> 2024-31 | M9: ='090151'!M9 -> 2024-32 | N9: ='090151'!N9 -> 2024-33 | O9: ='090151'!O9 -> 2024-34 | P9: ='090151'!P9 -> 2024-35 | ... U9: ='090151'!U9 -> 2024-40
A10: ='PANEL DE CONTROL DISTRITAL'!A9 -> 1 | B10: ='PANEL DE CONTROL DISTRITAL'!B9 -> Entrevista | C10: ='PANEL DE CONTROL DISTRITAL'!C9 -> Auxiliar de Atención Ciudadana | D10: ='PANEL DE CONTROL DISTRITAL'!D9 -> Fichas requisitadas correctamente. | E10: ='PANEL DE CONTROL DISTRITAL'!E9 -> (Fichas requisitadas correctamente / Fichas revisadas en la muestra del 10%) x 100 | F10: ='PANEL DE CONTROL DISTRITAL'!F9 -> Semanal (remesa) | G10: ='PANEL DE CONTROL DISTRITAL'!G9 -> 0.9 | H10: ='PANEL DE CONTROL DISTRITAL'!H9 -> Fichas requistadas correctamente | I10: 0 | J10: 128 | K10: 114 | L10: 105 | M10: 39 | N10: 101 | O10: 100 | P10: 112 | Q10: 109 | R10: 116 | S10: 112 | T10: 110 | U10: 122 | V10: =IFERROR(SUM(I10:U10)/SUM(I11:U11),0) -> 1
H11: ='PANEL DE CONTROL DISTRITAL'!H10 -> Fichas revisadas en la Muestra del 10% | I11: 0 | J11: 128 | K11: 114 | L11: 105 | M11: 39 | N11: 101 | O11: 100 | P11: 112 | Q11: 109 | R11: 116 | S11: 112 | T11: 110 | U11: 122
A13: ='PANEL DE CONTROL DISTRITAL'!A12 -> 2 | B13: ='PANEL DE CONTROL DISTRITAL'!B12 -> Trámite | C13: ='PANEL DE CONTROL DISTRITAL'!C12 -> Operador de Equipo Tecnológico | D13: ='PANEL DE CONTROL DISTRITAL'!D12 -> Trámites exitosos. | E13: ='PANEL DE CONTROL DISTRITAL'!E12 -> (Número de trámites exitosos / Número de trámites aplicados) x 100 | F13: ='PANEL DE CONTROL DISTRITAL'!F12 -> Semanal (remesa) | G13: ='PANEL DE CONTROL DISTRITAL'!G12 -> 0.9 | H13: ='PANEL DE CONTROL DISTRITAL'!H12 -> Número de trámites exitosos | I13: 0 | J13: 1208 | K13: 1088 | L13: 994 | M13: 373 | N13: 977 | O13: 962 | P13: 1059 | Q13: 1023 | R13: 1101 | S13: 1057 | T13: 1031 | U13: 825 | V13: =IFERROR(SUM(I13:U13)/SUM(I14:U14),0) -> 0.96853784
H14: ='PANEL DE CONTROL DISTRITAL'!H13 -> Número de trámites aplicados | I14: 0 | J14: 1214 | K14: 1090 | L14: 995 | M14: 375 | N14: 981 | O14: 967 | P14: 1063 | Q14: 1029 | R14: 1107 | S14: 1063 | T14: 1041 | U14: 1153
A16: ='PANEL DE CONTROL DISTRITAL'!A15 -> 3 | B16: ='PANEL DE CONTROL DISTRITAL'!B15 -> Transferencia de la Información. | C16: ='PANEL DE CONTROL DISTRITAL'!C15 -> Responsable de Módulo | D16: ='PANEL DE CONTROL DISTRITAL'!D15 -> Reenvíos exitosos. | E16: ='PANEL DE CONTROL DISTRITAL'!E15 -> (Ejecución de los scripts de reenvío de notificaciones / Solicitud de reenvíos de scripts requeridos) x100 | F16: ='PANEL DE CONTROL DISTRITAL'!F15 -> Semanal (remesa) | G16: ='PANEL DE CONTROL DISTRITAL'!G15 -> 1 | H16: ='PANEL DE CONTROL DISTRITAL'!H15 -> Ejecución de los scripts de reenvío de notificaciones | I16: 0 | J16: 0 | K16: 0 | L16: 0 | M16: 0 | N16: 0 | O16: 0 | P16: 0 | Q16: 0 | R16: 0 | S16: 0 | T16: 0 | U16: 0 | V16: =IFERROR(SUM(I16:U16)/SUM(I17:U17),1) -> 1
H17: ='PANEL DE CONTROL DISTRITAL'!H16 -> Solicitud de reevíos de scripts requeridos | I17: 0 | J17: 0 | K17: 0 | L17: 0 | M17: 0 | N17: 0 | O17: 0 | P17: 0 | Q17: 0 | R17: 0 | S17: 0 | T17: 0 | U17: 0
A19: ='PANEL DE CONTROL DISTRITAL'!A18 -> 4 | B19: ='PANEL DE CONTROL DISTRITAL'!B18 -> Conciliación de Credenciales para Votar. | C19: ='PANEL DE CONTROL DISTRITAL'!C18 -> Responsable de Módulo | D19: ='PANEL DE CONTROL DISTRITAL'!D18 -> Credenciales disponibles para entrega. | E19: ='PANEL DE CONTROL DISTRITAL'!E18 -> [(Credenciales recibidas - Credenciales inconsistentes) / Credenciales recibidas] x 100 | F19: ='PANEL DE CONTROL DISTRITAL'!F18 -> Semanal (remesa) | G19: ='PANEL DE CONTROL DISTRITAL'!G18 -> 0.9 | H19: ='PANEL DE CONTROL DISTRITAL'!H18 -> Credenciales Recibidas - Credenciales inconsistentes | I19: 0 | J19: 667 | K19: 1138 | L19: 830 | M19: 837 | N19: 711 | O19: 945 | P19: 1036 | Q19: 840 | R19: 1267 | S19: 1090 | T19: 1039 | U19: 1081 | V19: =IFERROR(SUM(I19:U19)/SUM(I20:U20),0) -> 1
H20: ='PANEL DE CONTROL DISTRITAL'!H19 -> Credenciales recibidas | I20: 0 | J20: 667 | K20: 1138 | L20: 830 | M20: 837 | N20: 711 | O20: 945 | P20: 1036 | Q20: 840 | R20: 1267 | S20: 1090 | T20: 1039 | U20: 1081
A22: ='PANEL DE CONTROL DISTRITAL'!A21 -> 5 | B22: ='PANEL DE CONTROL DISTRITAL'!B21 -> Conciliación de Credenciales para Votar. | C22: ='PANEL DE CONTROL DISTRITAL'!C21 -> Responsable de Módulo | D22: ='PANEL DE CONTROL DISTRITAL'!D21 -> Arqueo de credenciales. | E22: ='PANEL DE CONTROL DISTRITAL'!E21 -> (Credenciales disponibles (físicas) / Credenciales disponibles registradas en SIIRFE-MAC) x 100 | F22: ='PANEL DE CONTROL DISTRITAL'!F21 -> Semanal (remesa) | G22: ='PANEL DE CONTROL DISTRITAL'!G21 -> 1 | H22: ='PANEL DE CONTROL DISTRITAL'!H21 -> Credenciales disponibles (físicas) | I22: 588 | J22: 1201 | K22: 1656 | L22: 1522 | M22: 1721 | N22: 1593 | O22: 1753 | P22: 1866 | Q22: 1696 | R22: 1934 | S22: 1938 | T22: 1937 | U22: 2004 | V22: =IFERROR(SUM(I22:U22)/SUM(I23:U23),0) -> 1
H23: ='PANEL DE CONTROL DISTRITAL'!H22 -> Credenciales disponibles registradas en SIIRFE | I23: 588 | J23: 1201 | K23: 1656 | L23: 1522 | M23: 1721 | N23: 1593 | O23: 1753 | P23: 1866 | Q23: 1696 | R23: 1934 | S23: 1938 | T23: 1937 | U23: 2004
A25: ='PANEL DE CONTROL DISTRITAL'!A24 -> 6 | B25: ='PANEL DE CONTROL DISTRITAL'!B24 -> Entrega de la Credencial para Votar. | C25: ='PANEL DE CONTROL DISTRITAL'!C24 -> Operador de Equipo Tecnológico | D25: ='PANEL DE CONTROL DISTRITAL'!D24 -> Efectividad de entrega de CPV en MAC. | E25: ='PANEL DE CONTROL DISTRITAL'!E24 -> (Total de credenciales entregadas / Total de ciudadanas y ciudadanos que acuden al MAC a recoger su credencial) x 100 | F25: ='PANEL DE CONTROL DISTRITAL'!F24 -> Semanal (remesa) | G25: ='PANEL DE CONTROL DISTRITAL'!G24 -> 0.9 | H25: ='PANEL DE CONTROL DISTRITAL'!H24 -> Total de credenciales entregadas | I25: 0 | J25: 54 | K25: 683 | L25: 964 | M25: 592 | N25: 837 | O25: 785 | P25: 923 | Q25: 1010 | R25: 1006 | S25: 1086 | T25: 1040 | U25: 1014 | V25: =IFERROR(SUM(I25:U25)/SUM(I26:U26),0) -> 0.9977039
H26: ='PANEL DE CONTROL DISTRITAL'!H25 -> Total de ciudadanos que acuden a MAC a recoger su credencial | I26: 0 | J26: 54 | K26: 683 | L26: 964 | M26: 592 | N26: 837 | O26: 785 | P26: 927 | Q26: 1018 | R26: 1008 | S26: 1089 | T26: 1044 | U26: 1016
B27: *Registre el valor nominal solicitado en la celda, el resultado proporcional esta automatizado.
B34: CUADRO DE OBSERVACIONES
B35: Descripción | H35: No conformidad

Sheet 091252
A1: ='PANEL DE CONTROL DISTRITAL'!A1:Q1 -> INSTITUTO NACIONAL ELECTORAL SISTEMA DE GESTIÓN DE LA CALIDAD CIUDAD DE MÉXICO
D2: Distrito | E2: 12 | F2: Módulo | H2: 91252
A4: TABLERO DE CONTROL DE PROCESOS SUSTANTIVOS DEL SISTEMA DE GESTIÓN DE LA CALIDAD
A6: ='PANEL DE CONTROL DISTRITAL'!A6 -> Número | B6: ='PANEL DE CONTROL DISTRITAL'!B6 -> PROCESOS SUSTANTIVOS E INDICADORES | I6: SEMANA OPERATIVA | V6: % AVANCE REGISTRADO
B7: ='PANEL DE CONTROL DISTRITAL'!B7 -> DESCRIPCIÓN | E7: ='PANEL DE CONTROL DISTRITAL'!E7 -> MEDICIÓN | I7: CAMPAÑA ANUAL PERMANENTE 2024
B9: ='PANEL DE CONTROL DISTRITAL'!B8 -> Proceso | C9: ='PANEL DE CONTROL DISTRITAL'!C8 -> Dueño de Proceso | D9: ='PANEL DE CONTROL DISTRITAL'!D8 -> Indicador | E9: ='PANEL DE CONTROL DISTRITAL'!E8 -> Cálculo | F9: ='PANEL DE CONTROL DISTRITAL'!F8 -> Periodo | G9: ='PANEL DE CONTROL DISTRITAL'!G8 -> Estimado | H9: ='PANEL DE CONTROL DISTRITAL'!H8 -> Nominativo | I9: ='090151'!I9 -> 2024-28 | J9: ='090151'!J9 -> 2024-29 | K9: ='090151'!K9 -> 2024-30 | L9: ='090151'!L9 -> 2024-31 | M9: ='090151'!M9 -> 2024-32 | N9: ='090151'!N9 -> 2024-33 | O9: ='090151'!O9 -> 2024-34 | P9: ='090151'!P9 -> 2024-35 | ... U9: ='090151'!U9 -> 2024-40
A10: ='PANEL DE CONTROL DISTRITAL'!A9 -> 1 | B10: ='PANEL DE CONTROL DISTRITAL'!B9 -> Entrevista | C10: ='PANEL DE CONTROL DISTRITAL'!C9 -> Auxiliar de Atención Ciudadana | D10: ='PANEL DE CONTROL DISTRITAL'!D9 -> Fichas requisitadas correctamente. | E10: ='PANEL DE CONTROL DISTRITAL'!E9 -> (Fichas requisitadas correctamente / Fichas revisadas en la muestra del 10%) x 100 | F10: ='PANEL DE CONTROL DISTRITAL'!F9 -> Semanal (remesa) | G10: ='PANEL DE CONTROL DISTRITAL'!G9 -> 0.9 | H10: ='PANEL DE CONTROL DISTRITAL'!H9 -> Fichas requistadas correctamente | I10: 30 | J10: 77 | K10: 72 | L10: 68 | M10: 87 | N10: 76 | O10: 74 | P10: 76 | Q10: 71 | R10: 70 | S10: 72 | T10: 67 | U10: 62 | V10: =IFERROR(SUM(I10:U10)/SUM(I11:U11),0) -> 1
H11: ='PANEL DE CONTROL DISTRITAL'!H10 -> Fichas revisadas en la Muestra del 10% | I11: 30 | J11: 77 | K11: 72 | L11: 68 | M11: 87 | N11: 76 | O11: 74 | P11: 76 | Q11: 71 | R11: 70 | S11: 72 | T11: 67 | U11: 62
A13: ='PANEL DE CONTROL DISTRITAL'!A12 -> 2 | B13: ='PANEL DE CONTROL DISTRITAL'!B12 -> Trámite | C13: ='PANEL DE CONTROL DISTRITAL'!C12 -> Operador de Equipo Tecnológico | D13: ='PANEL DE CONTROL DISTRITAL'!D12 -> Trámites exitosos. | E13: ='PANEL DE CONTROL DISTRITAL'!E12 -> (Número de trámites exitosos / Número de trámites aplicados) x 100 | F13: ='PANEL DE CONTROL DISTRITAL'!F12 -> Semanal (remesa) | G13: ='PANEL DE CONTROL DISTRITAL'!G12 -> 0.9 | H13: ='PANEL DE CONTROL DISTRITAL'!H12 -> Número de trámites exitosos | I13: 287 | J13: 728 | K13: 681 | L13: 651 | M13: 822 | N13: 715 | O13: 699 | P13: 724 | Q13: 675 | R13: 658 | S13: 690 | T13: 633 | U13: 396 | V13: =IFERROR(SUM(I13:U13)/SUM(I14:U14),0) -> 0.97435599
H14: ='PANEL DE CONTROL DISTRITAL'!H13 -> Número de trámites aplicados | I14: 287 | J14: 730 | K14: 683 | L14: 652 | M14: 823 | N14: 715 | O14: 701 | P14: 728 | Q14: 678 | R14: 664 | S14: 693 | T14: 636 | U14: 589
A16: ='PANEL DE CONTROL DISTRITAL'!A15 -> 3 | B16: ='PANEL DE CONTROL DISTRITAL'!B15 -> Transferencia de la Información. | C16: ='PANEL DE CONTROL DISTRITAL'!C15 -> Responsable de Módulo | D16: ='PANEL DE CONTROL DISTRITAL'!D15 -> Reenvíos exitosos. | E16: ='PANEL DE CONTROL DISTRITAL'!E15 -> (Ejecución de los scripts de reenvío de notificaciones / Solicitud de reenvíos de scripts requeridos) x100 | F16: ='PANEL DE CONTROL DISTRITAL'!F15 -> Semanal (remesa) | G16: ='PANEL DE CONTROL DISTRITAL'!G15 -> 1 | H16: ='PANEL DE CONTROL DISTRITAL'!H15 -> Ejecución de los scripts de reenvío de notificaciones | I16: 0 | J16: 0 | K16: 0 | L16: 1 | M16: 0 | N16: 0 | O16: 0 | P16: 0 | Q16: 0 | R16: 0 | S16: 0 | T16: 0 | U16: 0 | V16: =IFERROR(SUM(I16:U16)/SUM(I17:U17),1) -> 1
H17: ='PANEL DE CONTROL DISTRITAL'!H16 -> Solicitud de reevíos de scripts requeridos | I17: 0 | J17: 0 | K17: 0 | L17: 1 | M17: 0 | N17: 0 | O17: 0 | P17: 0 | Q17: 0 | R17: 0 | S17: 0 | T17: 0 | U17: 0
A19: ='PANEL DE CONTROL DISTRITAL'!A18 -> 4 | B19: ='PANEL DE CONTROL DISTRITAL'!B18 -> Conciliación de Credenciales para Votar. | C19: ='PANEL DE CONTROL DISTRITAL'!C18 -> Responsable de Módulo | D19: ='PANEL DE CONTROL DISTRITAL'!D18 -> Credenciales disponibles para entrega. | E19: ='PANEL DE CONTROL DISTRITAL'!E18 -> [(Credenciales recibidas - Credenciales inconsistentes) / Credenciales recibidas] x 100 | F19: ='PANEL DE CONTROL DISTRITAL'!F18 -> Semanal (remesa) | G19: ='PANEL DE CONTROL DISTRITAL'!G18 -> 0.9 | H19: ='PANEL DE CONTROL DISTRITAL'!H18 -> Credenciales Recibidas - Credenciales inconsistentes | I19: 166 | J19: 509 | K19: 714 | L19: 662 | M19: 717 | N19: 812 | O19: 681 | P19: 714 | Q19: 579 | R19: 773 | S19: 655 | T19: 587 | U19: 683 | V19: =IFERROR(SUM(I19:U19)/SUM(I20:U20),0) -> 1
H20: ='PANEL DE CONTROL DISTRITAL'!H19 -> Credenciales recibidas | I20: 166 | J20: 509 | K20: 714 | L20: 662 | M20: 717 | N20: 812 | O20: 681 | P20: 714 | Q20: 579 | R20: 773 | S20: 655 | T20: 587 | U20: 683
A22: ='PANEL DE CONTROL DISTRITAL'!A21 -> 5 | B22: ='PANEL DE CONTROL DISTRITAL'!B21 -> Conciliación de Credenciales para Votar. | C22: ='PANEL DE CONTROL DISTRITAL'!C21 -> Responsable de Módulo | D22: ='PANEL DE CONTROL DISTRITAL'!D21 -> Arqueo de credenciales. | E22: ='PANEL DE CONTROL DISTRITAL'!E21 -> (Credenciales disponibles (físicas) / Credenciales disponibles registradas en SIIRFE-MAC) x 100 | F22: ='PANEL DE CONTROL DISTRITAL'!F21 -> Semanal (remesa) | G22: ='PANEL DE CONTROL DISTRITAL'!G21 -> 1 | H22: ='PANEL DE CONTROL DISTRITAL'!H21 -> Credenciales disponibles (físicas) | I22: 606 | J22: 988 | K22: 1044 | L22: 971 | M22: 1091 | N22: 1211 | O22: 1173 | P22: 1237 | Q22: 1074 | R22: 1166 | S22: 1146 | T22: 1053 | U22: 1261 | V22: =IFERROR(SUM(I22:U22)/SUM(I23:U23),0) -> 1
H23: ='PANEL DE CONTROL DISTRITAL'!H22 -> Credenciales disponibles registradas en SIIRFE | I23: 606 | J23: 988 | K23: 1044 | L23: 971 | M23: 1091 | N23: 1211 | O23: 1173 | P23: 1237 | Q23: 1074 | R23: 1166 | S23: 1146 | T23: 1053 | U23: 1261
A25: ='PANEL DE CONTROL DISTRITAL'!A24 -> 6 | B25: ='PANEL DE CONTROL DISTRITAL'!B24 -> Entrega de la Credencial para Votar. | C25: ='PANEL DE CONTROL DISTRITAL'!C24 -> Operador de Equipo Tecnológico | D25: ='PANEL DE CONTROL DISTRITAL'!D24 -> Efectividad de entrega de CPV en MAC. | E25: ='PANEL DE CONTROL DISTRITAL'!E24 -> (Total de credenciales entregadas / Total de ciudadanas y ciudadanos que acuden al MAC a recoger su credencial) x 100 | F25: ='PANEL DE CONTROL DISTRITAL'!F24 -> Semanal (remesa) | G25: ='PANEL DE CONTROL DISTRITAL'!G24 -> 0.9 | H25: ='PANEL DE CONTROL DISTRITAL'!H24 -> Total de credenciales entregadas | I25: 25 | J25: 127 | K25: 658 | L25: 735 | M25: 570 | N25: 691 | O25: 719 | P25: 650 | Q25: 742 | R25: 667 | S25: 675 | T25: 680 | U25: 475 | V25: =IFERROR(SUM(I25:U25)/SUM(I26:U26),0) -> 0.99959552
H26: ='PANEL DE CONTROL DISTRITAL'!H25 -> Total de ciudadanos que acuden a MAC a recoger su credencial | I26: 25 | J26: 127 | K26: 660 | L26: 736 | M26: 570 | N26: 691 | O26: 719 | P26: 650 | Q26: 742 | R26: 667 | S26: 675 | T26: 680 | U26: 475
B27: *Registre el valor nominal solicitado en la celda, el resultado proporcional esta automatizado.
B34: CUADRO DE OBSERVACIONES
B35: Descripción | H35: No conformidad

Sheet 091253
A1: ='PANEL DE CONTROL DISTRITAL'!A1:Q1 -> INSTITUTO NACIONAL ELECTORAL SISTEMA DE GESTIÓN DE LA CALIDAD CIUDAD DE MÉXICO
D2: Distrito | E2: 12 | F2: Módulo | H2: 91253
A4: TABLERO DE CONTROL DE PROCESOS SUSTANTIVOS DEL SISTEMA DE GESTIÓN DE LA CALIDAD
A6: ='PANEL DE CONTROL DISTRITAL'!A6 -> Número | B6: ='PANEL DE CONTROL DISTRITAL'!B6 -> PROCESOS SUSTANTIVOS E INDICADORES | I6: SEMANA OPERATIVA | V6: % AVANCE REGISTRADO
B7: ='PANEL DE CONTROL DISTRITAL'!B7 -> DESCRIPCIÓN | E7: ='PANEL DE CONTROL DISTRITAL'!E7 -> MEDICIÓN | I7: CAMPAÑA ANUAL PERMANENTE 2024
B9: ='PANEL DE CONTROL DISTRITAL'!B8 -> Proceso | C9: ='PANEL DE CONTROL DISTRITAL'!C8 -> Dueño de Proceso | D9: ='PANEL DE CONTROL DISTRITAL'!D8 -> Indicador | E9: ='PANEL DE CONTROL DISTRITAL'!E8 -> Cálculo | F9: ='PANEL DE CONTROL DISTRITAL'!F8 -> Periodo | G9: ='PANEL DE CONTROL DISTRITAL'!G8 -> Estimado | H9: ='PANEL DE CONTROL DISTRITAL'!H8 -> Nominativo | I9: ='090151'!I9 -> 2024-28 | J9: ='090151'!J9 -> 2024-29 | K9: ='090151'!K9 -> 2024-30 | L9: ='090151'!L9 -> 2024-31 | M9: ='090151'!M9 -> 2024-32 | N9: ='090151'!N9 -> 2024-33 | O9: ='090151'!O9 -> 2024-34 | P9: ='090151'!P9 -> 2024-35 | ... U9: ='090151'!U9 -> 2024-40
A10: ='PANEL DE CONTROL DISTRITAL'!A9 -> 1 | B10: ='PANEL DE CONTROL DISTRITAL'!B9 -> Entrevista | C10: ='PANEL DE CONTROL DISTRITAL'!C9 -> Auxiliar de Atención Ciudadana | D10: ='PANEL DE CONTROL DISTRITAL'!D9 -> Fichas requisitadas correctamente. | E10: ='PANEL DE CONTROL DISTRITAL'!E9 -> (Fichas requisitadas correctamente / Fichas revisadas en la muestra del 10%) x 100 | F10: ='PANEL DE CONTROL DISTRITAL'!F9 -> Semanal (remesa) | G10: ='PANEL DE CONTROL DISTRITAL'!G9 -> 0.9 | H10: ='PANEL DE CONTROL DISTRITAL'!H9 -> Fichas requistadas correctamente | I10: 40 | J10: 87 | K10: 85 | L10: 77 | M10: 81 | N10: 76 | O10: 71 | P10: 69 | Q10: 72 | R10: 67 | S10: 70 | T10: 73 | U10: 77 | V10: =IFERROR(SUM(I10:U10)/SUM(I11:U11),0) -> 1
H11: ='PANEL DE CONTROL DISTRITAL'!H10 -> Fichas revisadas en la Muestra del 10% | I11: 40 | J11: 87 | K11: 85 | L11: 77 | M11: 81 | N11: 76 | O11: 71 | P11: 69 | Q11: 72 | R11: 67 | S11: 70 | T11: 73 | U11: 77
A13: ='PANEL DE CONTROL DISTRITAL'!A12 -> 2 | B13: ='PANEL DE CONTROL DISTRITAL'!B12 -> Trámite | C13: ='PANEL DE CONTROL DISTRITAL'!C12 -> Operador de Equipo Tecnológico | D13: ='PANEL DE CONTROL DISTRITAL'!D12 -> Trámites exitosos. | E13: ='PANEL DE CONTROL DISTRITAL'!E12 -> (Número de trámites exitosos / Número de trámites aplicados) x 100 | F13: ='PANEL DE CONTROL DISTRITAL'!F12 -> Semanal (remesa) | G13: ='PANEL DE CONTROL DISTRITAL'!G12 -> 0.9 | H13: ='PANEL DE CONTROL DISTRITAL'!H12 -> Número de trámites exitosos | I13: 382 | J13: 819 | K13: 802 | L13: 728 | M13: 779 | N13: 728 | O13: 689 | P13: 660 | Q13: 693 | R13: 648 | S13: 654 | T13: 693 | U13: 524 | V13: =IFERROR(SUM(I13:U13)/SUM(I14:U14),0) -> 0.97087057
H14: ='PANEL DE CONTROL DISTRITAL'!H13 -> Número de trámites aplicados | I14: 388 | J14: 824 | K14: 805 | L14: 734 | M14: 780 | N14: 732 | O14: 691 | P14: 664 | Q14: 693 | R14: 652 | S14: 657 | T14: 699 | U14: 744
A16: ='PANEL DE CONTROL DISTRITAL'!A15 -> 3 | B16: ='PANEL DE CONTROL DISTRITAL'!B15 -> Transferencia de la Información. | C16: ='PANEL DE CONTROL DISTRITAL'!C15 -> Responsable de Módulo | D16: ='PANEL DE CONTROL DISTRITAL'!D15 -> Reenvíos exitosos. | E16: ='PANEL DE CONTROL DISTRITAL'!E15 -> (Ejecución de los scripts de reenvío de notificaciones / Solicitud de reenvíos de scripts requeridos) x100 | F16: ='PANEL DE CONTROL DISTRITAL'!F15 -> Semanal (remesa) | G16: ='PANEL DE CONTROL DISTRITAL'!G15 -> 1 | H16: ='PANEL DE CONTROL DISTRITAL'!H15 -> Ejecución de los scripts de reenvío de notificaciones | I16: 0 | J16: 0 | K16: 0 | L16: 0 | M16: 0 | N16: 0 | O16: 0 | P16: 0 | Q16: 0 | R16: 0 | S16: 0 | T16: 0 | U16: 0 | V16: =IFERROR(SUM(I16:U16)/SUM(I17:U17),1) -> 1
H17: ='PANEL DE CONTROL DISTRITAL'!H16 -> Solicitud de reevíos de scripts requeridos | I17: 0 | J17: 0 | K17: 0 | L17: 0 | M17: 0 | N17: 0 | O17: 0 | P17: 0 | Q17: 0 | R17: 0 | S17: 0 | T17: 0 | U17: 0
A19: ='PANEL DE CONTROL DISTRITAL'!A18 -> 4 | B19: ='PANEL DE CONTROL DISTRITAL'!B18 -> Conciliación de Credenciales para Votar. | C19: ='PANEL DE CONTROL DISTRITAL'!C18 -> Responsable de Módulo | D19: ='PANEL DE CONTROL DISTRITAL'!D18 -> Credenciales disponibles para entrega. | E19: ='PANEL DE CONTROL DISTRITAL'!E18 -> [(Credenciales recibidas - Credenciales inconsistentes) / Credenciales recibidas] x 100 | F19: ='PANEL DE CONTROL DISTRITAL'!F18 -> Semanal (remesa) | G19: ='PANEL DE CONTROL DISTRITAL'!G18 -> 0.9 | H19: ='PANEL DE CONTROL DISTRITAL'!H18 -> Credenciales Recibidas - Credenciales inconsistentes | I19: 202 | J19: 615 | K19: 816 | L19: 764 | M19: 715 | N19: 754 | O19: 704 | P19: 669 | Q19: 565 | R19: 794 | S19: 665 | T19: 679 | U19: 740 | V19: =IFERROR(SUM(I19:U19)/SUM(I20:U20),0) -> 1
H20: ='PANEL DE CONTROL DISTRITAL'!H19 -> Credenciales recibidas | I20: 202 | J20: 615 | K20: 816 | L20: 764 | M20: 715 | N20: 754 | O20: 704 | P20: 669 | Q20: 565 | R20: 794 | S20: 665 | T20: 679 | U20: 740
A22: ='PANEL DE CONTROL DISTRITAL'!A21 -> 5 | B22: ='PANEL DE CONTROL DISTRITAL'!B21 -> Conciliación de Credenciales para Votar. | C22: ='PANEL DE CONTROL DISTRITAL'!C21 -> Responsable de Módulo | D22: ='PANEL DE CONTROL DISTRITAL'!D21 -> Arqueo de credenciales. | E22: ='PANEL DE CONTROL DISTRITAL'!E21 -> (Credenciales disponibles (físicas) / Credenciales disponibles registradas en SIIRFE-MAC) x 100 | F22: ='PANEL DE CONTROL DISTRITAL'!F21 -> Semanal (remesa) | G22: ='PANEL DE CONTROL DISTRITAL'!G21 -> 1 | H22: ='PANEL DE CONTROL DISTRITAL'!H21 -> Credenciales disponibles (físicas) | I22: 595 | J22: 994 | K22: 1295 | L22: 1326 | M22: 1315 | N22: 1433 | O22: 1360 | P22: 1323 | Q22: 1276 | R22: 1340 | S22: 1331 | T22: 1330 | U22: 1403 | V22: =IFERROR(SUM(I22:U22)/SUM(I23:U23),0) -> 1
H23: ='PANEL DE CONTROL DISTRITAL'!H22 -> Credenciales disponibles registradas en SIIRFE | I23: 595 | J23: 994 | K23: 1295 | L23: 1326 | M23: 1315 | N23: 1433 | O23: 1360 | P23: 1323 | Q23: 1276 | R23: 1340 | S23: 1331 | T23: 1330 | U23: 1403
A25: ='PANEL DE CONTROL DISTRITAL'!A24 -> 6 | B25: ='PANEL DE CONTROL DISTRITAL'!B24 -> Entrega de la Credencial para Votar. | C25: ='PANEL DE CONTROL DISTRITAL'!C24 -> Operador de Equipo Tecnológico | D25: ='PANEL DE CONTROL DISTRITAL'!D24 -> Efectividad de entrega de CPV en MAC. | E25: ='PANEL DE CONTROL DISTRITAL'!E24 -> (Total de credenciales entregadas / Total de ciudadanas y ciudadanos que acuden al MAC a recoger su credencial) x 100 | F25: ='PANEL DE CONTROL DISTRITAL'!F24 -> Semanal (remesa) | G25: ='PANEL DE CONTROL DISTRITAL'!G24 -> 0.9 | H25: ='PANEL DE CONTROL DISTRITAL'!H24 -> Total de credenciales entregadas | I25: 17 | J25: 216 | K25: 515 | L25: 733 | M25: 687 | N25: 635 | O25: 778 | P25: 706 | Q25: 612 | R25: 713 | S25: 674 | T25: 679 | U25: 667 | V25: =IFERROR(SUM(I25:U25)/SUM(I26:U26),0) -> 0.99660486
H26: ='PANEL DE CONTROL DISTRITAL'!H25 -> Total de ciudadanos que acuden a MAC a recoger su credencial | I26: 17 | J26: 216 | K26: 515 | L26: 733 | M26: 687 | N26: 638 | O26: 778 | P26: 707 | Q26: 612 | R26: 722 | S26: 681 | T26: 685 | U26: 667
B27: *Registre el valor nominal solicitado en la celda, el resultado proporcional esta automatizado.
B34: CUADRO DE OBSERVACIONES
B35: Descripción | H35: No conformidad

Sheet 091351
A1: ='PANEL DE CONTROL DISTRITAL'!A1:Q1 -> INSTITUTO NACIONAL ELECTORAL SISTEMA DE GESTIÓN DE LA CALIDAD CIUDAD DE MÉXICO
D2: Distrito | E2: 13 | F2: Módulo | H2: 91351
A4: TABLERO DE CONTROL DE PROCESOS SUSTANTIVOS DEL SISTEMA DE GESTIÓN DE LA CALIDAD
A6: ='PANEL DE CONTROL DISTRITAL'!A6 -> Número | B6: ='PANEL DE CONTROL DISTRITAL'!B6 -> PROCESOS SUSTANTIVOS E INDICADORES | I6: SEMANA OPERATIVA | V6: % AVANCE REGISTRADO
B7: ='PANEL DE CONTROL DISTRITAL'!B7 -> DESCRIPCIÓN | E7: ='PANEL DE CONTROL DISTRITAL'!E7 -> MEDICIÓN | I7: CAMPAÑA ANUAL PERMANENTE 2024
B9: ='PANEL DE CONTROL DISTRITAL'!B8 -> Proceso | C9: ='PANEL DE CONTROL DISTRITAL'!C8 -> Dueño de Proceso | D9: ='PANEL DE CONTROL DISTRITAL'!D8 -> Indicador | E9: ='PANEL DE CONTROL DISTRITAL'!E8 -> Cálculo | F9: ='PANEL DE CONTROL DISTRITAL'!F8 -> Periodo | G9: ='PANEL DE CONTROL DISTRITAL'!G8 -> Estimado | H9: ='PANEL DE CONTROL DISTRITAL'!H8 -> Nominativo | I9: ='090151'!I9 -> 2024-28 | J9: ='090151'!J9 -> 2024-29 | K9: ='090151'!K9 -> 2024-30 | L9: ='090151'!L9 -> 2024-31 | M9: ='090151'!M9 -> 2024-32 | N9: ='090151'!N9 -> 2024-33 | O9: ='090151'!O9 -> 2024-34 | P9: ='090151'!P9 -> 2024-35 | ... U9: ='090151'!U9 -> 2024-40
A10: ='PANEL DE CONTROL DISTRITAL'!A9 -> 1 | B10: ='PANEL DE CONTROL DISTRITAL'!B9 -> Entrevista | C10: ='PANEL DE CONTROL DISTRITAL'!C9 -> Auxiliar de Atención Ciudadana | D10: ='PANEL DE CONTROL DISTRITAL'!D9 -> Fichas requisitadas correctamente. | E10: ='PANEL DE CONTROL DISTRITAL'!E9 -> (Fichas requisitadas correctamente / Fichas revisadas en la muestra del 10%) x 100 | F10: ='PANEL DE CONTROL DISTRITAL'!F9 -> Semanal (remesa) | G10: ='PANEL DE CONTROL DISTRITAL'!G9 -> 0.9 | H10: ='PANEL DE CONTROL DISTRITAL'!H9 -> Fichas requistadas correctamente | I10: 13 | J10: 107 | K10: 107 | L10: 101 | M10: 105 | N10: 106 | O10: 103 | P10: 98 | Q10: 103 | R10: 99 | S10: 103 | T10: 101 | U10: 99 | V10: =IFERROR(SUM(I10:U10)/SUM(I11:U11),0) -> 1
H11: ='PANEL DE CONTROL DISTRITAL'!H10 -> Fichas revisadas en la Muestra del 10% | I11: 13 | J11: 107 | K11: 107 | L11: 101 | M11: 105 | N11: 106 | O11: 103 | P11: 98 | Q11: 103 | R11: 99 | S11: 103 | T11: 101 | U11: 99
A12: 0
A13: ='PANEL DE CONTROL DISTRITAL'!A12 -> 2 | B13: ='PANEL DE CONTROL DISTRITAL'!B12 -> Trámite | C13: ='PANEL DE CONTROL DISTRITAL'!C12 -> Operador de Equipo Tecnológico | D13: ='PANEL DE CONTROL DISTRITAL'!D12 -> Trámites exitosos. | E13: ='PANEL DE CONTROL DISTRITAL'!E12 -> (Número de trámites exitosos / Número de trámites aplicados) x 100 | F13: ='PANEL DE CONTROL DISTRITAL'!F12 -> Semanal (remesa) | G13: ='PANEL DE CONTROL DISTRITAL'!G12 -> 0.9 | H13: ='PANEL DE CONTROL DISTRITAL'!H12 -> Número de trámites exitosos | I13: 125 | J13: 1049 | K13: 1059 | L13: 978 | M13: 1015 | N13: 1029 | O13: 1004 | P13: 966 | Q13: 1012 | R13: 969 | S13: 1004 | T13: 979 | U13: 702 | V13: =IFERROR(SUM(I13:U13)/SUM(I14:U14),0) -> 0.97427284
H14: ='PANEL DE CONTROL DISTRITAL'!H13 -> Número de trámites aplicados | I14: 125 | J14: 1051 | K14: 1062 | L14: 980 | M14: 1018 | N14: 1030 | O14: 1006 | P14: 969 | Q14: 1016 | R14: 972 | S14: 1009 | T14: 985 | U14: 982
A16: ='PANEL DE CONTROL DISTRITAL'!A15 -> 3 | B16: ='PANEL DE CONTROL DISTRITAL'!B15 -> Transferencia de la Información. | C16: ='PANEL DE CONTROL DISTRITAL'!C15 -> Responsable de Módulo | D16: ='PANEL DE CONTROL DISTRITAL'!D15 -> Reenvíos exitosos. | E16: ='PANEL DE CONTROL DISTRITAL'!E15 -> (Ejecución de los scripts de reenvío de notificaciones / Solicitud de reenvíos de scripts requeridos) x100 | F16: ='PANEL DE CONTROL DISTRITAL'!F15 -> Semanal (remesa) | G16: ='PANEL DE CONTROL DISTRITAL'!G15 -> 1 | H16: ='PANEL DE CONTROL DISTRITAL'!H15 -> Ejecución de los scripts de reenvío de notificaciones | I16: 0 | J16: 0 | K16: 0 | L16: 0 | M16: 0 | N16: 0 | O16: 0 | P16: 0 | Q16: 0 | R16: 0 | S16: 0 | T16: 0 | U16: 0 | V16: =IFERROR(SUM(I16:U16)/SUM(I17:U17),1) -> 1
H17: ='PANEL DE CONTROL DISTRITAL'!H16 -> Solicitud de reevíos de scripts requeridos | I17: 0 | J17: 0 | K17: 0 | L17: 0 | M17: 0 | N17: 0 | O17: 0 | P17: 0 | Q17: 0 | R17: 0 | S17: 0 | T17: 0 | U17: 0
A19: ='PANEL DE CONTROL DISTRITAL'!A18 -> 4 | B19: ='PANEL DE CONTROL DISTRITAL'!B18 -> Conciliación de Credenciales para Votar. | C19: ='PANEL DE CONTROL DISTRITAL'!C18 -> Responsable de Módulo | D19: ='PANEL DE CONTROL DISTRITAL'!D18 -> Credenciales disponibles para entrega. | E19: ='PANEL DE CONTROL DISTRITAL'!E18 -> [(Credenciales recibidas - Credenciales inconsistentes) / Credenciales recibidas] x 100 | F19: ='PANEL DE CONTROL DISTRITAL'!F18 -> Semanal (remesa) | G19: ='PANEL DE CONTROL DISTRITAL'!G18 -> 0.9 | H19: ='PANEL DE CONTROL DISTRITAL'!H18 -> Credenciales Recibidas - Credenciales inconsistentes | I19: 0 | J19: 680 | K19: 1072 | L19: 1004 | M19: 990 | N19: 1030 | O19: 1049 | P19: 969 | Q19: 787 | R19: 1140 | S19: 1033 | T19: 970 | U19: 1022 | V19: =IFERROR(SUM(I19:U19)/SUM(I20:U20),0) -> 1
H20: ='PANEL DE CONTROL DISTRITAL'!H19 -> Credenciales recibidas | I20: 0 | J20: 680 | K20: 1072 | L20: 1004 | M20: 990 | N20: 1030 | O20: 1049 | P20: 969 | Q20: 787 | R20: 1140 | S20: 1033 | T20: 970 | U20: 1022
A22: ='PANEL DE CONTROL DISTRITAL'!A21 -> 5 | B22: ='PANEL DE CONTROL DISTRITAL'!B21 -> Conciliación de Credenciales para Votar. | C22: ='PANEL DE CONTROL DISTRITAL'!C21 -> Responsable de Módulo | D22: ='PANEL DE CONTROL DISTRITAL'!D21 -> Arqueo de credenciales. | E22: ='PANEL DE CONTROL DISTRITAL'!E21 -> (Credenciales disponibles (físicas) / Credenciales disponibles registradas en SIIRFE-MAC) x 100 | F22: ='PANEL DE CONTROL DISTRITAL'!F21 -> Semanal (remesa) | G22: ='PANEL DE CONTROL DISTRITAL'!G21 -> 1 | H22: ='PANEL DE CONTROL DISTRITAL'!H21 -> Credenciales disponibles (físicas) | I22: 558 | J22: 1182 | K22: 1585 | L22: 1652 | M22: 1677 | N22: 1714 | O22: 1822 | P22: 1762 | Q22: 1616 | R22: 1789 | S22: 1849 | T22: 1848 | U22: 1903 | V22: =IFERROR(SUM(I22:U22)/SUM(I23:U23),0) -> 1
H23: ='PANEL DE CONTROL DISTRITAL'!H22 -> Credenciales disponibles registradas en SIIRFE | I23: 558 | J23: 1182 | K23: 1585 | L23: 1652 | M23: 1677 | N23: 1714 | O23: 1822 | P23: 1762 | Q23: 1616 | R23: 1789 | S23: 1849 | T23: 1848 | U23: 1903
A25: ='PANEL DE CONTROL DISTRITAL'!A24 -> 6 | B25: ='PANEL DE CONTROL DISTRITAL'!B24 -> Entrega de la Credencial para Votar. | C25: ='PANEL DE CONTROL DISTRITAL'!C24 -> Operador de Equipo Tecnológico | D25: ='PANEL DE CONTROL DISTRITAL'!D24 -> Efectividad de entrega de CPV en MAC. | E25: ='PANEL DE CONTROL DISTRITAL'!E24 -> (Total de credenciales entregadas / Total de ciudadanas y ciudadanos que acuden al MAC a recoger su credencial) x 100 | F25: ='PANEL DE CONTROL DISTRITAL'!F24 -> Semanal (remesa) | G25: ='PANEL DE CONTROL DISTRITAL'!G24 -> 0.9 | H25: ='PANEL DE CONTROL DISTRITAL'!H24 -> Total de credenciales entregadas | I25: 6 | J25: 56 | K25: 669 | L25: 937 | M25: 919 | N25: 993 | O25: 941 | P25: 1029 | Q25: 933 | R25: 954 | S25: 973 | T25: 971 | U25: 967 | V25: =IFERROR(SUM(I25:U25)/SUM(I26:U26),0) -> 0.99855254
H26: ='PANEL DE CONTROL DISTRITAL'!H25 -> Total de ciudadanos que acuden a MAC a recoger su credencial | I26: 6 | J26: 57 | K26: 670 | L26: 939 | M26: 921 | N26: 994 | O26: 943 | P26: 1029 | Q26: 937 | R26: 954 | S26: 974 | T26: 971 | U26: 968
B27: *Registre el valor nominal solicitado en la celda, el resultado proporcional esta automatizado.
B34: CUADRO DE OBSERVACIONES
B35: Descripción | H35: No conformidad

Sheet 091451
A1: ='PANEL DE CONTROL DISTRITAL'!A1:Q1 -> INSTITUTO NACIONAL ELECTORAL SISTEMA DE GESTIÓN DE LA CALIDAD CIUDAD DE MÉXICO
D2: Distrito | E2: 14 | F2: Módulo | H2: 91452
A4: TABLERO DE CONTROL DE PROCESOS SUSTANTIVOS DEL SISTEMA DE GESTIÓN DE LA CALIDAD
A6: ='PANEL DE CONTROL DISTRITAL'!A6 -> Número | B6: ='PANEL DE CONTROL DISTRITAL'!B6 -> PROCESOS SUSTANTIVOS E INDICADORES | I6: SEMANA OPERATIVA | V6: % AVANCE REGISTRADO
B7: ='PANEL DE CONTROL DISTRITAL'!B7 -> DESCRIPCIÓN | E7: ='PANEL DE CONTROL DISTRITAL'!E7 -> MEDICIÓN | I7: CAMPAÑA ANUAL PERMANENTE 2024
B9: ='PANEL DE CONTROL DISTRITAL'!B8 -> Proceso | C9: ='PANEL DE CONTROL DISTRITAL'!C8 -> Dueño de Proceso | D9: ='PANEL DE CONTROL DISTRITAL'!D8 -> Indicador | E9: ='PANEL DE CONTROL DISTRITAL'!E8 -> Cálculo | F9: ='PANEL DE CONTROL DISTRITAL'!F8 -> Periodo | G9: ='PANEL DE CONTROL DISTRITAL'!G8 -> Estimado | H9: ='PANEL DE CONTROL DISTRITAL'!H8 -> Nominativo | I9: ='090151'!I9 -> 2024-28 | J9: ='090151'!J9 -> 2024-29 | K9: ='090151'!K9 -> 2024-30 | L9: ='090151'!L9 -> 2024-31 | M9: ='090151'!M9 -> 2024-32 | N9: ='090151'!N9 -> 2024-33 | O9: ='090151'!O9 -> 2024-34 | P9: ='090151'!P9 -> 2024-35 | ... U9: ='090151'!U9 -> 2024-40
A10: ='PANEL DE CONTROL DISTRITAL'!A9 -> 1 | B10: ='PANEL DE CONTROL DISTRITAL'!B9 -> Entrevista | C10: ='PANEL DE CONTROL DISTRITAL'!C9 -> Auxiliar de Atención Ciudadana | D10: ='PANEL DE CONTROL DISTRITAL'!D9 -> Fichas requisitadas correctamente. | E10: ='PANEL DE CONTROL DISTRITAL'!E9 -> (Fichas requisitadas correctamente / Fichas revisadas en la muestra del 10%) x 100 | F10: ='PANEL DE CONTROL DISTRITAL'!F9 -> Semanal (remesa) | G10: ='PANEL DE CONTROL DISTRITAL'!G9 -> 0.9 | H10: ='PANEL DE CONTROL DISTRITAL'!H9 -> Fichas requistadas correctamente | I10: 31 | J10: 76 | K10: 73 | L10: 72 | M10: 69 | N10: 71 | O10: 72 | P10: 70 | Q10: 70 | R10: 75 | S10: 74 | T10: 74 | U10: 67 | V10: =IFERROR(SUM(I10:U10)/SUM(I11:U11),0) -> 1
H11: ='PANEL DE CONTROL DISTRITAL'!H10 -> Fichas revisadas en la Muestra del 10% | I11: 31 | J11: 76 | K11: 73 | L11: 72 | M11: 69 | N11: 71 | O11: 72 | P11: 70 | Q11: 70 | R11: 75 | S11: 74 | T11: 74 | U11: 67
A13: ='PANEL DE CONTROL DISTRITAL'!A12 -> 2 | B13: ='PANEL DE CONTROL DISTRITAL'!B12 -> Trámite | C13: ='PANEL DE CONTROL DISTRITAL'!C12 -> Operador de Equipo Tecnológico | D13: ='PANEL DE CONTROL DISTRITAL'!D12 -> Trámites exitosos. | E13: ='PANEL DE CONTROL DISTRITAL'!E12 -> (Número de trámites exitosos / Número de trámites aplicados) x 100 | F13: ='PANEL DE CONTROL DISTRITAL'!F12 -> Semanal (remesa) | G13: ='PANEL DE CONTROL DISTRITAL'!G12 -> 0.9 | H13: ='PANEL DE CONTROL DISTRITAL'!H12 -> Número de trámites exitosos | I13: 310 | J13: 754 | K13: 730 | L13: 720 | M13: 690 | N13: 710 | O13: 721 | P13: 698 | Q13: 695 | R13: 742 | S13: 676 | T13: 738 | U13: 447 | V13: =IFERROR(SUM(I13:U13)/SUM(I14:U14),0) -> 0.99861159
H14: ='PANEL DE CONTROL DISTRITAL'!H13 -> Número de trámites aplicados | I14: 311 | J14: 755 | K14: 731 | L14: 721 | M14: 690 | N14: 710 | O14: 723 | P14: 699 | Q14: 693 | R14: 746 | S14: 678 | T14: 738 | U14: 448
A16: ='PANEL DE CONTROL DISTRITAL'!A15 -> 3 | B16: ='PANEL DE CONTROL DISTRITAL'!B15 -> Transferencia de la Información. | C16: ='PANEL DE CONTROL DISTRITAL'!C15 -> Responsable de Módulo | D16: ='PANEL DE CONTROL DISTRITAL'!D15 -> Reenvíos exitosos. | E16: ='PANEL DE CONTROL DISTRITAL'!E15 -> (Ejecución de los scripts de reenvío de notificaciones / Solicitud de reenvíos de scripts requeridos) x100 | F16: ='PANEL DE CONTROL DISTRITAL'!F15 -> Semanal (remesa) | G16: ='PANEL DE CONTROL DISTRITAL'!G15 -> 1 | H16: ='PANEL DE CONTROL DISTRITAL'!H15 -> Ejecución de los scripts de reenvío de notificaciones | I16: 0 | J16: 0 | K16: 0 | L16: 0 | M16: 0 | N16: 0 | O16: 0 | P16: 0 | Q16: 0 | R16: 0 | S16: 0 | T16: 0 | U16: 0 | V16: =IFERROR(SUM(I16:U16)/SUM(I17:U17),1) -> 1
H17: ='PANEL DE CONTROL DISTRITAL'!H16 -> Solicitud de reevíos de scripts requeridos | I17: 0 | J17: 0 | K17: 0 | L17: 0 | M17: 0 | N17: 0 | O17: 0 | P17: 0 | Q17: 0 | R17: 0 | S17: 0 | T17: 0 | U17: 0
A19: ='PANEL DE CONTROL DISTRITAL'!A18 -> 4 | B19: ='PANEL DE CONTROL DISTRITAL'!B18 -> Conciliación de Credenciales para Votar. | C19: ='PANEL DE CONTROL DISTRITAL'!C18 -> Responsable de Módulo | D19: ='PANEL DE CONTROL DISTRITAL'!D18 -> Credenciales disponibles para entrega. | E19: ='PANEL DE CONTROL DISTRITAL'!E18 -> [(Credenciales recibidas - Credenciales inconsistentes) / Credenciales recibidas] x 100 | F19: ='PANEL DE CONTROL DISTRITAL'!F18 -> Semanal (remesa) | G19: ='PANEL DE CONTROL DISTRITAL'!G18 -> 0.9 | H19: ='PANEL DE CONTROL DISTRITAL'!H18 -> Credenciales Recibidas - Credenciales inconsistentes | I19: 178 | J19: 534 | K19: 728 | L19: 745 | M19: 670 | N19: 740 | O19: 710 | P19: 698 | Q19: 569 | R19: 842 | S19: 703 | T19: 698 | U19: 706 | V19: =IFERROR(SUM(I19:U19)/SUM(I20:U20),0) -> 1
H20: ='PANEL DE CONTROL DISTRITAL'!H19 -> Credenciales recibidas | I20: 178 | J20: 534 | K20: 728 | L20: 745 | M20: 670 | N20: 740 | O20: 710 | P20: 698 | Q20: 569 | R20: 842 | S20: 703 | T20: 698 | U20: 706
A22: ='PANEL DE CONTROL DISTRITAL'!A21 -> 5 | B22: ='PANEL DE CONTROL DISTRITAL'!B21 -> Conciliación de Credenciales para Votar. | C22: ='PANEL DE CONTROL DISTRITAL'!C21 -> Responsable de Módulo | D22: ='PANEL DE CONTROL DISTRITAL'!D21 -> Arqueo de credenciales. | E22: ='PANEL DE CONTROL DISTRITAL'!E21 -> (Credenciales disponibles (físicas) / Credenciales disponibles registradas en SIIRFE-MAC) x 100 | F22: ='PANEL DE CONTROL DISTRITAL'!F21 -> Semanal (remesa) | G22: ='PANEL DE CONTROL DISTRITAL'!G21 -> 1 | H22: ='PANEL DE CONTROL DISTRITAL'!H21 -> Credenciales disponibles (físicas) | I22: 402 | J22: 777 | K22: 967 | L22: 1048 | M22: 1046 | N22: 1125 | O22: 1094 | P22: 1094 | Q22: 935 | R22: 1111 | S22: 1083 | T22: 1079 | U22: 1130 | V22: =IFERROR(SUM(I22:U22)/SUM(I23:U23),0) -> 1
H23: ='PANEL DE CONTROL DISTRITAL'!H22 -> Credenciales disponibles registradas en SIIRFE | I23: 402 | J23: 777 | K23: 967 | L23: 1048 | M23: 1046 | N23: 1125 | O23: 1094 | P23: 1094 | Q23: 935 | R23: 1111 | S23: 1083 | T23: 1079 | U23: 1130
A25: ='PANEL DE CONTROL DISTRITAL'!A24 -> 6 | B25: ='PANEL DE CONTROL DISTRITAL'!B24 -> Entrega de la Credencial para Votar. | C25: ='PANEL DE CONTROL DISTRITAL'!C24 -> Operador de Equipo Tecnológico | D25: ='PANEL DE CONTROL DISTRITAL'!D24 -> Efectividad de entrega de CPV en MAC. | E25: ='PANEL DE CONTROL DISTRITAL'!E24 -> (Total de credenciales entregadas / Total de ciudadanas y ciudadanos que acuden al MAC a recoger su credencial) x 100 | F25: ='PANEL DE CONTROL DISTRITAL'!F24 -> Semanal (remesa) | G25: ='PANEL DE CONTROL DISTRITAL'!G24 -> 0.9 | H25: ='PANEL DE CONTROL DISTRITAL'!H24 -> Total de credenciales entregadas | I25: 14 | J25: 159 | K25: 538 | L25: 664 | M25: 652 | N25: 661 | O25: 741 | P25: 698 | Q25: 728 | R25: 656 | S25: 731 | T25: 702 | U25: 655 | V25: =IFERROR(SUM(I25:U25)/SUM(I26:U26),0) -> 1
H26: ='PANEL DE CONTROL DISTRITAL'!H25 -> Total de ciudadanos que acuden a MAC a recoger su credencial | I26: 14 | J26: 159 | K26: 538 | L26: 664 | M26: 652 | N26: 661 | O26: 741 | P26: 698 | Q26: 728 | R26: 656 | S26: 731 | T26: 702 | U26: 655
B27: *Registre el valor nominal solicitado en la celda, el resultado proporcional esta automatizado.
B34: CUADRO DE OBSERVACIONES
B35: Descripción | H35: No conformidad

Sheet 091551
A1: ='PANEL DE CONTROL DISTRITAL'!A1:Q1 -> INSTITUTO NACIONAL ELECTORAL SISTEMA DE GESTIÓN DE LA CALIDAD CIUDAD DE MÉXICO
D2: Distrito | E2: 15 | F2: Módulo | H2: 91551
A4: TABLERO DE CONTROL DE PROCESOS SUSTANTIVOS DEL SISTEMA DE GESTIÓN DE LA CALIDAD
A6: ='PANEL DE CONTROL DISTRITAL'!A6 -> Número | B6: ='PANEL DE CONTROL DISTRITAL'!B6 -> PROCESOS SUSTANTIVOS E INDICADORES | I6: SEMANA OPERATIVA | V6: % AVANCE REGISTRADO
B7: ='PANEL DE CONTROL DISTRITAL'!B7 -> DESCRIPCIÓN | E7: ='PANEL DE CONTROL DISTRITAL'!E7 -> MEDICIÓN | I7: CAMPAÑA ANUAL PERMANENTE 2024
B9: ='PANEL DE CONTROL DISTRITAL'!B8 -> Proceso | C9: ='PANEL DE CONTROL DISTRITAL'!C8 -> Dueño de Proceso | D9: ='PANEL DE CONTROL DISTRITAL'!D8 -> Indicador | E9: ='PANEL DE CONTROL DISTRITAL'!E8 -> Cálculo | F9: ='PANEL DE CONTROL DISTRITAL'!F8 -> Periodo | G9: ='PANEL DE CONTROL DISTRITAL'!G8 -> Estimado | H9: ='PANEL DE CONTROL DISTRITAL'!H8 -> Nominativo | I9: ='090151'!I9 -> 2024-28 | J9: ='090151'!J9 -> 2024-29 | K9: ='090151'!K9 -> 2024-30 | L9: ='090151'!L9 -> 2024-31 | M9: ='090151'!M9 -> 2024-32 | N9: ='090151'!N9 -> 2024-33 | O9: ='090151'!O9 -> 2024-34 | P9: ='090151'!P9 -> 2024-35 | ... U9: ='090151'!U9 -> 2024-40
A10: ='PANEL DE CONTROL DISTRITAL'!A9 -> 1 | B10: ='PANEL DE CONTROL DISTRITAL'!B9 -> Entrevista | C10: ='PANEL DE CONTROL DISTRITAL'!C9 -> Auxiliar de Atención Ciudadana | D10: ='PANEL DE CONTROL DISTRITAL'!D9 -> Fichas requisitadas correctamente. | E10: ='PANEL DE CONTROL DISTRITAL'!E9 -> (Fichas requisitadas correctamente / Fichas revisadas en la muestra del 10%) x 100 | F10: ='PANEL DE CONTROL DISTRITAL'!F9 -> Semanal (remesa) | G10: ='PANEL DE CONTROL DISTRITAL'!G9 -> 0.9 | H10: ='PANEL DE CONTROL DISTRITAL'!H9 -> Fichas requistadas correctamente | I10: 42 | J10: 120 | K10: 106 | L10: 108 | M10: 107 | N10: 113 | O10: 112 | P10: 110 | Q10: 114 | R10: 113 | S10: 108 | T10: 108 | U10: 108 | V10: =IFERROR(SUM(I10:U10)/SUM(I11:U11),0) -> 1
H11: ='PANEL DE CONTROL DISTRITAL'!H10 -> Fichas revisadas en la Muestra del 10% | I11: 42 | J11: 120 | K11: 106 | L11: 108 | M11: 107 | N11: 113 | O11: 112 | P11: 110 | Q11: 114 | R11: 113 | S11: 108 | T11: 108 | U11: 108
A13: ='PANEL DE CONTROL DISTRITAL'!A12 -> 2 | B13: ='PANEL DE CONTROL DISTRITAL'!B12 -> Trámite | C13: ='PANEL DE CONTROL DISTRITAL'!C12 -> Operador de Equipo Tecnológico | D13: ='PANEL DE CONTROL DISTRITAL'!D12 -> Trámites exitosos. | E13: ='PANEL DE CONTROL DISTRITAL'!E12 -> (Número de trámites exitosos / Número de trámites aplicados) x 100 | F13: ='PANEL DE CONTROL DISTRITAL'!F12 -> Semanal (remesa) | G13: ='PANEL DE CONTROL DISTRITAL'!G12 -> 0.9 | H13: ='PANEL DE CONTROL DISTRITAL'!H12 -> Número de trámites exitosos | I13: 415 | J13: 1176 | K13: 1053 | L13: 1059 | M13: 1056 | N13: 1114 | O13: 1111 | P13: 1086 | Q13: 1131 | R13: 1128 | S13: 1071 | T13: 1075 | U13: 1072 | V13: =IFERROR(SUM(I13:U13)/SUM(I14:U14),0) -> 0.99779038
H14: ='PANEL DE CONTROL DISTRITAL'!H13 -> Número de trámites aplicados | I14: 417 | J14: 1178 | K14: 1053 | L14: 1062 | M14: 1057 | N14: 1117 | O14: 1115 | P14: 1088 | Q14: 1135 | R14: 1129 | S14: 1075 | T14: 1077 | U14: 1074
A16: ='PANEL DE CONTROL DISTRITAL'!A15 -> 3 | B16: ='PANEL DE CONTROL DISTRITAL'!B15 -> Transferencia de la Información. | C16: ='PANEL DE CONTROL DISTRITAL'!C15 -> Responsable de Módulo | D16: ='PANEL DE CONTROL DISTRITAL'!D15 -> Reenvíos exitosos. | E16: ='PANEL DE CONTROL DISTRITAL'!E15 -> (Ejecución de los scripts de reenvío de notificaciones / Solicitud de reenvíos de scripts requeridos) x100 | F16: ='PANEL DE CONTROL DISTRITAL'!F15 -> Semanal (remesa) | G16: ='PANEL DE CONTROL DISTRITAL'!G15 -> 1 | H16: ='PANEL DE CONTROL DISTRITAL'!H15 -> Ejecución de los scripts de reenvío de notificaciones | I16: 0 | J16: 0 | K16: 0 | L16: 0 | M16: 0 | N16: 0 | O16: 0 | P16: 0 | Q16: 0 | R16: 0 | S16: 0 | T16: 0 | U16: 0 | V16: =IFERROR(SUM(I16:U16)/SUM(I17:U17),1) -> 1
H17: ='PANEL DE CONTROL DISTRITAL'!H16 -> Solicitud de reevíos de scripts requeridos | I17: 0 | J17: 0 | K17: 0 | L17: 0 | M17: 0 | N17: 0 | O17: 0 | P17: 0 | Q17: 0 | R17: 0 | S17: 0 | T17: 0 | U17: 0
A19: ='PANEL DE CONTROL DISTRITAL'!A18 -> 4 | B19: ='PANEL DE CONTROL DISTRITAL'!B18 -> Conciliación de Credenciales para Votar. | C19: ='PANEL DE CONTROL DISTRITAL'!C18 -> Responsable de Módulo | D19: ='PANEL DE CONTROL DISTRITAL'!D18 -> Credenciales disponibles para entrega. | E19: ='PANEL DE CONTROL DISTRITAL'!E18 -> [(Credenciales recibidas - Credenciales inconsistentes) / Credenciales recibidas] x 100 | F19: ='PANEL DE CONTROL DISTRITAL'!F18 -> Semanal (remesa) | G19: ='PANEL DE CONTROL DISTRITAL'!G18 -> 0.9 | H19: ='PANEL DE CONTROL DISTRITAL'!H18 -> Credenciales Recibidas - Credenciales inconsistentes | I19: 226 | J19: 848 | K19: 1083 | L19: 1046 | M19: 1063 | N19: 1102 | O19: 1116 | P19: 1094 | Q19: 908 | R19: 1326 | S19: 1099 | T19: 1077 | U19: 1068 | V19: =IFERROR(SUM(I19:U19)/SUM(I20:U20),0) -> 1
H20: ='PANEL DE CONTROL DISTRITAL'!H19 -> Credenciales recibidas | I20: 226 | J20: 848 | K20: 1083 | L20: 1046 | M20: 1063 | N20: 1102 | O20: 1116 | P20: 1094 | Q20: 908 | R20: 1326 | S20: 1099 | T20: 1077 | U20: 1068
A22: ='PANEL DE CONTROL DISTRITAL'!A21 -> 5 | B22: ='PANEL DE CONTROL DISTRITAL'!B21 -> Conciliación de Credenciales para Votar. | C22: ='PANEL DE CONTROL DISTRITAL'!C21 -> Responsable de Módulo | D22: ='PANEL DE CONTROL DISTRITAL'!D21 -> Arqueo de credenciales. | E22: ='PANEL DE CONTROL DISTRITAL'!E21 -> (Credenciales disponibles (físicas) / Credenciales disponibles registradas en SIIRFE-MAC) x 100 | F22: ='PANEL DE CONTROL DISTRITAL'!F21 -> Semanal (remesa) | G22: ='PANEL DE CONTROL DISTRITAL'!G21 -> 1 | H22: ='PANEL DE CONTROL DISTRITAL'!H21 -> Credenciales disponibles (físicas) | I22: 818 | J22: 1409 | K22: 1760 | L22: 1881 | M22: 1930 | N22: 2013 | O22: 2127 | P22: 2185 | Q22: 2012 | R22: 2240 | S22: 2225 | T22: 2199 | U22: 2213 | V22: =IFERROR(SUM(I22:U22)/SUM(I23:U23),0) -> 1
H23: ='PANEL DE CONTROL DISTRITAL'!H22 -> Credenciales disponibles registradas en SIIRFE | I23: 818 | J23: 1409 | K23: 1760 | L23: 1881 | M23: 1930 | N23: 2013 | O23: 2127 | P23: 2185 | Q23: 2012 | R23: 2240 | S23: 2225 | T23: 2199 | U23: 2213
A25: ='PANEL DE CONTROL DISTRITAL'!A24 -> 6 | B25: ='PANEL DE CONTROL DISTRITAL'!B24 -> Entrega de la Credencial para Votar. | C25: ='PANEL DE CONTROL DISTRITAL'!C24 -> Operador de Equipo Tecnológico | D25: ='PANEL DE CONTROL DISTRITAL'!D24 -> Efectividad de entrega de CPV en MAC. | E25: ='PANEL DE CONTROL DISTRITAL'!E24 -> (Total de credenciales entregadas / Total de ciudadanas y ciudadanos que acuden al MAC a recoger su credencial) x 100 | F25: ='PANEL DE CONTROL DISTRITAL'!F24 -> Semanal (remesa) | G25: ='PANEL DE CONTROL DISTRITAL'!G24 -> 0.9 | H25: ='PANEL DE CONTROL DISTRITAL'!H24 -> Total de credenciales entregadas | I25: 30 | J25: 257 | K25: 732 | L25: 925 | M25: 975 | N25: 1018 | O25: 1002 | P25: 1036 | Q25: 1081 | R25: 1086 | S25: 1114 | T25: 1103 | U25: 1054 | V25: =IFERROR(SUM(I25:U25)/SUM(I26:U26),0) -> 0.99929954
H26: ='PANEL DE CONTROL DISTRITAL'!H25 -> Total de ciudadanos que acuden a MAC a recoger su credencial | I26: 30 | J26: 257 | K26: 733 | L26: 925 | M26: 975 | N26: 1019 | O26: 1002 | P26: 1037 | Q26: 1082 | R26: 1086 | S26: 1114 | T26: 1105 | U26: 1056
B27: *Registre el valor nominal solicitado en la celda, el resultado proporcional esta automatizado.
B34: CUADRO DE OBSERVACIONES
B35: Descripción | H35: No conformidad

Sheet 091552
A1: ='PANEL DE CONTROL DISTRITAL'!A1:Q1 -> INSTITUTO NACIONAL ELECTORAL SISTEMA DE GESTIÓN DE LA CALIDAD CIUDAD DE MÉXICO
D2: Distrito | E2: 15 | F2: Módulo | H2: 91552
A4: TABLERO DE CONTROL DE PROCESOS SUSTANTIVOS DEL SISTEMA DE GESTIÓN DE LA CALIDAD
A6: ='PANEL DE CONTROL DISTRITAL'!A6 -> Número | B6: ='PANEL DE CONTROL DISTRITAL'!B6 -> PROCESOS SUSTANTIVOS E INDICADORES | I6: SEMANA OPERATIVA | V6: % AVANCE REGISTRADO
B7: ='PANEL DE CONTROL DISTRITAL'!B7 -> DESCRIPCIÓN | E7: ='PANEL DE CONTROL DISTRITAL'!E7 -> MEDICIÓN | I7: CAMPAÑA ANUAL PERMANENTE 2024
B9: ='PANEL DE CONTROL DISTRITAL'!B8 -> Proceso | C9: ='PANEL DE CONTROL DISTRITAL'!C8 -> Dueño de Proceso | D9: ='PANEL DE CONTROL DISTRITAL'!D8 -> Indicador | E9: ='PANEL DE CONTROL DISTRITAL'!E8 -> Cálculo | F9: ='PANEL DE CONTROL DISTRITAL'!F8 -> Periodo | G9: ='PANEL DE CONTROL DISTRITAL'!G8 -> Estimado | H9: ='PANEL DE CONTROL DISTRITAL'!H8 -> Nominativo | I9: ='090151'!I9 -> 2024-28 | J9: ='090151'!J9 -> 2024-29 | K9: ='090151'!K9 -> 2024-30 | L9: ='090151'!L9 -> 2024-31 | M9: ='090151'!M9 -> 2024-32 | N9: ='090151'!N9 -> 2024-33 | O9: ='090151'!O9 -> 2024-34 | P9: ='090151'!P9 -> 2024-35 | ... U9: ='090151'!U9 -> 2024-40
A10: ='PANEL DE CONTROL DISTRITAL'!A9 -> 1 | B10: ='PANEL DE CONTROL DISTRITAL'!B9 -> Entrevista | C10: ='PANEL DE CONTROL DISTRITAL'!C9 -> Auxiliar de Atención Ciudadana | D10: ='PANEL DE CONTROL DISTRITAL'!D9 -> Fichas requisitadas correctamente. | E10: ='PANEL DE CONTROL DISTRITAL'!E9 -> (Fichas requisitadas correctamente / Fichas revisadas en la muestra del 10%) x 100 | F10: ='PANEL DE CONTROL DISTRITAL'!F9 -> Semanal (remesa) | G10: ='PANEL DE CONTROL DISTRITAL'!G9 -> 0.9 | H10: ='PANEL DE CONTROL DISTRITAL'!H9 -> Fichas requistadas correctamente | I10: 58 | J10: 107 | K10: 105 | L10: 98 | M10: 106 | N10: 93 | O10: 102 | P10: 97 | Q10: 99 | R10: 96 | S10: 99 | T10: 100 | U10: 91 | V10: =IFERROR(SUM(I10:U10)/SUM(I11:U11),0) -> 1
H11: ='PANEL DE CONTROL DISTRITAL'!H10 -> Fichas revisadas en la Muestra del 10% | I11: 58 | J11: 107 | K11: 105 | L11: 98 | M11: 106 | N11: 93 | O11: 102 | P11: 97 | Q11: 99 | R11: 96 | S11: 99 | T11: 100 | U11: 91
A13: ='PANEL DE CONTROL DISTRITAL'!A12 -> 2 | B13: ='PANEL DE CONTROL DISTRITAL'!B12 -> Trámite | C13: ='PANEL DE CONTROL DISTRITAL'!C12 -> Operador de Equipo Tecnológico | D13: ='PANEL DE CONTROL DISTRITAL'!D12 -> Trámites exitosos. | E13: ='PANEL DE CONTROL DISTRITAL'!E12 -> (Número de trámites exitosos / Número de trámites aplicados) x 100 | F13: ='PANEL DE CONTROL DISTRITAL'!F12 -> Semanal (remesa) | G13: ='PANEL DE CONTROL DISTRITAL'!G12 -> 0.9 | H13: ='PANEL DE CONTROL DISTRITAL'!H12 -> Número de trámites exitosos | I13: 570 | J13: 1054 | K13: 990 | L13: 964 | M13: 1014 | N13: 920 | O13: 974 | P13: 727 | Q13: 973 | R13: 944 | S13: 923 | T13: 993 | U13: 650 | V13: =IFERROR(SUM(I13:U13)/SUM(I14:U14),0) -> 0.96113074
H14: ='PANEL DE CONTROL DISTRITAL'!H13 -> Número de trámites aplicados | I14: 570 | J14: 1054 | K14: 992 | L14: 964 | M14: 1014 | N14: 920 | O14: 977 | P14: 958 | Q14: 973 | R14: 945 | S14: 923 | T14: 995 | U14: 884
A16: ='PANEL DE CONTROL DISTRITAL'!A15 -> 3 | B16: ='PANEL DE CONTROL DISTRITAL'!B15 -> Transferencia de la Información. | C16: ='PANEL DE CONTROL DISTRITAL'!C15 -> Responsable de Módulo | D16: ='PANEL DE CONTROL DISTRITAL'!D15 -> Reenvíos exitosos. | E16: ='PANEL DE CONTROL DISTRITAL'!E15 -> (Ejecución de los scripts de reenvío de notificaciones / Solicitud de reenvíos de scripts requeridos) x100 | F16: ='PANEL DE CONTROL DISTRITAL'!F15 -> Semanal (remesa) | G16: ='PANEL DE CONTROL DISTRITAL'!G15 -> 1 | H16: ='PANEL DE CONTROL DISTRITAL'!H15 -> Ejecución de los scripts de reenvío de notificaciones | I16: 0 | J16: 0 | K16: 0 | L16: 0 | M16: 0 | N16: 0 | O16: 0 | P16: 0 | Q16: 0 | R16: 0 | S16: 0 | T16: 0 | U16: 0 | V16: =IFERROR(SUM(I16:U16)/SUM(I17:U17),1) -> 1
H17: ='PANEL DE CONTROL DISTRITAL'!H16 -> Solicitud de reevíos de scripts requeridos | I17: 0 | J17: 0 | K17: 0 | L17: 0 | M17: 0 | N17: 0 | O17: 0 | P17: 0 | Q17: 0 | R17: 0 | S17: 0 | T17: 0 | U17: 0
A19: ='PANEL DE CONTROL DISTRITAL'!A18 -> 4 | B19: ='PANEL DE CONTROL DISTRITAL'!B18 -> Conciliación de Credenciales para Votar. | C19: ='PANEL DE CONTROL DISTRITAL'!C18 -> Responsable de Módulo | D19: ='PANEL DE CONTROL DISTRITAL'!D18 -> Credenciales disponibles para entrega. | E19: ='PANEL DE CONTROL DISTRITAL'!E18 -> [(Credenciales recibidas - Credenciales inconsistentes) / Credenciales recibidas] x 100 | F19: ='PANEL DE CONTROL DISTRITAL'!F18 -> Semanal (remesa) | G19: ='PANEL DE CONTROL DISTRITAL'!G18 -> 0.9 | H19: ='PANEL DE CONTROL DISTRITAL'!H18 -> Credenciales Recibidas - Credenciales inconsistentes | I19: 346 | J19: 819 | K19: 987 | L19: 1006 | M19: 971 | N19: 973 | O19: 941 | P19: 995 | Q19: 743 | R19: 1152 | S19: 958 | T19: 925 | U19: 952 | V19: =IFERROR(SUM(I19:U19)/SUM(I20:U20),0) -> 1
H20: ='PANEL DE CONTROL DISTRITAL'!H19 -> Credenciales recibidas | I20: 346 | J20: 819 | K20: 987 | L20: 1006 | M20: 971 | N20: 973 | O20: 941 | P20: 995 | Q20: 743 | R20: 1152 | S20: 958 | T20: 925 | U20: 952
A22: ='PANEL DE CONTROL DISTRITAL'!A21 -> 5 | B22: ='PANEL DE CONTROL DISTRITAL'!B21 -> Conciliación de Credenciales para Votar. | C22: ='PANEL DE CONTROL DISTRITAL'!C21 -> Responsable de Módulo | D22: ='PANEL DE CONTROL DISTRITAL'!D21 -> Arqueo de credenciales. | E22: ='PANEL DE CONTROL DISTRITAL'!E21 -> (Credenciales disponibles (físicas) / Credenciales disponibles registradas en SIIRFE-MAC) x 100 | F22: ='PANEL DE CONTROL DISTRITAL'!F21 -> Semanal (remesa) | G22: ='PANEL DE CONTROL DISTRITAL'!G21 -> 1 | H22: ='PANEL DE CONTROL DISTRITAL'!H21 -> Credenciales disponibles (físicas) | I22: 731 | J22: 1420 | K22: 1466 | L22: 1568 | M22: 1563 | N22: 1563 | O22: 1616 | P22: 1685 | Q22: 1460 | R22: 1662 | S22: 1694 | T22: 1621 | U22: 1659 | V22: =IFERROR(SUM(I22:U22)/SUM(I23:U23),0) -> 1
H23: ='PANEL DE CONTROL DISTRITAL'!H22 -> Credenciales disponibles registradas en SIIRFE | I23: 731 | J23: 1420 | K23: 1466 | L23: 1568 | M23: 1563 | N23: 1563 | O23: 1616 | P23: 1685 | Q23: 1460 | R23: 1662 | S23: 1694 | T23: 1621 | U23: 1659
A25: ='PANEL DE CONTROL DISTRITAL'!A24 -> 6 | B25: ='PANEL DE CONTROL DISTRITAL'!B24 -> Entrega de la Credencial para Votar. | C25: ='PANEL DE CONTROL DISTRITAL'!C24 -> Operador de Equipo Tecnológico | D25: ='PANEL DE CONTROL DISTRITAL'!D24 -> Efectividad de entrega de CPV en MAC. | E25: ='PANEL DE CONTROL DISTRITAL'!E24 -> (Total de credenciales entregadas / Total de ciudadanas y ciudadanos que acuden al MAC a recoger su credencial) x 100 | F25: ='PANEL DE CONTROL DISTRITAL'!F24 -> Semanal (remesa) | G25: ='PANEL DE CONTROL DISTRITAL'!G24 -> 0.9 | H25: ='PANEL DE CONTROL DISTRITAL'!H24 -> Total de credenciales entregadas | I25: 23 | J25: 130 | K25: 941 | L25: 904 | M25: 941 | N25: 973 | O25: 888 | P25: 926 | Q25: 968 | R25: 942 | S25: 926 | T25: 998 | U25: 914 | V25: =IFERROR(SUM(I25:U25)/SUM(I26:U26),0) -> 1
H26: ='PANEL DE CONTROL DISTRITAL'!H25 -> Total de ciudadanos que acuden a MAC a recoger su credencial | I26: 23 | J26: 130 | K26: 941 | L26: 904 | M26: 941 | N26: 973 | O26: 888 | P26: 926 | Q26: 968 | R26: 942 | S26: 926 | T26: 998 | U26: 914
B27: *Registre el valor nominal solicitado en la celda, el resultado proporcional esta automatizado.
B34: CUADRO DE OBSERVACIONES
B35: Descripción | H35: No conformidad

Sheet 091651
A1: ='PANEL DE CONTROL DISTRITAL'!A1:Q1 -> INSTITUTO NACIONAL ELECTORAL SISTEMA DE GESTIÓN DE LA CALIDAD CIUDAD DE MÉXICO
D2: Distrito | E2: 16 | F2: Módulo | H2: 91651
A4: TABLERO DE CONTROL DE PROCESOS SUSTANTIVOS DEL SISTEMA DE GESTIÓN DE LA CALIDAD
A6: ='PANEL DE CONTROL DISTRITAL'!A6 -> Número | B6: ='PANEL DE CONTROL DISTRITAL'!B6 -> PROCESOS SUSTANTIVOS E INDICADORES | I6: SEMANA OPERATIVA | V6: % AVANCE REGISTRADO
B7: ='PANEL DE CONTROL DISTRITAL'!B7 -> DESCRIPCIÓN | E7: ='PANEL DE CONTROL DISTRITAL'!E7 -> MEDICIÓN | I7: CAMPAÑA ANUAL PERMANENTE 2024
B9: ='PANEL DE CONTROL DISTRITAL'!B8 -> Proceso | C9: ='PANEL DE CONTROL DISTRITAL'!C8 -> Dueño de Proceso | D9: ='PANEL DE CONTROL DISTRITAL'!D8 -> Indicador | E9: ='PANEL DE CONTROL DISTRITAL'!E8 -> Cálculo | F9: ='PANEL DE CONTROL DISTRITAL'!F8 -> Periodo | G9: ='PANEL DE CONTROL DISTRITAL'!G8 -> Estimado | H9: ='PANEL DE CONTROL DISTRITAL'!H8 -> Nominativo | I9: ='090151'!I9 -> 2024-28 | J9: ='090151'!J9 -> 2024-29 | K9: ='090151'!K9 -> 2024-30 | L9: ='090151'!L9 -> 2024-31 | M9: ='090151'!M9 -> 2024-32 | N9: ='090151'!N9 -> 2024-33 | O9: ='090151'!O9 -> 2024-34 | P9: ='090151'!P9 -> 2024-35 | ... U9: ='090151'!U9 -> 2024-40
A10: ='PANEL DE CONTROL DISTRITAL'!A9 -> 1 | B10: ='PANEL DE CONTROL DISTRITAL'!B9 -> Entrevista | C10: ='PANEL DE CONTROL DISTRITAL'!C9 -> Auxiliar de Atención Ciudadana | D10: ='PANEL DE CONTROL DISTRITAL'!D9 -> Fichas requisitadas correctamente. | E10: ='PANEL DE CONTROL DISTRITAL'!E9 -> (Fichas requisitadas correctamente / Fichas revisadas en la muestra del 10%) x 100 | F10: ='PANEL DE CONTROL DISTRITAL'!F9 -> Semanal (remesa) | G10: ='PANEL DE CONTROL DISTRITAL'!G9 -> 0.9 | H10: ='PANEL DE CONTROL DISTRITAL'!H9 -> Fichas requistadas correctamente | I10: 69 | J10: 179 | K10: 174 | L10: 171 | M10: 180 | N10: 174 | O10: 174 | P10: 179 | Q10: 177 | R10: 175 | S10: 174 | T10: 168 | U10: 163 | V10: =IFERROR(SUM(I10:U10)/SUM(I11:U11),0) -> 1
H11: ='PANEL DE CONTROL DISTRITAL'!H10 -> Fichas revisadas en la Muestra del 10% | I11: 69 | J11: 179 | K11: 174 | L11: 171 | M11: 180 | N11: 174 | O11: 174 | P11: 179 | Q11: 177 | R11: 175 | S11: 174 | T11: 168 | U11: 163
A13: ='PANEL DE CONTROL DISTRITAL'!A12 -> 2 | B13: ='PANEL DE CONTROL DISTRITAL'!B12 -> Trámite | C13: ='PANEL DE CONTROL DISTRITAL'!C12 -> Operador de Equipo Tecnológico | D13: ='PANEL DE CONTROL DISTRITAL'!D12 -> Trámites exitosos. | E13: ='PANEL DE CONTROL DISTRITAL'!E12 -> (Número de trámites exitosos / Número de trámites aplicados) x 100 | F13: ='PANEL DE CONTROL DISTRITAL'!F12 -> Semanal (remesa) | G13: ='PANEL DE CONTROL DISTRITAL'!G12 -> 0.9 | H13: ='PANEL DE CONTROL DISTRITAL'!H12 -> Número de trámites exitosos | I13: 681 | J13: 1780 | K13: 1736 | L13: 1704 | M13: 1791 | N13: 1731 | O13: 1734 | P13: 1783 | Q13: 1758 | R13: 1736 | S13: 1732 | T13: 1669 | U13: 1118 | V13: =IFERROR(SUM(I13:U13)/SUM(I14:U14),0) -> 0.97333581
H14: ='PANEL DE CONTROL DISTRITAL'!H13 -> Número de trámites aplicados | I14: 684 | J14: 1782 | K14: 1739 | L14: 1710 | M14: 1799 | N14: 1736 | O14: 1738 | P14: 1789 | Q14: 1761 | R14: 1746 | S14: 1736 | T14: 1680 | U14: 1627
A16: ='PANEL DE CONTROL DISTRITAL'!A15 -> 3 | B16: ='PANEL DE CONTROL DISTRITAL'!B15 -> Transferencia de la Información. | C16: ='PANEL DE CONTROL DISTRITAL'!C15 -> Responsable de Módulo | D16: ='PANEL DE CONTROL DISTRITAL'!D15 -> Reenvíos exitosos. | E16: ='PANEL DE CONTROL DISTRITAL'!E15 -> (Ejecución de los scripts de reenvío de notificaciones / Solicitud de reenvíos de scripts requeridos) x100 | F16: ='PANEL DE CONTROL DISTRITAL'!F15 -> Semanal (remesa) | G16: ='PANEL DE CONTROL DISTRITAL'!G15 -> 1 | H16: ='PANEL DE CONTROL DISTRITAL'!H15 -> Ejecución de los scripts de reenvío de notificaciones | I16: 0 | J16: 0 | K16: 0 | L16: 0 | M16: 0 | N16: 0 | O16: 0 | P16: 0 | Q16: 0 | R16: 0 | S16: 0 | T16: 0 | U16: 0 | V16: =IFERROR(SUM(I16:U16)/SUM(I17:U17),1) -> 1
H17: ='PANEL DE CONTROL DISTRITAL'!H16 -> Solicitud de reevíos de scripts requeridos | I17: 0 | J17: 0 | K17: 0 | L17: 0 | M17: 0 | N17: 0 | O17: 0 | P17: 0 | Q17: 0 | R17: 0 | S17: 0 | T17: 0 | U17: 0
A19: ='PANEL DE CONTROL DISTRITAL'!A18 -> 4 | B19: ='PANEL DE CONTROL DISTRITAL'!B18 -> Conciliación de Credenciales para Votar. | C19: ='PANEL DE CONTROL DISTRITAL'!C18 -> Responsable de Módulo | D19: ='PANEL DE CONTROL DISTRITAL'!D18 -> Credenciales disponibles para entrega. | E19: ='PANEL DE CONTROL DISTRITAL'!E18 -> [(Credenciales recibidas - Credenciales inconsistentes) / Credenciales recibidas] x 100 | F19: ='PANEL DE CONTROL DISTRITAL'!F18 -> Semanal (remesa) | G19: ='PANEL DE CONTROL DISTRITAL'!G18 -> 0.9 | H19: ='PANEL DE CONTROL DISTRITAL'!H18 -> Credenciales Recibidas - Credenciales inconsistentes | I19: 380 | J19: 1275 | K19: 1743 | L19: 1681 | M19: 1725 | N19: 1792 | O19: 1759 | P19: 1742 | Q19: 1482 | R19: 2006 | S19: 1779 | T19: 1714 | U19: 1616 | V19: =IFERROR(SUM(I19:U19)/SUM(I20:U20),0) -> 1
H20: ='PANEL DE CONTROL DISTRITAL'!H19 -> Credenciales recibidas | I20: 380 | J20: 1275 | K20: 1743 | L20: 1681 | M20: 1725 | N20: 1792 | O20: 1759 | P20: 1742 | Q20: 1482 | R20: 2006 | S20: 1779 | T20: 1714 | U20: 1616
A22: ='PANEL DE CONTROL DISTRITAL'!A21 -> 5 | B22: ='PANEL DE CONTROL DISTRITAL'!B21 -> Conciliación de Credenciales para Votar. | C22: ='PANEL DE CONTROL DISTRITAL'!C21 -> Responsable de Módulo | D22: ='PANEL DE CONTROL DISTRITAL'!D21 -> Arqueo de credenciales. | E22: ='PANEL DE CONTROL DISTRITAL'!E21 -> (Credenciales disponibles (físicas) / Credenciales disponibles registradas en SIIRFE-MAC) x 100 | F22: ='PANEL DE CONTROL DISTRITAL'!F21 -> Semanal (remesa) | G22: ='PANEL DE CONTROL DISTRITAL'!G21 -> 1 | H22: ='PANEL DE CONTROL DISTRITAL'!H21 -> Credenciales disponibles (físicas) | I22: 1409 | J22: 2261 | K22: 2931 | L22: 3011 | M22: 3074 | N22: 3197 | O22: 3213 | P22: 3298 | Q22: 3021 | R22: 3232 | S22: 3384 | T22: 3329 | U22: 3266 | V22: =IFERROR(SUM(I22:U22)/SUM(I23:U23),0) -> 1
H23: ='PANEL DE CONTROL DISTRITAL'!H22 -> Credenciales disponibles registradas en SIIRFE | I23: 1409 | J23: 2261 | K23: 2931 | L23: 3011 | M23: 3074 | N23: 3197 | O23: 3213 | P23: 3298 | Q23: 3021 | R23: 3232 | S23: 3384 | T23: 3329 | U23: 3266
A25: ='PANEL DE CONTROL DISTRITAL'!A24 -> 6 | B25: ='PANEL DE CONTROL DISTRITAL'!B24 -> Entrega de la Credencial para Votar. | C25: ='PANEL DE CONTROL DISTRITAL'!C24 -> Operador de Equipo Tecnológico | D25: ='PANEL DE CONTROL DISTRITAL'!D24 -> Efectividad de entrega de CPV en MAC. | E25: ='PANEL DE CONTROL DISTRITAL'!E24 -> (Total de credenciales entregadas / Total de ciudadanas y ciudadanos que acuden al MAC a recoger su credencial) x 100 | F25: ='PANEL DE CONTROL DISTRITAL'!F24 -> Semanal (remesa) | G25: ='PANEL DE CONTROL DISTRITAL'!G24 -> 0.9 | H25: ='PANEL DE CONTROL DISTRITAL'!H24 -> Total de credenciales entregadas | I25: 13 | J25: 423 | K25: 1073 | L25: 1601 | M25: 1560 | N25: 1668 | O25: 1743 | P25: 1657 | Q25: 1759 | R25: 1768 | S25: 1627 | T25: 1769 | U25: 1679 | V25: =IFERROR(SUM(I25:U25)/SUM(I26:U26),0) -> 0.99825822
H26: ='PANEL DE CONTROL DISTRITAL'!H25 -> Total de ciudadanos que acuden a MAC a recoger su credencial | I26: 13 | J26: 428 | K26: 1077 | L26: 1604 | M26: 1561 | N26: 1670 | O26: 1744 | P26: 1661 | Q26: 1761 | R26: 1768 | S26: 1631 | T26: 1772 | U26: 1682
B27: *Registre el valor nominal solicitado en la celda, el resultado proporcional esta automatizado.
B34: CUADRO DE OBSERVACIONES
B35: Descripción | H35: No conformidad
B36: EN LA SEMANA OPERATIVA 2024_10 CASO CAU FOLIO REQ000001514297 SITUACIÓN Al generar el reporte: "Atención ciudadana" del día 16 de febrero del presente año aparecen 151 registros y deben ser 156 registros son Folios que se generaron por solicitud de reimpresión. Folios que faltan son: 2409165116049, 2409165116087, 2409165116119, 2409165116157 y 2409165116168. EN LA SEMANA OPERATIVA 2024_10 CASO CAU FOLIO REQ000001514299 SITUACIÓN Al momento de concluir el trámite con folio 2409165115854 pide digitalizar el acta de nacimiento, se digitalizo el documento solicitado y sigue apareciendo el registro en el apartado de Generar grupo de Medios SOLUCIÓN El día 26 de febrero se digitalizo el acta de nacimiento para que se pueda generar la credencial para votar fue entregada el día 29 de febrero a su titular

Sheet 091751
A1: ='PANEL DE CONTROL DISTRITAL'!A1:Q1 -> INSTITUTO NACIONAL ELECTORAL SISTEMA DE GESTIÓN DE LA CALIDAD CIUDAD DE MÉXICO
D2: Distrito | E2: 17 | F2: Módulo | H2: 91751
A4: TABLERO DE CONTROL DE PROCESOS SUSTANTIVOS DEL SISTEMA DE GESTIÓN DE LA CALIDAD
A6: ='PANEL DE CONTROL DISTRITAL'!A6 -> Número | B6: ='PANEL DE CONTROL DISTRITAL'!B6 -> PROCESOS SUSTANTIVOS E INDICADORES | I6: SEMANA OPERATIVA | V6: % AVANCE REGISTRADO
B7: ='PANEL DE CONTROL DISTRITAL'!B7 -> DESCRIPCIÓN | E7: ='PANEL DE CONTROL DISTRITAL'!E7 -> MEDICIÓN | I7: CAMPAÑA ANUAL PERMANENTE 2024
B9: ='PANEL DE CONTROL DISTRITAL'!B8 -> Proceso | C9: ='PANEL DE CONTROL DISTRITAL'!C8 -> Dueño de Proceso | D9: ='PANEL DE CONTROL DISTRITAL'!D8 -> Indicador | E9: ='PANEL DE CONTROL DISTRITAL'!E8 -> Cálculo | F9: ='PANEL DE CONTROL DISTRITAL'!F8 -> Periodo | G9: ='PANEL DE CONTROL DISTRITAL'!G8 -> Estimado | H9: ='PANEL DE CONTROL DISTRITAL'!H8 -> Nominativo | I9: ='090151'!I9 -> 2024-28 | J9: ='090151'!J9 -> 2024-29 | K9: ='090151'!K9 -> 2024-30 | L9: ='090151'!L9 -> 2024-31 | M9: ='090151'!M9 -> 2024-32 | N9: ='090151'!N9 -> 2024-33 | O9: ='090151'!O9 -> 2024-34 | P9: ='090151'!P9 -> 2024-35 | ... U9: ='090151'!U9 -> 2024-40
A10: ='PANEL DE CONTROL DISTRITAL'!A9 -> 1 | B10: ='PANEL DE CONTROL DISTRITAL'!B9 -> Entrevista | C10: ='PANEL DE CONTROL DISTRITAL'!C9 -> Auxiliar de Atención Ciudadana | D10: ='PANEL DE CONTROL DISTRITAL'!D9 -> Fichas requisitadas correctamente. | E10: ='PANEL DE CONTROL DISTRITAL'!E9 -> (Fichas requisitadas correctamente / Fichas revisadas en la muestra del 10%) x 100 | F10: ='PANEL DE CONTROL DISTRITAL'!F9 -> Semanal (remesa) | G10: ='PANEL DE CONTROL DISTRITAL'!G9 -> 0.9 | H10: ='PANEL DE CONTROL DISTRITAL'!H9 -> Fichas requistadas correctamente | I10: 37 | J10: 89 | K10: 93 | L10: 83 | M10: 89 | N10: 88 | O10: 85 | P10: 81 | Q10: 87 | R10: 88 | S10: 78 | T10: 74 | U10: 87 | V10: =IFERROR(SUM(I10:U10)/SUM(I11:U11),0) -> 0.98511628
H11: ='PANEL DE CONTROL DISTRITAL'!H10 -> Fichas revisadas en la Muestra del 10% | I11: 37 | J11: 89 | K11: 93 | L11: 83 | M11: 89 | N11: 89 | O11: 85 | P11: 84 | Q11: 88 | R11: 89 | S11: 78 | T11: 84 | U11: 87
A13: ='PANEL DE CONTROL DISTRITAL'!A12 -> 2 | B13: ='PANEL DE CONTROL DISTRITAL'!B12 -> Trámite | C13: ='PANEL DE CONTROL DISTRITAL'!C12 -> Operador de Equipo Tecnológico | D13: ='PANEL DE CONTROL DISTRITAL'!D12 -> Trámites exitosos. | E13: ='PANEL DE CONTROL DISTRITAL'!E12 -> (Número de trámites exitosos / Número de trámites aplicados) x 100 | F13: ='PANEL DE CONTROL DISTRITAL'!F12 -> Semanal (remesa) | G13: ='PANEL DE CONTROL DISTRITAL'!G12 -> 0.9 | H13: ='PANEL DE CONTROL DISTRITAL'!H12 -> Número de trámites exitosos | I13: 350 | J13: 862 | K13: 885 | L13: 811 | M13: 856 | N13: 835 | O13: 819 | P13: 789 | Q13: 818 | R13: 847 | S13: 757 | T13: 821 | U13: 815 | V13: =IFERROR(SUM(I13:U13)/SUM(I14:U14),0) -> 0.99669871
H14: ='PANEL DE CONTROL DISTRITAL'!H13 -> Número de trámites aplicados | I14: 351 | J14: 864 | K14: 889 | L14: 811 | M14: 859 | N14: 836 | O14: 820 | P14: 791 | Q14: 821 | R14: 854 | S14: 758 | T14: 822 | U14: 823
A16: ='PANEL DE CONTROL DISTRITAL'!A15 -> 3 | B16: ='PANEL DE CONTROL DISTRITAL'!B15 -> Transferencia de la Información. | C16: ='PANEL DE CONTROL DISTRITAL'!C15 -> Responsable de Módulo | D16: ='PANEL DE CONTROL DISTRITAL'!D15 -> Reenvíos exitosos. | E16: ='PANEL DE CONTROL DISTRITAL'!E15 -> (Ejecución de los scripts de reenvío de notificaciones / Solicitud de reenvíos de scripts requeridos) x100 | F16: ='PANEL DE CONTROL DISTRITAL'!F15 -> Semanal (remesa) | G16: ='PANEL DE CONTROL DISTRITAL'!G15 -> 1 | H16: ='PANEL DE CONTROL DISTRITAL'!H15 -> Ejecución de los scripts de reenvío de notificaciones | I16: 0 | J16: 0 | K16: 0 | L16: 0 | M16: 0 | N16: 0 | O16: 0 | P16: 0 | Q16: 0 | R16: 0 | S16: 0 | T16: 0 | U16: 0 | V16: =IFERROR(SUM(I16:U16)/SUM(I17:U17),1) -> 1
H17: ='PANEL DE CONTROL DISTRITAL'!H16 -> Solicitud de reevíos de scripts requeridos | I17: 0 | J17: 0 | K17: 0 | L17: 0 | M17: 0 | N17: 0 | O17: 0 | P17: 0 | Q17: 0 | R17: 0 | S17: 0 | T17: 0 | U17: 0
A19: ='PANEL DE CONTROL DISTRITAL'!A18 -> 4 | B19: ='PANEL DE CONTROL DISTRITAL'!B18 -> Conciliación de Credenciales para Votar. | C19: ='PANEL DE CONTROL DISTRITAL'!C18 -> Responsable de Módulo | D19: ='PANEL DE CONTROL DISTRITAL'!D18 -> Credenciales disponibles para entrega. | E19: ='PANEL DE CONTROL DISTRITAL'!E18 -> [(Credenciales recibidas - Credenciales inconsistentes) / Credenciales recibidas] x 100 | F19: ='PANEL DE CONTROL DISTRITAL'!F18 -> Semanal (remesa) | G19: ='PANEL DE CONTROL DISTRITAL'!G18 -> 0.9 | H19: ='PANEL DE CONTROL DISTRITAL'!H18 -> Credenciales Recibidas - Credenciales inconsistentes | I19: 201 | J19: 617 | K19: 869 | L19: 835 | M19: 821 | N19: 870 | O19: 809 | P19: 802 | Q19: 661 | R19: 976 | S19: 805 | T19: 801 | U19: 829 | V19: =IFERROR(SUM(I19:U19)/SUM(I20:U20),0) -> 1
H20: ='PANEL DE CONTROL DISTRITAL'!H19 -> Credenciales recibidas | I20: 201 | J20: 617 | K20: 869 | L20: 835 | M20: 821 | N20: 870 | O20: 809 | P20: 802 | Q20: 661 | R20: 976 | S20: 805 | T20: 801 | U20: 829
A22: ='PANEL DE CONTROL DISTRITAL'!A21 -> 5 | B22: ='PANEL DE CONTROL DISTRITAL'!B21 -> Conciliación de Credenciales para Votar. | C22: ='PANEL DE CONTROL DISTRITAL'!C21 -> Responsable de Módulo | D22: ='PANEL DE CONTROL DISTRITAL'!D21 -> Arqueo de credenciales. | E22: ='PANEL DE CONTROL DISTRITAL'!E21 -> (Credenciales disponibles (físicas) / Credenciales disponibles registradas en SIIRFE-MAC) x 100 | F22: ='PANEL DE CONTROL DISTRITAL'!F21 -> Semanal (remesa) | G22: ='PANEL DE CONTROL DISTRITAL'!G21 -> 1 | H22: ='PANEL DE CONTROL DISTRITAL'!H21 -> Credenciales disponibles (físicas) | I22: 614 | J22: 1022 | K22: 1346 | L22: 1374 | M22: 1410 | N22: 1507 | O22: 1495 | P22: 1495 | Q22: 1371 | R22: 1516 | S22: 1509 | T22: 1488 | U22: 1508 | V22: =IFERROR(SUM(I22:U22)/SUM(I23:U23),0) -> 1
H23: ='PANEL DE CONTROL DISTRITAL'!H22 -> Credenciales disponibles registradas en SIIRFE | I23: 614 | J23: 1022 | K23: 1346 | L23: 1374 | M23: 1410 | N23: 1507 | O23: 1495 | P23: 1495 | Q23: 1371 | R23: 1516 | S23: 1509 | T23: 1488 | U23: 1508
A25: ='PANEL DE CONTROL DISTRITAL'!A24 -> 6 | B25: ='PANEL DE CONTROL DISTRITAL'!B24 -> Entrega de la Credencial para Votar. | C25: ='PANEL DE CONTROL DISTRITAL'!C24 -> Operador de Equipo Tecnológico | D25: ='PANEL DE CONTROL DISTRITAL'!D24 -> Efectividad de entrega de CPV en MAC. | E25: ='PANEL DE CONTROL DISTRITAL'!E24 -> (Total de credenciales entregadas / Total de ciudadanas y ciudadanos que acuden al MAC a recoger su credencial) x 100 | F25: ='PANEL DE CONTROL DISTRITAL'!F24 -> Semanal (remesa) | G25: ='PANEL DE CONTROL DISTRITAL'!G24 -> 0.9 | H25: ='PANEL DE CONTROL DISTRITAL'!H24 -> Total de credenciales entregadas | I25: 27 | J25: 209 | K25: 545 | L25: 807 | M25: 761 | N25: 773 | O25: 821 | P25: 802 | Q25: 785 | R25: 823 | S25: 812 | T25: 822 | U25: 809 | V25: =IFERROR(SUM(I25:U25)/SUM(I26:U26),0) -> 1
H26: ='PANEL DE CONTROL DISTRITAL'!H25 -> Total de ciudadanos que acuden a MAC a recoger su credencial | I26: 27 | J26: 209 | K26: 545 | L26: 807 | M26: 761 | N26: 773 | O26: 821 | P26: 802 | Q26: 785 | R26: 823 | S26: 812 | T26: 822 | U26: 809
B27: *Registre el valor nominal solicitado en la celda, el resultado proporcional esta automatizado.
B34: CUADRO DE OBSERVACIONES
B35: Descripción | H35: No conformidad

Sheet 091851
A1: ='PANEL DE CONTROL DISTRITAL'!A1:Q1 -> INSTITUTO NACIONAL ELECTORAL SISTEMA DE GESTIÓN DE LA CALIDAD CIUDAD DE MÉXICO
D2: Distrito | E2: 18 | F2: Módulo | H2: 91851
A4: TABLERO DE CONTROL DE PROCESOS SUSTANTIVOS DEL SISTEMA DE GESTIÓN DE LA CALIDAD
A6: ='PANEL DE CONTROL DISTRITAL'!A6 -> Número | B6: ='PANEL DE CONTROL DISTRITAL'!B6 -> PROCESOS SUSTANTIVOS E INDICADORES | I6: SEMANA OPERATIVA | V6: % AVANCE REGISTRADO
B7: ='PANEL DE CONTROL DISTRITAL'!B7 -> DESCRIPCIÓN | E7: ='PANEL DE CONTROL DISTRITAL'!E7 -> MEDICIÓN | I7: CAMPAÑA ANUAL PERMANENTE 2024
B9: ='PANEL DE CONTROL DISTRITAL'!B8 -> Proceso | C9: ='PANEL DE CONTROL DISTRITAL'!C8 -> Dueño de Proceso | D9: ='PANEL DE CONTROL DISTRITAL'!D8 -> Indicador | E9: ='PANEL DE CONTROL DISTRITAL'!E8 -> Cálculo | F9: ='PANEL DE CONTROL DISTRITAL'!F8 -> Periodo | G9: ='PANEL DE CONTROL DISTRITAL'!G8 -> Estimado | H9: ='PANEL DE CONTROL DISTRITAL'!H8 -> Nominativo | I9: ='090151'!I9 -> 2024-28 | J9: ='090151'!J9 -> 2024-29 | K9: ='090151'!K9 -> 2024-30 | L9: ='090151'!L9 -> 2024-31 | M9: ='090151'!M9 -> 2024-32 | N9: ='090151'!N9 -> 2024-33 | O9: ='090151'!O9 -> 2024-34 | P9: ='090151'!P9 -> 2024-35 | ... U9: ='090151'!U9 -> 2024-40
A10: ='PANEL DE CONTROL DISTRITAL'!A9 -> 1 | B10: ='PANEL DE CONTROL DISTRITAL'!B9 -> Entrevista | C10: ='PANEL DE CONTROL DISTRITAL'!C9 -> Auxiliar de Atención Ciudadana | D10: ='PANEL DE CONTROL DISTRITAL'!D9 -> Fichas requisitadas correctamente. | E10: ='PANEL DE CONTROL DISTRITAL'!E9 -> (Fichas requisitadas correctamente / Fichas revisadas en la muestra del 10%) x 100 | F10: ='PANEL DE CONTROL DISTRITAL'!F9 -> Semanal (remesa) | G10: ='PANEL DE CONTROL DISTRITAL'!G9 -> 0.9 | H10: ='PANEL DE CONTROL DISTRITAL'!H9 -> Fichas requistadas correctamente | I10: 18 | J10: 78 | K10: 77 | L10: 83 | M10: 74 | N10: 76 | O10: 65 | P10: 68 | Q10: 75 | R10: 69 | S10: 72 | T10: 79 | U10: 76 | V10: =IFERROR(SUM(I10:U10)/SUM(I11:U11),0) -> 1
H11: ='PANEL DE CONTROL DISTRITAL'!H10 -> Fichas revisadas en la Muestra del 10% | I11: 18 | J11: 78 | K11: 77 | L11: 83 | M11: 74 | N11: 76 | O11: 65 | P11: 68 | Q11: 75 | R11: 69 | S11: 72 | T11: 79 | U11: 76
A13: ='PANEL DE CONTROL DISTRITAL'!A12 -> 2 | B13: ='PANEL DE CONTROL DISTRITAL'!B12 -> Trámite | C13: ='PANEL DE CONTROL DISTRITAL'!C12 -> Operador de Equipo Tecnológico | D13: ='PANEL DE CONTROL DISTRITAL'!D12 -> Trámites exitosos. | E13: ='PANEL DE CONTROL DISTRITAL'!E12 -> (Número de trámites exitosos / Número de trámites aplicados) x 100 | F13: ='PANEL DE CONTROL DISTRITAL'!F12 -> Semanal (remesa) | G13: ='PANEL DE CONTROL DISTRITAL'!G12 -> 0.9 | H13: ='PANEL DE CONTROL DISTRITAL'!H12 -> Número de trámites exitosos | I13: 167 | J13: 762 | K13: 753 | L13: 806 | M13: 718 | N13: 741 | O13: 639 | P13: 666 | Q13: 728 | R13: 670 | S13: 701 | T13: 749 | U13: 539 | V13: =IFERROR(SUM(I13:U13)/SUM(I14:U14),0) -> 0.97362786
H14: ='PANEL DE CONTROL DISTRITAL'!H13 -> Número de trámites aplicados | I14: 167 | J14: 763 | K14: 754 | L14: 809 | M14: 720 | N14: 743 | O14: 640 | P14: 668 | Q14: 731 | R14: 673 | S14: 707 | T14: 756 | U14: 742
A16: ='PANEL DE CONTROL DISTRITAL'!A15 -> 3 | B16: ='PANEL DE CONTROL DISTRITAL'!B15 -> Transferencia de la Información. | C16: ='PANEL DE CONTROL DISTRITAL'!C15 -> Responsable de Módulo | D16: ='PANEL DE CONTROL DISTRITAL'!D15 -> Reenvíos exitosos. | E16: ='PANEL DE CONTROL DISTRITAL'!E15 -> (Ejecución de los scripts de reenvío de notificaciones / Solicitud de reenvíos de scripts requeridos) x100 | F16: ='PANEL DE CONTROL DISTRITAL'!F15 -> Semanal (remesa) | G16: ='PANEL DE CONTROL DISTRITAL'!G15 -> 1 | H16: ='PANEL DE CONTROL DISTRITAL'!H15 -> Ejecución de los scripts de reenvío de notificaciones | I16: 0 | J16: 0 | K16: 0 | L16: 0 | M16: 0 | N16: 0 | O16: 0 | P16: 0 | Q16: 0 | R16: 0 | S16: 0 | T16: 0 | U16: 0 | V16: =IFERROR(SUM(I16:U16)/SUM(I17:U17),1) -> 1
H17: ='PANEL DE CONTROL DISTRITAL'!H16 -> Solicitud de reevíos de scripts requeridos | I17: 0 | J17: 0 | K17: 0 | L17: 0 | M17: 0 | N17: 0 | O17: 0 | P17: 0 | Q17: 0 | R17: 0 | S17: 0 | T17: 0 | U17: 0
A19: ='PANEL DE CONTROL DISTRITAL'!A18 -> 4 | B19: ='PANEL DE CONTROL DISTRITAL'!B18 -> Conciliación de Credenciales para Votar. | C19: ='PANEL DE CONTROL DISTRITAL'!C18 -> Responsable de Módulo | D19: ='PANEL DE CONTROL DISTRITAL'!D18 -> Credenciales disponibles para entrega. | E19: ='PANEL DE CONTROL DISTRITAL'!E18 -> [(Credenciales recibidas - Credenciales inconsistentes) / Credenciales recibidas] x 100 | F19: ='PANEL DE CONTROL DISTRITAL'!F18 -> Semanal (remesa) | G19: ='PANEL DE CONTROL DISTRITAL'!G18 -> 0.9 | H19: ='PANEL DE CONTROL DISTRITAL'!H18 -> Credenciales Recibidas - Credenciales inconsistentes | I19: 40 | J19: 526 | K19: 763 | L19: 777 | M19: 737 | N19: 600 | O19: 842 | P19: 631 | Q19: 589 | R19: 879 | S19: 631 | T19: 748 | U19: 761 | V19: =IFERROR(SUM(I19:U19)/SUM(I20:U20),0) -> 1
H20: ='PANEL DE CONTROL DISTRITAL'!H19 -> Credenciales recibidas | I20: 40 | J20: 526 | K20: 763 | L20: 777 | M20: 737 | N20: 600 | O20: 842 | P20: 631 | Q20: 589 | R20: 879 | S20: 631 | T20: 748 | U20: 761
A22: ='PANEL DE CONTROL DISTRITAL'!A21 -> 5 | B22: ='PANEL DE CONTROL DISTRITAL'!B21 -> Conciliación de Credenciales para Votar. | C22: ='PANEL DE CONTROL DISTRITAL'!C21 -> Responsable de Módulo | D22: ='PANEL DE CONTROL DISTRITAL'!D21 -> Arqueo de credenciales. | E22: ='PANEL DE CONTROL DISTRITAL'!E21 -> (Credenciales disponibles (físicas) / Credenciales disponibles registradas en SIIRFE-MAC) x 100 | F22: ='PANEL DE CONTROL DISTRITAL'!F21 -> Semanal (remesa) | G22: ='PANEL DE CONTROL DISTRITAL'!G21 -> 1 | H22: ='PANEL DE CONTROL DISTRITAL'!H21 -> Credenciales disponibles (físicas) | I22: 441 | J22: 885 | K22: 1179 | L22: 1271 | M22: 1298 | N22: 1165 | O22: 1295 | P22: 1265 | Q22: 1217 | R22: 1437 | S22: 1282 | T22: 1335 | U22: 1398 | V22: =IFERROR(SUM(I22:U22)/SUM(I23:U23),0) -> 1
H23: ='PANEL DE CONTROL DISTRITAL'!H22 -> Credenciales disponibles registradas en SIIRFE | I23: 441 | J23: 885 | K23: 1179 | L23: 1271 | M23: 1298 | N23: 1165 | O23: 1295 | P23: 1265 | Q23: 1217 | R23: 1437 | S23: 1282 | T23: 1335 | U23: 1398
A25: ='PANEL DE CONTROL DISTRITAL'!A24 -> 6 | B25: ='PANEL DE CONTROL DISTRITAL'!B24 -> Entrega de la Credencial para Votar. | C25: ='PANEL DE CONTROL DISTRITAL'!C24 -> Operador de Equipo Tecnológico | D25: ='PANEL DE CONTROL DISTRITAL'!D24 -> Efectividad de entrega de CPV en MAC. | E25: ='PANEL DE CONTROL DISTRITAL'!E24 -> (Total de credenciales entregadas / Total de ciudadanas y ciudadanos que acuden al MAC a recoger su credencial) x 100 | F25: ='PANEL DE CONTROL DISTRITAL'!F24 -> Semanal (remesa) | G25: ='PANEL DE CONTROL DISTRITAL'!G24 -> 0.9 | H25: ='PANEL DE CONTROL DISTRITAL'!H24 -> Total de credenciales entregadas | I25: 17 | J25: 82 | K25: 469 | L25: 685 | M25: 688 | N25: 732 | O25: 712 | P25: 661 | Q25: 637 | R25: 648 | S25: 786 | T25: 695 | U25: 698 | V25: =IFERROR(SUM(I25:U25)/SUM(I26:U26),0) -> 0.99906878
H26: ='PANEL DE CONTROL DISTRITAL'!H25 -> Total de ciudadanos que acuden a MAC a recoger su credencial | I26: 17 | J26: 82 | K26: 469 | L26: 687 | M26: 689 | N26: 732 | O26: 712 | P26: 661 | Q26: 637 | R26: 648 | S26: 786 | T26: 697 | U26: 700
B27: *Registre el valor nominal solicitado en la celda, el resultado proporcional esta automatizado.
B34: CUADRO DE OBSERVACIONES
B35: Descripción | H35: No conformidad

Sheet 091952
A1: ='PANEL DE CONTROL DISTRITAL'!A1:Q1 -> INSTITUTO NACIONAL ELECTORAL SISTEMA DE GESTIÓN DE LA CALIDAD CIUDAD DE MÉXICO
D2: Distrito | E2: 19 | F2: Módulo | H2: 91952
A4: TABLERO DE CONTROL DE PROCESOS SUSTANTIVOS DEL SISTEMA DE GESTIÓN DE LA CALIDAD
A6: ='PANEL DE CONTROL DISTRITAL'!A6 -> Número | B6: ='PANEL DE CONTROL DISTRITAL'!B6 -> PROCESOS SUSTANTIVOS E INDICADORES | I6: SEMANA OPERATIVA | V6: % AVANCE REGISTRADO
B7: ='PANEL DE CONTROL DISTRITAL'!B7 -> DESCRIPCIÓN | E7: ='PANEL DE CONTROL DISTRITAL'!E7 -> MEDICIÓN | I7: CAMPAÑA ANUAL PERMANENTE 2024
B9: ='PANEL DE CONTROL DISTRITAL'!B8 -> Proceso | C9: ='PANEL DE CONTROL DISTRITAL'!C8 -> Dueño de Proceso | D9: ='PANEL DE CONTROL DISTRITAL'!D8 -> Indicador | E9: ='PANEL DE CONTROL DISTRITAL'!E8 -> Cálculo | F9: ='PANEL DE CONTROL DISTRITAL'!F8 -> Periodo | G9: ='PANEL DE CONTROL DISTRITAL'!G8 -> Estimado | H9: ='PANEL DE CONTROL DISTRITAL'!H8 -> Nominativo | I9: ='090151'!I9 -> 2024-28 | J9: ='090151'!J9 -> 2024-29 | K9: ='090151'!K9 -> 2024-30 | L9: ='090151'!L9 -> 2024-31 | M9: ='090151'!M9 -> 2024-32 | N9: ='090151'!N9 -> 2024-33 | O9: ='090151'!O9 -> 2024-34 | P9: ='090151'!P9 -> 2024-35 | ... U9: ='090151'!U9 -> 2024-40
A10: ='PANEL DE CONTROL DISTRITAL'!A9 -> 1 | B10: ='PANEL DE CONTROL DISTRITAL'!B9 -> Entrevista | C10: ='PANEL DE CONTROL DISTRITAL'!C9 -> Auxiliar de Atención Ciudadana | D10: ='PANEL DE CONTROL DISTRITAL'!D9 -> Fichas requisitadas correctamente. | E10: ='PANEL DE CONTROL DISTRITAL'!E9 -> (Fichas requisitadas correctamente / Fichas revisadas en la muestra del 10%) x 100 | F10: ='PANEL DE CONTROL DISTRITAL'!F9 -> Semanal (remesa) | G10: ='PANEL DE CONTROL DISTRITAL'!G9 -> 0.9 | H10: ='PANEL DE CONTROL DISTRITAL'!H9 -> Fichas requistadas correctamente | I10: 30 | J10: 78 | K10: 80 | L10: 71 | M10: 70 | N10: 67 | O10: 68 | P10: 70 | Q10: 67 | R10: 70 | S10: 76 | T10: 71 | U10: 69 | V10: =IFERROR(SUM(I10:U10)/SUM(I11:U11),0) -> 0.92203742
H11: ='PANEL DE CONTROL DISTRITAL'!H10 -> Fichas revisadas en la Muestra del 10% | I11: 37 | J11: 87 | K11: 87 | L11: 76 | M11: 76 | N11: 71 | O11: 75 | P11: 77 | Q11: 73 | R11: 75 | S11: 82 | T11: 75 | U11: 71
A13: ='PANEL DE CONTROL DISTRITAL'!A12 -> 2 | B13: ='PANEL DE CONTROL DISTRITAL'!B12 -> Trámite | C13: ='PANEL DE CONTROL DISTRITAL'!C12 -> Operador de Equipo Tecnológico | D13: ='PANEL DE CONTROL DISTRITAL'!D12 -> Trámites exitosos. | E13: ='PANEL DE CONTROL DISTRITAL'!E12 -> (Número de trámites exitosos / Número de trámites aplicados) x 100 | F13: ='PANEL DE CONTROL DISTRITAL'!F12 -> Semanal (remesa) | G13: ='PANEL DE CONTROL DISTRITAL'!G12 -> 0.9 | H13: ='PANEL DE CONTROL DISTRITAL'!H12 -> Número de trámites exitosos | I13: 310 | J13: 750 | K13: 768 | L13: 708 | M13: 706 | N13: 685 | O13: 743 | P13: 762 | Q13: 723 | R13: 710 | S13: 769 | T13: 709 | U13: 457 | V13: =IFERROR(SUM(I13:U13)/SUM(I14:U14),0) -> 0.97205346
H14: ='PANEL DE CONTROL DISTRITAL'!H13 -> Número de trámites aplicados | I14: 312 | J14: 754 | K14: 771 | L14: 709 | M14: 712 | N14: 685 | O14: 745 | P14: 765 | Q14: 723 | R14: 716 | S14: 776 | T14: 714 | U14: 671
A16: ='PANEL DE CONTROL DISTRITAL'!A15 -> 3 | B16: ='PANEL DE CONTROL DISTRITAL'!B15 -> Transferencia de la Información. | C16: ='PANEL DE CONTROL DISTRITAL'!C15 -> Responsable de Módulo | D16: ='PANEL DE CONTROL DISTRITAL'!D15 -> Reenvíos exitosos. | E16: ='PANEL DE CONTROL DISTRITAL'!E15 -> (Ejecución de los scripts de reenvío de notificaciones / Solicitud de reenvíos de scripts requeridos) x100 | F16: ='PANEL DE CONTROL DISTRITAL'!F15 -> Semanal (remesa) | G16: ='PANEL DE CONTROL DISTRITAL'!G15 -> 1 | H16: ='PANEL DE CONTROL DISTRITAL'!H15 -> Ejecución de los scripts de reenvío de notificaciones | I16: 1 | J16: 0 | K16: 0 | L16: 0 | M16: 0 | N16: 0 | O16: 0 | P16: 0 | Q16: 0 | R16: 0 | S16: 0 | T16: 0 | U16: 0 | V16: =IFERROR(SUM(I16:U16)/SUM(I17:U17),1) -> 1
H17: ='PANEL DE CONTROL DISTRITAL'!H16 -> Solicitud de reevíos de scripts requeridos | I17: 1 | J17: 0 | K17: 0 | L17: 0 | M17: 0 | N17: 0 | O17: 0 | P17: 0 | Q17: 0 | R17: 0 | S17: 0 | T17: 0 | U17: 0
A19: ='PANEL DE CONTROL DISTRITAL'!A18 -> 4 | B19: ='PANEL DE CONTROL DISTRITAL'!B18 -> Conciliación de Credenciales para Votar. | C19: ='PANEL DE CONTROL DISTRITAL'!C18 -> Responsable de Módulo | D19: ='PANEL DE CONTROL DISTRITAL'!D18 -> Credenciales disponibles para entrega. | E19: ='PANEL DE CONTROL DISTRITAL'!E18 -> [(Credenciales recibidas - Credenciales inconsistentes) / Credenciales recibidas] x 100 | F19: ='PANEL DE CONTROL DISTRITAL'!F18 -> Semanal (remesa) | G19: ='PANEL DE CONTROL DISTRITAL'!G18 -> 0.9 | H19: ='PANEL DE CONTROL DISTRITAL'!H18 -> Credenciales Recibidas - Credenciales inconsistentes | I19: 177 | J19: 538 | K19: 750 | L19: 752 | M19: 669 | N19: 717 | O19: 703 | P19: 768 | Q19: 610 | R19: 856 | S19: 583 | T19: 887 | U19: 683 | V19: =IFERROR(SUM(I19:U19)/SUM(I20:U20),0) -> 1
H20: ='PANEL DE CONTROL DISTRITAL'!H19 -> Credenciales recibidas | I20: 177 | J20: 538 | K20: 750 | L20: 752 | M20: 669 | N20: 717 | O20: 703 | P20: 768 | Q20: 610 | R20: 856 | S20: 583 | T20: 887 | U20: 683
A22: ='PANEL DE CONTROL DISTRITAL'!A21 -> 5 | B22: ='PANEL DE CONTROL DISTRITAL'!B21 -> Conciliación de Credenciales para Votar. | C22: ='PANEL DE CONTROL DISTRITAL'!C21 -> Responsable de Módulo | D22: ='PANEL DE CONTROL DISTRITAL'!D21 -> Arqueo de credenciales. | E22: ='PANEL DE CONTROL DISTRITAL'!E21 -> (Credenciales disponibles (físicas) / Credenciales disponibles registradas en SIIRFE-MAC) x 100 | F22: ='PANEL DE CONTROL DISTRITAL'!F21 -> Semanal (remesa) | G22: ='PANEL DE CONTROL DISTRITAL'!G21 -> 1 | H22: ='PANEL DE CONTROL DISTRITAL'!H21 -> Credenciales disponibles (físicas) | I22: 602 | J22: 953 | K22: 1200 | L22: 1316 | M22: 1220 | N22: 1288 | O22: 1258 | P22: 1357 | Q22: 1239 | R22: 1377 | S22: 1228 | T22: 1376 | U22: 1342 | V22: =IFERROR(SUM(I22:U22)/SUM(I23:U23),0) -> 1
H23: ='PANEL DE CONTROL DISTRITAL'!H22 -> Credenciales disponibles registradas en SIIRFE | I23: 602 | J23: 953 | K23: 1200 | L23: 1316 | M23: 1220 | N23: 1288 | O23: 1258 | P23: 1357 | Q23: 1239 | R23: 1377 | S23: 1228 | T23: 1376 | U23: 1342
A25: ='PANEL DE CONTROL DISTRITAL'!A24 -> 6 | B25: ='PANEL DE CONTROL DISTRITAL'!B24 -> Entrega de la Credencial para Votar. | C25: ='PANEL DE CONTROL DISTRITAL'!C24 -> Operador de Equipo Tecnológico | D25: ='PANEL DE CONTROL DISTRITAL'!D24 -> Efectividad de entrega de CPV en MAC. | E25: ='PANEL DE CONTROL DISTRITAL'!E24 -> (Total de credenciales entregadas / Total de ciudadanas y ciudadanos que acuden al MAC a recoger su credencial) x 100 | F25: ='PANEL DE CONTROL DISTRITAL'!F24 -> Semanal (remesa) | G25: ='PANEL DE CONTROL DISTRITAL'!G24 -> 0.9 | H25: ='PANEL DE CONTROL DISTRITAL'!H24 -> Total de credenciales entregadas | I25: 20 | J25: 187 | K25: 503 | L25: 636 | M25: 703 | N25: 648 | O25: 733 | P25: 669 | Q25: 728 | R25: 703 | S25: 732 | T25: 739 | U25: 717 | V25: =IFERROR(SUM(I25:U25)/SUM(I26:U26),0) -> 0.99548562
H26: ='PANEL DE CONTROL DISTRITAL'!H25 -> Total de ciudadanos que acuden a MAC a recoger su credencial | I26: 20 | J26: 187 | K26: 508 | L26: 639 | M26: 705 | N26: 650 | O26: 739 | P26: 670 | Q26: 731 | R26: 704 | S26: 735 | T26: 744 | U26: 721
B27: *Registre el valor nominal solicitado en la celda, el resultado proporcional esta automatizado.
B34: CUADRO DE OBSERVACIONES
B35: Descripción | H35: No conformidad

Sheet 092051
A1: ='PANEL DE CONTROL DISTRITAL'!A1:Q1 -> INSTITUTO NACIONAL ELECTORAL SISTEMA DE GESTIÓN DE LA CALIDAD CIUDAD DE MÉXICO
D2: Distrito | E2: 20 | F2: Módulo | H2: 92051
A4: TABLERO DE CONTROL DE PROCESOS SUSTANTIVOS DEL SISTEMA DE GESTIÓN DE LA CALIDAD
A6: ='PANEL DE CONTROL DISTRITAL'!A6 -> Número | B6: ='PANEL DE CONTROL DISTRITAL'!B6 -> PROCESOS SUSTANTIVOS E INDICADORES | I6: SEMANA OPERATIVA | V6: % AVANCE REGISTRADO
B7: ='PANEL DE CONTROL DISTRITAL'!B7 -> DESCRIPCIÓN | E7: ='PANEL DE CONTROL DISTRITAL'!E7 -> MEDICIÓN | I7: CAMPAÑA ANUAL PERMANENTE 2024
B9: ='PANEL DE CONTROL DISTRITAL'!B8 -> Proceso | C9: ='PANEL DE CONTROL DISTRITAL'!C8 -> Dueño de Proceso | D9: ='PANEL DE CONTROL DISTRITAL'!D8 -> Indicador | E9: ='PANEL DE CONTROL DISTRITAL'!E8 -> Cálculo | F9: ='PANEL DE CONTROL DISTRITAL'!F8 -> Periodo | G9: ='PANEL DE CONTROL DISTRITAL'!G8 -> Estimado | H9: ='PANEL DE CONTROL DISTRITAL'!H8 -> Nominativo | I9: ='090151'!I9 -> 2024-28 | J9: ='090151'!J9 -> 2024-29 | K9: ='090151'!K9 -> 2024-30 | L9: ='090151'!L9 -> 2024-31 | M9: ='090151'!M9 -> 2024-32 | N9: ='090151'!N9 -> 2024-33 | O9: ='090151'!O9 -> 2024-34 | P9: ='090151'!P9 -> 2024-35 | ... U9: ='090151'!U9 -> 2024-40
A10: ='PANEL DE CONTROL DISTRITAL'!A9 -> 1 | B10: ='PANEL DE CONTROL DISTRITAL'!B9 -> Entrevista | C10: ='PANEL DE CONTROL DISTRITAL'!C9 -> Auxiliar de Atención Ciudadana | D10: ='PANEL DE CONTROL DISTRITAL'!D9 -> Fichas requisitadas correctamente. | E10: ='PANEL DE CONTROL DISTRITAL'!E9 -> (Fichas requisitadas correctamente / Fichas revisadas en la muestra del 10%) x 100 | F10: ='PANEL DE CONTROL DISTRITAL'!F9 -> Semanal (remesa) | G10: ='PANEL DE CONTROL DISTRITAL'!G9 -> 0.9 | H10: ='PANEL DE CONTROL DISTRITAL'!H9 -> Fichas requistadas correctamente | I10: 8 | J10: 68 | K10: 61 | L10: 55 | M10: 58 | N10: 54 | O10: 55 | P10: 57 | Q10: 57 | R10: 59 | S10: 56 | T10: 53 | U10: 50 | V10: =IFERROR(SUM(I10:U10)/SUM(I11:U11),0) -> 1
H11: ='PANEL DE CONTROL DISTRITAL'!H10 -> Fichas revisadas en la Muestra del 10% | I11: 8 | J11: 68 | K11: 61 | L11: 55 | M11: 58 | N11: 54 | O11: 55 | P11: 57 | Q11: 57 | R11: 59 | S11: 56 | T11: 53 | U11: 50
A13: ='PANEL DE CONTROL DISTRITAL'!A12 -> 2 | B13: ='PANEL DE CONTROL DISTRITAL'!B12 -> Trámite | C13: ='PANEL DE CONTROL DISTRITAL'!C12 -> Operador de Equipo Tecnológico | D13: ='PANEL DE CONTROL DISTRITAL'!D12 -> Trámites exitosos. | E13: ='PANEL DE CONTROL DISTRITAL'!E12 -> (Número de trámites exitosos / Número de trámites aplicados) x 100 | F13: ='PANEL DE CONTROL DISTRITAL'!F12 -> Semanal (remesa) | G13: ='PANEL DE CONTROL DISTRITAL'!G12 -> 0.9 | H13: ='PANEL DE CONTROL DISTRITAL'!H12 -> Número de trámites exitosos | I13: 83 | J13: 689 | K13: 606 | L13: 548 | M13: 580 | N13: 544 | O13: 544 | P13: 560 | Q13: 569 | R13: 585 | S13: 552 | T13: 530 | U13: 498 | V13: =IFERROR(SUM(I13:U13)/SUM(I14:U14),0) -> 0.99652778
H14: ='PANEL DE CONTROL DISTRITAL'!H13 -> Número de trámites aplicados | I14: 83 | J14: 689 | K14: 606 | L14: 548 | M14: 580 | N14: 544 | O14: 549 | P14: 567 | Q14: 570 | R14: 587 | S14: 555 | T14: 534 | U14: 500
A16: ='PANEL DE CONTROL DISTRITAL'!A15 -> 3 | B16: ='PANEL DE CONTROL DISTRITAL'!B15 -> Transferencia de la Información. | C16: ='PANEL DE CONTROL DISTRITAL'!C15 -> Responsable de Módulo | D16: ='PANEL DE CONTROL DISTRITAL'!D15 -> Reenvíos exitosos. | E16: ='PANEL DE CONTROL DISTRITAL'!E15 -> (Ejecución de los scripts de reenvío de notificaciones / Solicitud de reenvíos de scripts requeridos) x100 | F16: ='PANEL DE CONTROL DISTRITAL'!F15 -> Semanal (remesa) | G16: ='PANEL DE CONTROL DISTRITAL'!G15 -> 1 | H16: ='PANEL DE CONTROL DISTRITAL'!H15 -> Ejecución de los scripts de reenvío de notificaciones | I16: 0 | J16: 0 | K16: 0 | L16: 0 | M16: 0 | N16: 0 | O16: 0 | P16: 0 | Q16: 0 | R16: 0 | S16: 0 | T16: 0 | U16: 0 | V16: =IFERROR(SUM(I16:U16)/SUM(I17:U17),1) -> 1
H17: ='PANEL DE CONTROL DISTRITAL'!H16 -> Solicitud de reevíos de scripts requeridos | I17: 0 | J17: 0 | K17: 0 | L17: 0 | M17: 0 | N17: 0 | O17: 0 | P17: 0 | Q17: 0 | R17: 0 | S17: 0 | T17: 0 | U17: 0
A19: ='PANEL DE CONTROL DISTRITAL'!A18 -> 4 | B19: ='PANEL DE CONTROL DISTRITAL'!B18 -> Conciliación de Credenciales para Votar. | C19: ='PANEL DE CONTROL DISTRITAL'!C18 -> Responsable de Módulo | D19: ='PANEL DE CONTROL DISTRITAL'!D18 -> Credenciales disponibles para entrega. | E19: ='PANEL DE CONTROL DISTRITAL'!E18 -> [(Credenciales recibidas - Credenciales inconsistentes) / Credenciales recibidas] x 100 | F19: ='PANEL DE CONTROL DISTRITAL'!F18 -> Semanal (remesa) | G19: ='PANEL DE CONTROL DISTRITAL'!G18 -> 0.9 | H19: ='PANEL DE CONTROL DISTRITAL'!H18 -> Credenciales Recibidas - Credenciales inconsistentes | I19: 0 | J19: 474 | K19: 620 | L19: 577 | M19: 533 | N19: 571 | O19: 544 | P19: 543 | Q19: 475 | R19: 679 | S19: 579 | T19: 528 | U19: 514 | V19: =IFERROR(SUM(I19:U19)/SUM(I20:U20),0) -> 1
H20: ='PANEL DE CONTROL DISTRITAL'!H19 -> Credenciales recibidas | I20: 0 | J20: 474 | K20: 620 | L20: 577 | M20: 533 | N20: 571 | O20: 544 | P20: 543 | Q20: 475 | R20: 679 | S20: 579 | T20: 528 | U20: 514
A22: ='PANEL DE CONTROL DISTRITAL'!A21 -> 5 | B22: ='PANEL DE CONTROL DISTRITAL'!B21 -> Conciliación de Credenciales para Votar. | C22: ='PANEL DE CONTROL DISTRITAL'!C21 -> Responsable de Módulo | D22: ='PANEL DE CONTROL DISTRITAL'!D21 -> Arqueo de credenciales. | E22: ='PANEL DE CONTROL DISTRITAL'!E21 -> (Credenciales disponibles (físicas) / Credenciales disponibles registradas en SIIRFE-MAC) x 100 | F22: ='PANEL DE CONTROL DISTRITAL'!F21 -> Semanal (remesa) | G22: ='PANEL DE CONTROL DISTRITAL'!G21 -> 1 | H22: ='PANEL DE CONTROL DISTRITAL'!H21 -> Credenciales disponibles (físicas) | I22: 0 | J22: 588 | K22: 832 | L22: 853 | M22: 821 | N22: 882 | O22: 876 | P22: 871 | Q22: 810 | R22: 942 | S22: 956 | T22: 898 | U22: 885 | V22: =IFERROR(SUM(I22:U22)/SUM(I23:U23),0) -> 1
H23: ='PANEL DE CONTROL DISTRITAL'!H22 -> Credenciales disponibles registradas en SIIRFE | I23: 0 | J23: 588 | K23: 832 | L23: 853 | M23: 821 | N23: 882 | O23: 876 | P23: 871 | Q23: 810 | R23: 942 | S23: 956 | T23: 898 | U23: 885
A25: ='PANEL DE CONTROL DISTRITAL'!A24 -> 6 | B25: ='PANEL DE CONTROL DISTRITAL'!B24 -> Entrega de la Credencial para Votar. | C25: ='PANEL DE CONTROL DISTRITAL'!C24 -> Operador de Equipo Tecnológico | D25: ='PANEL DE CONTROL DISTRITAL'!D24 -> Efectividad de entrega de CPV en MAC. | E25: ='PANEL DE CONTROL DISTRITAL'!E24 -> (Total de credenciales entregadas / Total de ciudadanas y ciudadanos que acuden al MAC a recoger su credencial) x 100 | F25: ='PANEL DE CONTROL DISTRITAL'!F24 -> Semanal (remesa) | G25: ='PANEL DE CONTROL DISTRITAL'!G24 -> 0.9 | H25: ='PANEL DE CONTROL DISTRITAL'!H24 -> Total de credenciales entregadas | I25: 0 | J25: 87 | K25: 376 | L25: 556 | M25: 540 | N25: 510 | O25: 550 | P25: 548 | Q25: 536 | R25: 544 | S25: 565 | T25: 586 | U25: 527 | V25: =IFERROR(SUM(I25:U25)/SUM(I26:U26),0) -> 1
H26: ='PANEL DE CONTROL DISTRITAL'!H25 -> Total de ciudadanos que acuden a MAC a recoger su credencial | I26: 0 | J26: 87 | K26: 376 | L26: 556 | M26: 540 | N26: 510 | O26: 550 | P26: 548 | Q26: 536 | R26: 544 | S26: 565 | T26: 586 | U26: 527
B27: *Registre el valor nominal solicitado en la celda, el resultado proporcional esta automatizado.
B34: CUADRO DE OBSERVACIONES
B35: Descripción | H35: No conformidad

Sheet 092151
A1: ='PANEL DE CONTROL DISTRITAL'!A1:Q1 -> INSTITUTO NACIONAL ELECTORAL SISTEMA DE GESTIÓN DE LA CALIDAD CIUDAD DE MÉXICO
D2: Distrito | E2: 21 | F2: Módulo | H2: 92151
A4: TABLERO DE CONTROL DE PROCESOS SUSTANTIVOS DEL SISTEMA DE GESTIÓN DE LA CALIDAD
A6: ='PANEL DE CONTROL DISTRITAL'!A6 -> Número | B6: ='PANEL DE CONTROL DISTRITAL'!B6 -> PROCESOS SUSTANTIVOS E INDICADORES | I6: SEMANA OPERATIVA | V6: % AVANCE REGISTRADO
B7: ='PANEL DE CONTROL DISTRITAL'!B7 -> DESCRIPCIÓN | E7: ='PANEL DE CONTROL DISTRITAL'!E7 -> MEDICIÓN | I7: CAMPAÑA ANUAL PERMANENTE 2024
B9: ='PANEL DE CONTROL DISTRITAL'!B8 -> Proceso | C9: ='PANEL DE CONTROL DISTRITAL'!C8 -> Dueño de Proceso | D9: ='PANEL DE CONTROL DISTRITAL'!D8 -> Indicador | E9: ='PANEL DE CONTROL DISTRITAL'!E8 -> Cálculo | F9: ='PANEL DE CONTROL DISTRITAL'!F8 -> Periodo | G9: ='PANEL DE CONTROL DISTRITAL'!G8 -> Estimado | H9: ='PANEL DE CONTROL DISTRITAL'!H8 -> Nominativo | I9: ='090151'!I9 -> 2024-28 | J9: ='090151'!J9 -> 2024-29 | K9: ='090151'!K9 -> 2024-30 | L9: ='090151'!L9 -> 2024-31 | M9: ='090151'!M9 -> 2024-32 | N9: ='090151'!N9 -> 2024-33 | O9: ='090151'!O9 -> 2024-34 | P9: ='090151'!P9 -> 2024-35 | ... U9: ='090151'!U9 -> 2024-40
A10: ='PANEL DE CONTROL DISTRITAL'!A9 -> 1 | B10: ='PANEL DE CONTROL DISTRITAL'!B9 -> Entrevista | C10: ='PANEL DE CONTROL DISTRITAL'!C9 -> Auxiliar de Atención Ciudadana | D10: ='PANEL DE CONTROL DISTRITAL'!D9 -> Fichas requisitadas correctamente. | E10: ='PANEL DE CONTROL DISTRITAL'!E9 -> (Fichas requisitadas correctamente / Fichas revisadas en la muestra del 10%) x 100 | F10: ='PANEL DE CONTROL DISTRITAL'!F9 -> Semanal (remesa) | G10: ='PANEL DE CONTROL DISTRITAL'!G9 -> 0.9 | H10: ='PANEL DE CONTROL DISTRITAL'!H9 -> Fichas requistadas correctamente | I10: 37 | J10: 95 | K10: 93 | L10: 82 | M10: 86 | N10: 87 | O10: 88 | P10: 82 | Q10: 85 | R10: 84 | S10: 79 | T10: 85 | U10: 65 | V10: =IFERROR(SUM(I10:U10)/SUM(I11:U11),0) -> 1
H11: ='PANEL DE CONTROL DISTRITAL'!H10 -> Fichas revisadas en la Muestra del 10% | I11: 37 | J11: 95 | K11: 93 | L11: 82 | M11: 86 | N11: 87 | O11: 88 | P11: 82 | Q11: 85 | R11: 84 | S11: 79 | T11: 85 | U11: 65
A13: ='PANEL DE CONTROL DISTRITAL'!A12 -> 2 | B13: ='PANEL DE CONTROL DISTRITAL'!B12 -> Trámite | C13: ='PANEL DE CONTROL DISTRITAL'!C12 -> Operador de Equipo Tecnológico | D13: ='PANEL DE CONTROL DISTRITAL'!D12 -> Trámites exitosos. | E13: ='PANEL DE CONTROL DISTRITAL'!E12 -> (Número de trámites exitosos / Número de trámites aplicados) x 100 | F13: ='PANEL DE CONTROL DISTRITAL'!F12 -> Semanal (remesa) | G13: ='PANEL DE CONTROL DISTRITAL'!G12 -> 0.9 | H13: ='PANEL DE CONTROL DISTRITAL'!H12 -> Número de trámites exitosos | I13: 363 | J13: 933 | K13: 920 | L13: 804 | M13: 852 | N13: 854 | O13: 873 | P13: 816 | Q13: 841 | R13: 834 | S13: 780 | T13: 835 | U13: 464 | V13: =IFERROR(SUM(I13:U13)/SUM(I14:U14),0) -> 0.97713078
H14: ='PANEL DE CONTROL DISTRITAL'!H13 -> Número de trámites aplicados | I14: 366 | J14: 943 | K14: 922 | L14: 811 | M14: 857 | N14: 864 | O14: 876 | P14: 816 | Q14: 841 | R14: 838 | S14: 786 | T14: 843 | U14: 644
A16: ='PANEL DE CONTROL DISTRITAL'!A15 -> 3 | B16: ='PANEL DE CONTROL DISTRITAL'!B15 -> Transferencia de la Información. | C16: ='PANEL DE CONTROL DISTRITAL'!C15 -> Responsable de Módulo | D16: ='PANEL DE CONTROL DISTRITAL'!D15 -> Reenvíos exitosos. | E16: ='PANEL DE CONTROL DISTRITAL'!E15 -> (Ejecución de los scripts de reenvío de notificaciones / Solicitud de reenvíos de scripts requeridos) x100 | F16: ='PANEL DE CONTROL DISTRITAL'!F15 -> Semanal (remesa) | G16: ='PANEL DE CONTROL DISTRITAL'!G15 -> 1 | H16: ='PANEL DE CONTROL DISTRITAL'!H15 -> Ejecución de los scripts de reenvío de notificaciones | I16: 0 | J16: 0 | K16: 0 | L16: 0 | M16: 0 | N16: 0 | O16: 0 | P16: 0 | Q16: 0 | R16: 0 | S16: 0 | T16: 0 | U16: 0 | V16: =IFERROR(SUM(I16:U16)/SUM(I17:U17),1) -> 1
H17: ='PANEL DE CONTROL DISTRITAL'!H16 -> Solicitud de reevíos de scripts requeridos | I17: 0 | J17: 0 | K17: 0 | L17: 0 | M17: 0 | N17: 0 | O17: 0 | P17: 0 | Q17: 0 | R17: 0 | S17: 0 | T17: 0 | U17: 0
A19: ='PANEL DE CONTROL DISTRITAL'!A18 -> 4 | B19: ='PANEL DE CONTROL DISTRITAL'!B18 -> Conciliación de Credenciales para Votar. | C19: ='PANEL DE CONTROL DISTRITAL'!C18 -> Responsable de Módulo | D19: ='PANEL DE CONTROL DISTRITAL'!D18 -> Credenciales disponibles para entrega. | E19: ='PANEL DE CONTROL DISTRITAL'!E18 -> [(Credenciales recibidas - Credenciales inconsistentes) / Credenciales recibidas] x 100 | F19: ='PANEL DE CONTROL DISTRITAL'!F18 -> Semanal (remesa) | G19: ='PANEL DE CONTROL DISTRITAL'!G18 -> 0.9 | H19: ='PANEL DE CONTROL DISTRITAL'!H18 -> Credenciales Recibidas - Credenciales inconsistentes | I19: 204 | J19: 689 | K19: 923 | L19: 841 | M19: 809 | N19: 856 | O19: 893 | P19: 839 | Q19: 685 | R19: 976 | S19: 825 | T19: 792 | U19: 735 | V19: =IFERROR(SUM(I19:U19)/SUM(I20:U20),0) -> 1
H20: ='PANEL DE CONTROL DISTRITAL'!H19 -> Credenciales recibidas | I20: 204 | J20: 689 | K20: 923 | L20: 841 | M20: 809 | N20: 856 | O20: 893 | P20: 839 | Q20: 685 | R20: 976 | S20: 825 | T20: 792 | U20: 735
A22: ='PANEL DE CONTROL DISTRITAL'!A21 -> 5 | B22: ='PANEL DE CONTROL DISTRITAL'!B21 -> Conciliación de Credenciales para Votar. | C22: ='PANEL DE CONTROL DISTRITAL'!C21 -> Responsable de Módulo | D22: ='PANEL DE CONTROL DISTRITAL'!D21 -> Arqueo de credenciales. | E22: ='PANEL DE CONTROL DISTRITAL'!E21 -> (Credenciales disponibles (físicas) / Credenciales disponibles registradas en SIIRFE-MAC) x 100 | F22: ='PANEL DE CONTROL DISTRITAL'!F21 -> Semanal (remesa) | G22: ='PANEL DE CONTROL DISTRITAL'!G21 -> 1 | H22: ='PANEL DE CONTROL DISTRITAL'!H21 -> Credenciales disponibles (físicas) | I22: 539 | J22: 1030 | K22: 1306 | L22: 1347 | M22: 1300 | N22: 1351 | O22: 1435 | P22: 1433 | Q22: 1266 | R22: 1407 | S22: 1438 | T22: 1371 | U22: 1344 | V22: =IFERROR(SUM(I22:U22)/SUM(I23:U23),0) -> 1
H23: ='PANEL DE CONTROL DISTRITAL'!H22 -> Credenciales disponibles registradas en SIIRFE | I23: 539 | J23: 1030 | K23: 1306 | L23: 1347 | M23: 1300 | N23: 1351 | O23: 1435 | P23: 1433 | Q23: 1266 | R23: 1407 | S23: 1438 | T23: 1371 | U23: 1344
A25: ='PANEL DE CONTROL DISTRITAL'!A24 -> 6 | B25: ='PANEL DE CONTROL DISTRITAL'!B24 -> Entrega de la Credencial para Votar. | C25: ='PANEL DE CONTROL DISTRITAL'!C24 -> Operador de Equipo Tecnológico | D25: ='PANEL DE CONTROL DISTRITAL'!D24 -> Efectividad de entrega de CPV en MAC. | E25: ='PANEL DE CONTROL DISTRITAL'!E24 -> (Total de credenciales entregadas / Total de ciudadanas y ciudadanos que acuden al MAC a recoger su credencial) x 100 | F25: ='PANEL DE CONTROL DISTRITAL'!F24 -> Semanal (remesa) | G25: ='PANEL DE CONTROL DISTRITAL'!G24 -> 0.9 | H25: ='PANEL DE CONTROL DISTRITAL'!H24 -> Total de credenciales entregadas | I25: 13 | J25: 198 | K25: 647 | L25: 800 | M25: 816 | N25: 805 | O25: 809 | P25: 841 | Q25: 852 | R25: 824 | S25: 794 | T25: 859 | U25: 762 | V25: =IFERROR(SUM(I25:U25)/SUM(I26:U26),0) -> 1
H26: ='PANEL DE CONTROL DISTRITAL'!H25 -> Total de ciudadanos que acuden a MAC a recoger su credencial | I26: 13 | J26: 198 | K26: 647 | L26: 800 | M26: 816 | N26: 805 | O26: 809 | P26: 841 | Q26: 852 | R26: 824 | S26: 794 | T26: 859 | U26: 762
B27: *Registre el valor nominal solicitado en la celda, el resultado proporcional esta automatizado.
B34: CUADRO DE OBSERVACIONES
B35: Descripción | H35: No conformidad

Sheet 092152
A1: ='PANEL DE CONTROL DISTRITAL'!A1:Q1 -> INSTITUTO NACIONAL ELECTORAL SISTEMA DE GESTIÓN DE LA CALIDAD CIUDAD DE MÉXICO
D2: Distrito | E2: 21 | F2: Módulo | H2: 92152
A4: TABLERO DE CONTROL DE PROCESOS SUSTANTIVOS DEL SISTEMA DE GESTIÓN DE LA CALIDAD
A6: ='PANEL DE CONTROL DISTRITAL'!A6 -> Número | B6: ='PANEL DE CONTROL DISTRITAL'!B6 -> PROCESOS SUSTANTIVOS E INDICADORES | I6: SEMANA OPERATIVA | V6: % AVANCE REGISTRADO
B7: ='PANEL DE CONTROL DISTRITAL'!B7 -> DESCRIPCIÓN | E7: ='PANEL DE CONTROL DISTRITAL'!E7 -> MEDICIÓN | I7: CAMPAÑA ANUAL PERMANENTE 2024
B9: ='PANEL DE CONTROL DISTRITAL'!B8 -> Proceso | C9: ='PANEL DE CONTROL DISTRITAL'!C8 -> Dueño de Proceso | D9: ='PANEL DE CONTROL DISTRITAL'!D8 -> Indicador | E9: ='PANEL DE CONTROL DISTRITAL'!E8 -> Cálculo | F9: ='PANEL DE CONTROL DISTRITAL'!F8 -> Periodo | G9: ='PANEL DE CONTROL DISTRITAL'!G8 -> Estimado | H9: ='PANEL DE CONTROL DISTRITAL'!H8 -> Nominativo | I9: ='090151'!I9 -> 2024-28 | J9: ='090151'!J9 -> 2024-29 | K9: ='090151'!K9 -> 2024-30 | L9: ='090151'!L9 -> 2024-31 | M9: ='090151'!M9 -> 2024-32 | N9: ='090151'!N9 -> 2024-33 | O9: ='090151'!O9 -> 2024-34 | P9: ='090151'!P9 -> 2024-35 | ... U9: ='090151'!U9 -> 2024-40
A10: ='PANEL DE CONTROL DISTRITAL'!A9 -> 1 | B10: ='PANEL DE CONTROL DISTRITAL'!B9 -> Entrevista | C10: ='PANEL DE CONTROL DISTRITAL'!C9 -> Auxiliar de Atención Ciudadana | D10: ='PANEL DE CONTROL DISTRITAL'!D9 -> Fichas requisitadas correctamente. | E10: ='PANEL DE CONTROL DISTRITAL'!E9 -> (Fichas requisitadas correctamente / Fichas revisadas en la muestra del 10%) x 100 | F10: ='PANEL DE CONTROL DISTRITAL'!F9 -> Semanal (remesa) | G10: ='PANEL DE CONTROL DISTRITAL'!G9 -> 0.9 | H10: ='PANEL DE CONTROL DISTRITAL'!H9 -> Fichas requistadas correctamente | I10: 0 | J10: 124 | K10: 141 | L10: 122 | M10: 128 | N10: 130 | O10: 126 | P10: 124 | Q10: 127 | R10: 127 | S10: 132 | T10: 122 | U10: 116 | V10: =IFERROR(SUM(I10:U10)/SUM(I11:U11),0) -> 0.96628499
H11: ='PANEL DE CONTROL DISTRITAL'!H10 -> Fichas revisadas en la Muestra del 10% | I11: 0 | J11: 139 | K11: 145 | L11: 129 | M11: 132 | N11: 130 | O11: 127 | P11: 129 | Q11: 134 | R11: 131 | S11: 133 | T11: 123 | U11: 120
