Workbook

Sheet PANEL DE CONTROL DISTRITAL
A1: INSTITUTO NACIONAL ELECTORAL SISTEMA DE GESTIÓN DE LA CALIDAD CIUDAD DE MÉXICO
M2: Fecha de corte dd/mm/aaaa | Q2: Version 0
A4: TABLERO DE CONTROL DISTRITAL DE PROCESOS SUSTANTIVOS DEL SISTEMA DE GESTIÓN DE LA CALIDAD
A5: CAMPAÑA ANUAL PERMANENTE 2024
A6: Número | B6: PROCESOS SUSTANTIVOS E INDICADORES | I6: % AVANCE REGISTRADO | K6: % AVANCE REGISTRADO | M6: % AVANCE REGISTRADO | O6: % AVANCE REGISTRADO | Q6: % AVANCE REGISTRADO | S6: % AVANCE REGISTRADO | U6: % AVANCE REGISTRADO | W6: % AVANCE REGISTRADO | Y6: % AVANCE REGISTRADO | AA6: % AVANCE REGISTRADO | AC6: % AVANCE REGISTRADO | AE6: % AVANCE REGISTRADO | AG6: % AVANCE REGISTRADO | AI6: % AVANCE REGISTRADO | AK6: % AVANCE REGISTRADO | AM6: % AVANCE REGISTRADO | AO6: % AVANCE REGISTRADO | AQ6: % AVANCE REGISTRADO | AS6: % AVANCE REGISTRADO | AU6: % AVANCE REGISTRADO | AW6: % AVANCE REGISTRADO | AY6: % AVANCE REGISTRADO | BB6: % AVANCE REGISTRADO
B7: DESCRIPCIÓN | E7: MEDICIÓN
B8: Proceso | C8: Dueño de Proceso | D8: Indicador | E8: Cálculo | F8: Periodo | G8: Estimado | H8: Nominativo | I8: Distrito 01 | K8: Distrito 02 | M8: Distrito 03 | O8: Distrito 04 | Q8: Distrito 05 | S8: Distrito 06 | U8: Distrito 07 | W8: Distrito 08 | Y8: Distrito 09 | AA8: Distrito 10 | AC8: Distrito 11 | AE8: Distrito 12 | AG8: Distrito 13 | AI8: Distrito 14 | AK8: Distrito 15 | AM8: Distrito 16 | AO8: Distrito 17 | AQ8: Distrito 18 | AS8: Distrito 19 | AU8: Distrito 20 | AW8: Distrito 21 | AY8: Distrito 22 | BB8: Estatal
A9: 1 | B9: Entrevista | C9: Auxiliar de Atención Ciudadana | D9: Fichas requisitadas correctamente. | E9: (Fichas requisitadas correctamente / Fichas revisadas en la muestra del 10%) x 100 | F9: Semanal (remesa) | G9: 0.9 | H9: Fichas requistadas correctamente | I9: =AVERAGE('090151'!V10:V11) -> 0.99192735 | K9: =AVERAGE('090251'!V10:V11) -> 0.97901821 | M9: =AVERAGE('090351'!V10:V11) -> 1 | O9: =AVERAGE('090451'!V10:V11) -> 1 | Q9: =AVERAGE('090551'!V10:V11) -> 1 | S9: =AVERAGE('090651'!V10:V11) -> 0.88693467 | U9: =AVERAGE('090751'!V10:V11) -> 1 | W9: =AVERAGE('090853'!V10:V11,'090852'!V10:V11) -> 0.97909605 | Y9: =AVERAGE('090951'!V10:V11) -> 1 | AA9: =AVERAGE('091051'!V10:V11) -> 1 | AC9: =AVERAGE('091151'!V10:V11) -> 0.98025478 | AE9: =AVERAGE('091251'!V10:V11,'091252'!V10:V11,'091253'!V10:V11) -> 1 | AG9: =AVERAGE('091351'!V10:V11) -> 1 | AI9: =AVERAGE('091451'!V10:V11) -> 1 | AK9: =AVERAGE('091551'!V10:V11,'091552'!V10:V11) -> 1 | AM9: =AVERAGE('091651'!V10:V11) -> 1 | AO9: =AVERAGE('091751'!V10:V11) -> 0.98511628 | AQ9: =AVERAGE('091851'!V10:V11) -> 1 | AS9: =AVERAGE('091952'!V10:V11) -> 0.92203742 | AU9: =AVERAGE('092051'!V10:V11) -> 1 | AW9: =AVERAGE('092151'!V10:V11,'092152'!V10:V11) -> 0.98314249 | AY9: =AVERAGE('092251'!V10:V11) -> 1 | BB9: =AVERAGE(I9,K9,M9,O9,Q9,S9,U9,W9,Y9,AA9,AC9,AE9,AG9,AI9,AK9,AM9,AO9,AQ9,AS9,AU9,AW9,AY9) -> 0.98670578
H10: Fichas revisadas en la Muestra del 10%
A12: 2 | B12: Trámite | C12: Operador de Equipo Tecnológico | D12: Trámites exitosos. | E12: (Número de trámites exitosos / Número de trámites aplicados) x 100 | F12: Semanal (remesa) | G12: 0.9 | H12: Número de trámites exitosos | I12: =AVERAGE('090151'!V13:V14) -> 0.97333607 | K12: =AVERAGE('090251'!V13:V14) -> 0.99531523 | M12: =AVERAGE('090351'!V13:V14) -> 0.99613343 | O12: =AVERAGE('090451'!V13:V14) -> 0.99634563 | Q12: =AVERAGE('090551'!V13:V14) -> 0.99820981 | S12: =AVERAGE('090651'!V13:V14) -> 0.97356867 | U12: =AVERAGE('090751'!V13:V14) -> 0.99645361 | W12: =AVERAGE('090853'!V13:V14,'090852'!V13:V14) -> 0.98610693 | Y12: =AVERAGE('090951'!V13:V14) -> 0.99735861 | AA12: =AVERAGE('091051'!V13:V14) -> 0.97280504 | AC12: =AVERAGE('091151'!V13:V14) -> 0.97587579 | AE12: =AVERAGE('091251'!V13:V14,'091252'!V13:V14,'091253'!V13:V14) -> 0.9712548 | AG12: =AVERAGE('091351'!V13:V14) -> 0.97427284 | AI12: =AVERAGE('091451'!V13:V14) -> 0.99861159 | AK12: =AVERAGE('091551'!V13:V14,'091552'!V13:V14) -> 0.97946056 | AM12: =AVERAGE('091651'!V13:V14) -> 0.97333581 | AO12: =AVERAGE('091751'!V13:V14) -> 0.99669871 | AQ12: =AVERAGE('091851'!V13:V14) -> 0.97362786 | AS12: =AVERAGE('091952'!V13:V14) -> 0.97205346 | AU12: =AVERAGE('092051'!V13:V14) -> 0.99652778 | AW12: =AVERAGE('092151'!V13:V14,'092152'!V13:V14) -> 0.98709122 | AY12: =AVERAGE('092251'!V13:V14) -> 0.99615317 | BB12: =AVERAGE(I12,K12,M12,O12,Q12,S12,U12,W12,Y12,AA12,AC12,AE12,AG12,AI12,AK12,AM12,AO12,AQ12,AS12,AU12,AW12,AY12) -> 0.98548166
H13: Número de trámites aplicados
A15: 3 | B15: Transferencia de la Información. | C15: Responsable de Módulo | D15: Reenvíos exitosos. | E15: (Ejecución de los scripts de reenvío de notificaciones / Solicitud de reenvíos de scripts requeridos) x100 | F15: Semanal (remesa) | G15: 1 | H15: Ejecución de los scripts de reenvío de notificaciones | I15: =AVERAGE('090151'!V16:V17) -> 1 | K15: =AVERAGE('090251'!V16:V17) -> 1 | M15: =AVERAGE('090351'!V16:V17) -> 1 | O15: =AVERAGE('090451'!V16:V17) -> 1 | Q15: =AVERAGE('090551'!V16:V17) -> 1 | S15: =AVERAGE('090651'!V16:V17) -> 1 | U15: =AVERAGE('090751'!V16:V17) -> 1 | W15: =AVERAGE('090853'!V16:V17,'090852'!V16:V17) -> 1 | Y15: =AVERAGE('090951'!V16:V17) -> 1 | AA15: =AVERAGE('091051'!V16:V17) -> 1 | AC15: =AVERAGE('091151'!V16:V17) -> 1 | AE15: =AVERAGE('091251'!V16:V17,'091252'!V16:V17,'091253'!V16:V17) -> 1 | AG15: =AVERAGE('091351'!V16:V17) -> 1 | AI15: =AVERAGE('091451'!V16:V17) -> 1 | AK15: =AVERAGE('091551'!V16:V17,'091552'!V16:V17) -> 1 | AM15: =AVERAGE('091651'!V16:V17) -> 1 | AO15: =AVERAGE('091751'!V16:V17) -> 1 | AQ15: =AVERAGE('091851'!V16:V17) -> 1 | AS15: =AVERAGE('091952'!V16:V17) -> 1 | AU15: =AVERAGE('092051'!V16:V17) -> 1 | AW15: =AVERAGE('092151'!V16:V17,'092152'!V16:V17) -> 1 | AY15: =AVERAGE('092251'!V16:V17) -> 1 | BB15: =AVERAGE(I15,K15,M15,O15,Q15,S15,U15,W15,Y15,AA15,AC15,AE15,AG15,AI15,AK15,AM15,AO15,AQ15,AS15,AU15,AW15,AY15) -> 1
H16: Solicitud de reevíos de scripts requeridos
A18: 4 | B18: Conciliación de Credenciales para Votar. | C18: Responsable de Módulo | D18: Credenciales disponibles para entrega. | E18: [(Credenciales recibidas - Credenciales inconsistentes) / Credenciales recibidas] x 100 | F18: Semanal (remesa) | G18: 0.9 | H18: Credenciales Recibidas - Credenciales inconsistentes | I18: =AVERAGE('090151'!V19:V20) -> 1 | K18: =AVERAGE('090251'!V19:V20) -> 1 | M18: =AVERAGE('090351'!V19:V20) -> 0.99986361 | O18: =AVERAGE('090451'!V19:V20) -> 1 | Q18: =AVERAGE('090551'!V19:V20) -> 0.9999069 | S18: =AVERAGE('090651'!V19:V20) -> 1 | U18: =AVERAGE('090751'!V19:V20) -> 1 | W18: =AVERAGE('090853'!V19:V20,'090852'!V19:V20) -> 0.99996617 | Y18: =AVERAGE('090951'!V19:V20) -> 1 | AA18: =AVERAGE('091051'!V19:V20) -> 0.99990619 | AC18: =AVERAGE('091151'!V19:V20) -> 1 | AE18: =AVERAGE('091251'!V19:V20,'091252'!V19:V20,'091253'!V19:V20) -> 1 | AG18: =AVERAGE('091351'!V19:V20) -> 1 | AI18: =AVERAGE('091451'!V19:V20) -> 1 | AK18: =AVERAGE('091551'!V19:V20,'091552'!V19:V20) -> 1 | AM18: =AVERAGE('091651'!V19:V20) -> 1 | AO18: =AVERAGE('091751'!V19:V20) -> 1 | AQ18: =AVERAGE('091851'!V19:V20) -> 1 | AS18: =AVERAGE('091952'!V19:V20) -> 1 | AU18: =AVERAGE('092051'!V19:V20) -> 1 | AW18: =AVERAGE('092151'!V19:V20,'092152'!V19:V20) -> 1 | AY18: =AVERAGE('092251'!V19:V20) -> 1 | BB18: =AVERAGE(I18,K18,M18,O18,Q18,S18,U18,W18,Y18,AA18,AC18,AE18,AG18,AI18,AK18,AM18,AO18,AQ18,AS18,AU18,AW18,AY18) -> 0.99998377
H19: Credenciales recibidas
A21: 5 | B21: Conciliación de Credenciales para Votar. | C21: Responsable de Módulo | D21: Arqueo de credenciales. | E21: (Credenciales disponibles (físicas) / Credenciales disponibles registradas en SIIRFE-MAC) x 100 | F21: Semanal (remesa) | G21: 1 | H21: Credenciales disponibles (físicas) | I21: =AVERAGE('090151'!V22:V23) -> 1 | K21: =AVERAGE('090251'!V22:V23) -> 1 | M21: =AVERAGE('090351'!V22:V23) -> 1 | O21: =AVERAGE('090451'!V22:V23) -> 1 | Q21: =AVERAGE('090551'!V22:V23) -> 1 | S21: =AVERAGE('090651'!V22:V23) -> 1 | U21: =AVERAGE('090751'!V22:V23) -> 1 | W21: =AVERAGE('090853'!V22:V23,'090852'!V22:V23) -> 1 | Y21: =AVERAGE('090951'!V22:V23) -> 1 | AA21: =AVERAGE('091051'!V22:V23) -> 1 | AC21: =AVERAGE('091151'!V22:V23) -> 1 | AE21: =AVERAGE('091251'!V22:V23,'091252'!V22:V23,'091253'!V22:V23) -> 1 | AG21: =AVERAGE('091351'!V22:V23) -> 1 | AI21: =AVERAGE('091451'!V22:V23) -> 1 | AK21: =AVERAGE('091551'!V22:V23,'091552'!V22:V23) -> 1 | AM21: =AVERAGE('091651'!V22:V23) -> 1 | AO21: =AVERAGE('091751'!V22:V23) -> 1 | AQ21: =AVERAGE('091851'!V22:V23) -> 1 | AS21: =AVERAGE('091952'!V22:V23) -> 1 | AU21: =AVERAGE('092051'!V22:V23) -> 1 | AW21: =AVERAGE('092151'!V22:V23,'092152'!V22:V23) -> 1 | AY21: =AVERAGE('092251'!V22:V23) -> 1 | BB21: =AVERAGE(I21,K21,M21,O21,Q21,S21,U21,W21,Y21,AA21,AC21,AE21,AG21,AI21,AK21,AM21,AO21,AQ21,AS21,AU21,AW21,AY21) -> 1
H22: Credenciales disponibles registradas en SIIRFE
A24: 6 | B24: Entrega de la Credencial para Votar. | C24: Operador de Equipo Tecnológico | D24: Efectividad de entrega de CPV en MAC. | E24: (Total de credenciales entregadas / Total de ciudadanas y ciudadanos que acuden al MAC a recoger su credencial) x 100 | F24: Semanal (remesa) | G24: 0.9 | H24: Total de credenciales entregadas | I24: =AVERAGE('090151'!V25:V26) -> 0.99988038 | K24: =AVERAGE('090251'!V25:V26) -> 0.99795244 | M24: =AVERAGE('090351'!V25:V26) -> 1 | O24: =AVERAGE('090451'!V25:V26) -> 0.99118522 | Q24: =AVERAGE('090551'!V25:V26) -> 0.99959004 | S24: =AVERAGE('090651'!V25:V26) -> 1 | U24: =AVERAGE('090751'!V25:V26) -> 0.99866844 | W24: =AVERAGE('090853'!V25:V26,'090852'!V25:V26) -> 0.99826401 | Y24: =AVERAGE('090951'!V25:V26) -> 0.99806133 | AA24: =AVERAGE('091051'!V25:V26) -> 0.99924949 | AC24: =AVERAGE('091151'!V25:V26) -> 0.99985214 | AE24: =AVERAGE('091251'!V25:V26,'091252'!V25:V26,'091253'!V25:V26) -> 0.99796809 | AG24: =AVERAGE('091351'!V25:V26) -> 0.99855254 | AI24: =AVERAGE('091451'!V25:V26) -> 1 | AK24: =AVERAGE('091551'!V25:V26,'091552'!V25:V26) -> 0.99964977 | AM24: =AVERAGE('091651'!V25:V26) -> 0.99825822 | AO24: =AVERAGE('091751'!V25:V26) -> 1 | AQ24: =AVERAGE('091851'!V25:V26) -> 0.99906878 | AS24: =AVERAGE('091952'!V25:V26) -> 0.99548562 | AU24: =AVERAGE('092051'!V25:V26) -> 1 | AW24: =AVERAGE('092151'!V25:V26,'092152'!V25:V26) -> 0.99917324 | AY24: =AVERAGE('092251'!V25:V26) -> 0.9953998 | BB24: =AVERAGE(I24,K24,M24,O24,Q24,S24,U24,W24,Y24,AA24,AC24,AE24,AG24,AI24,AK24,AM24,AO24,AQ24,AS24,AU24,AW24,AY24) -> 0.99846634
H25: Total de ciudadanos que acuden a MAC a recoger su credencial

Sheet 090151
A1: ='PANEL DE CONTROL DISTRITAL'!A1:Q1 -> INSTITUTO NACIONAL ELECTORAL SISTEMA DE GESTIÓN DE LA CALIDAD CIUDAD DE MÉXICO
D2: Distrito | E2: 1 | F2: Módulo | H2: 90151
A4: TABLERO DE CONTROL DE PROCESOS SUSTANTIVOS DEL SISTEMA DE GESTIÓN DE LA CALIDAD
A6: ='PANEL DE CONTROL DISTRITAL'!A6 -> Número | B6: ='PANEL DE CONTROL DISTRITAL'!B6 -> PROCESOS SUSTANTIVOS E INDICADORES | I6: SEMANA OPERATIVA | V6: % AVANCE REGISTRADO
B7: ='PANEL DE CONTROL DISTRITAL'!B7 -> DESCRIPCIÓN | E7: ='PANEL DE CONTROL DISTRITAL'!E7 -> MEDICIÓN | I7: CAMPAÑA ANUAL PERMANENTE 2024
B9: ='PANEL DE CONTROL DISTRITAL'!B8 -> Proceso | C9: ='PANEL DE CONTROL DISTRITAL'!C8 -> Dueño de Proceso | D9: ='PANEL DE CONTROL DISTRITAL'!D8 -> Indicador | E9: ='PANEL DE CONTROL DISTRITAL'!E8 -> Cálculo | F9: ='PANEL DE CONTROL DISTRITAL'!F8 -> Periodo | G9: ='PANEL DE CONTROL DISTRITAL'!G8 -> Estimado | H9: ='PANEL DE CONTROL DISTRITAL'!H8 -> Nominativo | I9: 2024-28 | J9: 2024-29 | K9: 2024-30 | L9: 2024-31 | M9: 2024-32 | N9: 2024-33 | O9: 2024-34 | P9: 2024-35 | Q9: 2024-36 | R9: 2024-37 | S9: 2024-38 | T9: 2024-39 | U9: 2024-40
A10: ='PANEL DE CONTROL DISTRITAL'!A9 -> 1 | B10: ='PANEL DE CONTROL DISTRITAL'!B9 -> Entrevista | C10: ='PANEL DE CONTROL DISTRITAL'!C9 -> Auxiliar de Atención Ciudadana | D10: ='PANEL DE CONTROL DISTRITAL'!D9 -> Fichas requisitadas correctamente. | E10: ='PANEL DE CONTROL DISTRITAL'!E9 -> (Fichas requisitadas correctamente / Fichas revisadas en la muestra del 10%) x 100 | F10: ='PANEL DE CONTROL DISTRITAL'!F9 -> Semanal (remesa) | G10: ='PANEL DE CONTROL DISTRITAL'!G9 -> 0.9 | H10: ='PANEL DE CONTROL DISTRITAL'!H9 -> Fichas requistadas correctamente | I10: 11 | J10: 90 | K10: 84 | L10: 82 | M10: 77 | N10: 78 | O10: 83 | P10: 79 | Q10: 80 | R10: 82 | S10: 82 | T10: 76 | U10: 79 | V10: =IFERROR(SUM(I10:U10)/SUM(I11:U11),0) -> 0.99192735
H11: ='PANEL DE CONTROL DISTRITAL'!H10 -> Fichas revisadas en la Muestra del 10% | I11: 11 | J11: 93 | K11: 85 | L11: 82 | M11: 78 | N11: 78 | O11: 83 | P11: 79 | Q11: 83 | R11: 82 | S11: 82 | T11: 76 | U11: 79
A13: ='PANEL DE CONTROL DISTRITAL'!A12 -> 2 | B13: ='PANEL DE CONTROL DISTRITAL'!B12 -> Trámite | C13: ='PANEL DE CONTROL DISTRITAL'!C12 -> Operador de Equipo Tecnológico | D13: ='PANEL DE CONTROL DISTRITAL'!D12 -> Trámites exitosos. | E13: ='PANEL DE CONTROL DISTRITAL'!E12 -> (Número de trámites exitosos / Número de trámites aplicados) x 100 | F13: ='PANEL DE CONTROL DISTRITAL'!F12 -> Semanal (remesa) | G13: ='PANEL DE CONTROL DISTRITAL'!G12 -> 0.9 | H13: ='PANEL DE CONTROL DISTRITAL'!H12 -> Número de trámites exitosos | I13: 104 | J13: 903 | K13: 833 | L13: 804 | M13: 772 | N13: 761 | O13: 811 | P13: 786 | Q13: 813 | R13: 804 | S13: 805 | T13: 748 | U13: 547 | V13: =IFERROR(SUM(I13:U13)/SUM(I14:U14),0) -> 0.97333607
H14: ='PANEL DE CONTROL DISTRITAL'!H13 -> Número de trámites aplicados | I14: 105 | J14: 906 | K14: 839 | L14: 808 | M14: 773 | N14: 762 | O14: 812 | P14: 790 | Q14: 815 | R14: 808 | S14: 806 | T14: 751 | U14: 776
A16: ='PANEL DE CONTROL DISTRITAL'!A15 -> 3 | B16: ='PANEL DE CONTROL DISTRITAL'!B15 -> Transferencia de la Información. | C16: ='PANEL DE CONTROL DISTRITAL'!C15 -> Responsable de Módulo | D16: ='PANEL DE CONTROL DISTRITAL'!D15 -> Reenvíos exitosos. | E16: ='PANEL DE CONTROL DISTRITAL'!E15 -> (Ejecución de los scripts de reenvío de notificaciones / Solicitud de reenvíos de scripts requeridos) x100 | F16: ='PANEL DE CONTROL DISTRITAL'!F15 -> Semanal (remesa) | G16: ='PANEL DE CONTROL DISTRITAL'!G15 -> 1 | H16: ='PANEL DE CONTROL DISTRITAL'!H15 -> Ejecución de los scripts de reenvío de notificaciones | I16: 0 | J16: 0 | K16: 0 | L16: 0 | M16: 0 | N16: 0 | O16: 0 | P16: 0 | Q16: 0 | R16: 0 | S16: 0 | T16: 0 | U16: 0 | V16: =IFERROR(SUM(I16:U16)/SUM(I17:U17),1) -> 1
H17: ='PANEL DE CONTROL DISTRITAL'!H16 -> Solicitud de reevíos de scripts requeridos | I17: 0 | J17: 0 | K17: 0 | L17: 0 | M17: 0 | N17: 0 | O17: 0 | P17: 0 | Q17: 0 | R17: 0 | S17: 0 | T17: 0 | U17: 0
A19: ='PANEL DE CONTROL DISTRITAL'!A18 -> 4 | B19: ='PANEL DE CONTROL DISTRITAL'!B18 -> Conciliación de Credenciales para Votar. | C19: ='PANEL DE CONTROL DISTRITAL'!C18 -> Responsable de Módulo | D19: ='PANEL DE CONTROL DISTRITAL'!D18 -> Credenciales disponibles para entrega. | E19: ='PANEL DE CONTROL DISTRITAL'!E18 -> [(Credenciales recibidas - Credenciales inconsistentes) / Credenciales recibidas] x 100 | F19: ='PANEL DE CONTROL DISTRITAL'!F18 -> Semanal (remesa) | G19: ='PANEL DE CONTROL DISTRITAL'!G18 -> 0.9 | H19: ='PANEL DE CONTROL DISTRITAL'!H18 -> Credenciales Recibidas - Credenciales inconsistentes | I19: 0 | J19: 488 | K19: 963 | L19: 808 | M19: 780 | N19: 788 | O19: 752 | P19: 826 | Q19: 636 | R19: 964 | S19: 809 | T19: 781 | U19: 771 | V19: =IFERROR(SUM(I19:U19)/SUM(I20:U20),0) -> 1
H20: ='PANEL DE CONTROL DISTRITAL'!H19 -> Credenciales recibidas | I20: 0 | J20: 488 | K20: 963 | L20: 808 | M20: 780 | N20: 788 | O20: 752 | P20: 826 | Q20: 636 | R20: 964 | S20: 809 | T20: 781 | U20: 771
A22: ='PANEL DE CONTROL DISTRITAL'!A21 -> 5 | B22: ='PANEL DE CONTROL DISTRITAL'!B21 -> Conciliación de Credenciales para Votar. | C22: ='PANEL DE CONTROL DISTRITAL'!C21 -> Responsable de Módulo | D22: ='PANEL DE CONTROL DISTRITAL'!D21 -> Arqueo de credenciales. | E22: ='PANEL DE CONTROL DISTRITAL'!E21 -> (Credenciales disponibles (físicas) / Credenciales disponibles registradas en SIIRFE-MAC) x 100 | F22: ='PANEL DE CONTROL DISTRITAL'!F21 -> Semanal (remesa) | G22: ='PANEL DE CONTROL DISTRITAL'!G21 -> 1 | H22: ='PANEL DE CONTROL DISTRITAL'!H21 -> Credenciales disponibles (físicas) | I22: 245 | J22: 706 | K22: 1142 | L22: 1184 | M22: 1135 | N22: 1230 | O22: 1201 | P22: 1228 | Q22: 1056 | R22: 1235 | S22: 1215 | T22: 1219 | U22: 1221 | V22: =IFERROR(SUM(I22:U22)/SUM(I23:U23),0) -> 1
H23: ='PANEL DE CONTROL DISTRITAL'!H22 -> Credenciales disponibles registradas en SIIRFE | I23: 245 | J23: 706 | K23: 1142 | L23: 1184 | M23: 1135 | N23: 1230 | O23: 1201 | P23: 1228 | Q23: 1056 | R23: 1235 | S23: 1215 | T23: 1219 | U23: 1221
A25: ='PANEL DE CONTROL DISTRITAL'!A24 -> 6 | B25: ='PANEL DE CONTROL DISTRITAL'!B24 -> Entrega de la Credencial para Votar. | C25: ='PANEL DE CONTROL DISTRITAL'!C24 -> Operador de Equipo Tecnológico | D25: ='PANEL DE CONTROL DISTRITAL'!D24 -> Efectividad de entrega de CPV en MAC. | E25: ='PANEL DE CONTROL DISTRITAL'!E24 -> (Total de credenciales entregadas / Total de ciudadanas y ciudadanos que acuden al MAC a recoger su credencial) x 100 | F25: ='PANEL DE CONTROL DISTRITAL'!F24 -> Semanal (remesa) | G25: ='PANEL DE CONTROL DISTRITAL'!G24 -> 0.9 | H25: ='PANEL DE CONTROL DISTRITAL'!H24 -> Total de credenciales entregadas | I25: 0 | J25: 27 | K25: 527 | L25: 766 | M25: 805 | N25: 693 | O25: 781 | P25: 799 | Q25: 808 | R25: 778 | S25: 829 | T25: 777 | U25: 769 | V25: =IFERROR(SUM(I25:U25)/SUM(I26:U26),0) -> 0.99988038
H26: ='PANEL DE CONTROL DISTRITAL'!H25 -> Total de ciudadanos que acuden a MAC a recoger su credencial | I26: 0 | J26: 27 | K26: 527 | L26: 766 | M26: 806 | N26: 693 | O26: 781 | P26: 799 | Q26: 808 | R26: 778 | S26: 829 | T26: 777 | U26: 769
B27: *Registre el valor nominal solicitado en la celda, el resultado proporcional esta automatizado.
B34: CUADRO DE OBSERVACIONES
B35: Descripción | H35: No conformidad

Sheet 090251
A1: ='PANEL DE CONTROL DISTRITAL'!A1:Q1 -> INSTITUTO NACIONAL ELECTORAL SISTEMA DE GESTIÓN DE LA CALIDAD CIUDAD DE MÉXICO
D2: Distrito | E2: 2 | F2: Módulo | H2: 90251
A4: TABLERO DE CONTROL DE PROCESOS SUSTANTIVOS DEL SISTEMA DE GESTIÓN DE LA CALIDAD
A6: ='PANEL DE CONTROL DISTRITAL'!A6 -> Número | B6: ='PANEL DE CONTROL DISTRITAL'!B6 -> PROCESOS SUSTANTIVOS E INDICADORES | I6: SEMANA OPERATIVA | V6: % AVANCE REGISTRADO
B7: ='PANEL DE CONTROL DISTRITAL'!B7 -> DESCRIPCIÓN | E7: ='PANEL DE CONTROL DISTRITAL'!E7 -> MEDICIÓN | I7: CAMPAÑA ANUAL PERMANENTE 2024
B9: ='PANEL DE CONTROL DISTRITAL'!B8 -> Proceso | C9: ='PANEL DE CONTROL DISTRITAL'!C8 -> Dueño de Proceso | D9: ='PANEL DE CONTROL DISTRITAL'!D8 -> Indicador | E9: ='PANEL DE CONTROL DISTRITAL'!E8 -> Cálculo | F9: ='PANEL DE CONTROL DISTRITAL'!F8 -> Periodo | G9: ='PANEL DE CONTROL DISTRITAL'!G8 -> Estimado | H9: ='PANEL DE CONTROL DISTRITAL'!H8 -> Nominativo | I9: ='090151'!I9 -> 2024-28 | J9: ='090151'!J9 -> 2024-29 | K9: ='090151'!K9 -> 2024-30 | L9: ='090151'!L9 -> 2024-31 | M9: ='090151'!M9 -> 2024-32 | N9: ='090151'!N9 -> 2024-33 | O9: ='090151'!O9 -> 2024-34 | P9: ='090151'!P9 -> 2024-35 | ... U9: ='090151'!U9 -> 2024-40
A10: ='PANEL DE CONTROL DISTRITAL'!A9 -> 1 | B10: ='PANEL DE CONTROL DISTRITAL'!B9 -> Entrevista | C10: ='PANEL DE CONTROL DISTRITAL'!C9 -> Auxiliar de Atención Ciudadana | D10: ='PANEL DE CONTROL DISTRITAL'!D9 -> Fichas requisitadas correctamente. | E10: ='PANEL DE CONTROL DISTRITAL'!E9 -> (Fichas requisitadas correctamente / Fichas revisadas en la muestra del 10%) x 100 | F10: ='PANEL DE CONTROL DISTRITAL'!F9 -> Semanal (remesa) | G10: ='PANEL DE CONTROL DISTRITAL'!G9 -> 0.9 | H10: ='PANEL DE CONTROL DISTRITAL'!H9 -> Fichas requistadas correctamente | I10: 30 | J10: 231 | K10: 196 | L10: 200 | M10: 208 | N10: 201 | O10: 205 | P10: 208 | Q10: 201 | R10: 208 | S10: 197 | T10: 200 | U10: 188 | V10: =IFERROR(SUM(I10:U10)/SUM(I11:U11),0) -> 0.97901821
H11: ='PANEL DE CONTROL DISTRITAL'!H10 -> Fichas revisadas en la Muestra del 10% | I11: 30 | J11: 240 | K11: 215 | L11: 200 | M11: 210 | N11: 205 | O11: 207 | P11: 209 | Q11: 208 | R11: 210 | S11: 200 | T11: 202 | U11: 190
A13: ='PANEL DE CONTROL DISTRITAL'!A12 -> 2 | B13: ='PANEL DE CONTROL DISTRITAL'!B12 -> Trámite | C13: ='PANEL DE CONTROL DISTRITAL'!C12 -> Operador de Equipo Tecnológico | D13: ='PANEL DE CONTROL DISTRITAL'!D12 -> Trámites exitosos. | E13: ='PANEL DE CONTROL DISTRITAL'!E12 -> (Número de trámites exitosos / Número de trámites aplicados) x 100 | F13: ='PANEL DE CONTROL DISTRITAL'!F12 -> Semanal (remesa) | G13: ='PANEL DE CONTROL DISTRITAL'!G12 -> 0.9 | H13: ='PANEL DE CONTROL DISTRITAL'!H12 -> Número de trámites exitosos | I13: 303 | J13: 2363 | K13: 2126 | L13: 1994 | M13: 2089 | N13: 2041 | O13: 2059 | P13: 2082 | Q13: 2069 | R13: 2083 | S13: 1980 | T13: 1999 | U13: 1882 | V13: =IFERROR(SUM(I13:U13)/SUM(I14:U14),0) -> 0.99531523
H14: ='PANEL DE CONTROL DISTRITAL'!H13 -> Número de trámites aplicados | I14: 303 | J14: 2373 | K14: 2133 | L14: 1999 | M14: 2101 | N14: 2053 | O14: 2065 | P14: 2085 | Q14: 2074 | R14: 2094 | S14: 1994 | T14: 2014 | U14: 1900
A16: ='PANEL DE CONTROL DISTRITAL'!A15 -> 3 | B16: ='PANEL DE CONTROL DISTRITAL'!B15 -> Transferencia de la Información. | C16: ='PANEL DE CONTROL DISTRITAL'!C15 -> Responsable de Módulo | D16: ='PANEL DE CONTROL DISTRITAL'!D15 -> Reenvíos exitosos. | E16: ='PANEL DE CONTROL DISTRITAL'!E15 -> (Ejecución de los scripts de reenvío de notificaciones / Solicitud de reenvíos de scripts requeridos) x100 | F16: ='PANEL DE CONTROL DISTRITAL'!F15 -> Semanal (remesa) | G16: ='PANEL DE CONTROL DISTRITAL'!G15 -> 1 | H16: ='PANEL DE CONTROL DISTRITAL'!H15 -> Ejecución de los scripts de reenvío de notificaciones | I16: 0 | J16: 0 | K16: 0 | L16: 0 | M16: 0 | N16: 0 | O16: 0 | P16: 0 | Q16: 0 | R16: 0 | S16: 0 | T16: 0 | U16: 0 | V16: =IFERROR(SUM(I16:U16)/SUM(I17:U17),1) -> 1
H17: ='PANEL DE CONTROL DISTRITAL'!H16 -> Solicitud de reevíos de scripts requeridos | I17: 0 | J17: 0 | K17: 0 | L17: 0 | M17: 0 | N17: 0 | O17: 0 | P17: 0 | Q17: 0 | R17: 0 | S17: 0 | T17: 0 | U17: 0
A19: ='PANEL DE CONTROL DISTRITAL'!A18 -> 4 | B19: ='PANEL DE CONTROL DISTRITAL'!B18 -> Conciliación de Credenciales para Votar. | C19: ='PANEL DE CONTROL DISTRITAL'!C18 -> Responsable de Módulo | D19: ='PANEL DE CONTROL DISTRITAL'!D18 -> Credenciales disponibles para entrega. | E19: ='PANEL DE CONTROL DISTRITAL'!E18 -> [(Credenciales recibidas - Credenciales inconsistentes) / Credenciales recibidas] x 100 | F19: ='PANEL DE CONTROL DISTRITAL'!F18 -> Semanal (remesa) | G19: ='PANEL DE CONTROL DISTRITAL'!G18 -> 0.9 | H19: ='PANEL DE CONTROL DISTRITAL'!H18 -> Credenciales Recibidas - Credenciales inconsistentes | I19: 300 | J19: 1330 | K19: 2190 | L19: 2044 | M19: 2033 | N19: 2066 | O19: 2067 | P19: 2088 | Q19: 1678 | R19: 2463 | S19: 1999 | T19: 2020 | U19: 1939 | V19: =IFERROR(SUM(I19:U19)/SUM(I20:U20),0) -> 1
H20: ='PANEL DE CONTROL DISTRITAL'!H19 -> Credenciales recibidas | I20: 300 | J20: 1330 | K20: 2190 | L20: 2044 | M20: 2033 | N20: 2066 | O20: 2067 | P20: 2088 | Q20: 1678 | R20: 2463 | S20: 1999 | T20: 2020 | U20: 1939
A22: ='PANEL DE CONTROL DISTRITAL'!A21 -> 5 | B22: ='PANEL DE CONTROL DISTRITAL'!B21 -> Conciliación de Credenciales para Votar. | C22: ='PANEL DE CONTROL DISTRITAL'!C21 -> Responsable de Módulo | D22: ='PANEL DE CONTROL DISTRITAL'!D21 -> Arqueo de credenciales. | E22: ='PANEL DE CONTROL DISTRITAL'!E21 -> (Credenciales disponibles (físicas) / Credenciales disponibles registradas en SIIRFE-MAC) x 100 | F22: ='PANEL DE CONTROL DISTRITAL'!F21 -> Semanal (remesa) | G22: ='PANEL DE CONTROL DISTRITAL'!G21 -> 1 | H22: ='PANEL DE CONTROL DISTRITAL'!H21 -> Credenciales disponibles (físicas) | I22: 1126 | J22: 2134 | K22: 3130 | L22: 3273 | M22: 3341 | N22: 3435 | O22: 3506 | P22: 3613 | Q22: 3287 | R22: 3671 | S22: 3647 | T22: 3533 | U22: 3516 | V22: =IFERROR(SUM(I22:U22)/SUM(I23:U23),0) -> 1
H23: ='PANEL DE CONTROL DISTRITAL'!H22 -> Credenciales disponibles registradas en SIIRFE | I23: 1126 | J23: 2134 | K23: 3130 | L23: 3273 | M23: 3341 | N23: 3435 | O23: 3506 | P23: 3613 | Q23: 3287 | R23: 3671 | S23: 3647 | T23: 3533 | U23: 3516
A25: ='PANEL DE CONTROL DISTRITAL'!A24 -> 6 | B25: ='PANEL DE CONTROL DISTRITAL'!B24 -> Entrega de la Credencial para Votar. | C25: ='PANEL DE CONTROL DISTRITAL'!C24 -> Operador de Equipo Tecnológico | D25: ='PANEL DE CONTROL DISTRITAL'!D24 -> Efectividad de entrega de CPV en MAC. | E25: ='PANEL DE CONTROL DISTRITAL'!E24 -> (Total de credenciales entregadas / Total de ciudadanas y ciudadanos que acuden al MAC a recoger su credencial) x 100 | F25: ='PANEL DE CONTROL DISTRITAL'!F24 -> Semanal (remesa) | G25: ='PANEL DE CONTROL DISTRITAL'!G24 -> 0.9 | H25: ='PANEL DE CONTROL DISTRITAL'!H24 -> Total de credenciales entregadas | I25: 7 | J25: 322 | K25: 1194 | L25: 1901 | M25: 1907 | N25: 1969 | O25: 1996 | P25: 1981 | Q25: 2004 | R25: 2051 | S25: 2023 | T25: 2134 | U25: 1956 | V25: =IFERROR(SUM(I25:U25)/SUM(I26:U26),0) -> 0.99795244
H26: ='PANEL DE CONTROL DISTRITAL'!H25 -> Total de ciudadanos que acuden a MAC a recoger su credencial | I26: 7 | J26: 325 | K26: 1196 | L26: 1906 | M26: 1913 | N26: 1975 | O26: 2000 | P26: 1988 | Q26: 2005 | R26: 2052 | S26: 2026 | T26: 2137 | U26: 1959
B27: *Registre el valor nominal solicitado en la celda, el resultado proporcional esta automatizado.
B34: CUADRO DE OBSERVACIONES
B35: Descripción | H35: No conformidad

Sheet 090351
A1: ='PANEL DE CONTROL DISTRITAL'!A1:Q1 -> INSTITUTO NACIONAL ELECTORAL SISTEMA DE GESTIÓN DE LA CALIDAD CIUDAD DE MÉXICO
D2: Distrito | E2: 3 | F2: Módulo | H2: 90351
A4: TABLERO DE CONTROL DE PROCESOS SUSTANTIVOS DEL SISTEMA DE GESTIÓN DE LA CALIDAD
A6: ='PANEL DE CONTROL DISTRITAL'!A6 -> Número | B6: ='PANEL DE CONTROL DISTRITAL'!B6 -> PROCESOS SUSTANTIVOS E INDICADORES | I6: SEMANA OPERATIVA | V6: % AVANCE REGISTRADO
B7: ='PANEL DE CONTROL DISTRITAL'!B7 -> DESCRIPCIÓN | E7: ='PANEL DE CONTROL DISTRITAL'!E7 -> MEDICIÓN | I7: CAMPAÑA ANUAL PERMANENTE 2024
B9: ='PANEL DE CONTROL DISTRITAL'!B8 -> Proceso | C9: ='PANEL DE CONTROL DISTRITAL'!C8 -> Dueño de Proceso | D9: ='PANEL DE CONTROL DISTRITAL'!D8 -> Indicador | E9: ='PANEL DE CONTROL DISTRITAL'!E8 -> Cálculo | F9: ='PANEL DE CONTROL DISTRITAL'!F8 -> Periodo | G9: ='PANEL DE CONTROL DISTRITAL'!G8 -> Estimado | H9: ='PANEL DE CONTROL DISTRITAL'!H8 -> Nominativo | I9: ='090151'!I9 -> 2024-28 | J9: ='090151'!J9 -> 2024-29 | K9: ='090151'!K9 -> 2024-30 | L9: ='090151'!L9 -> 2024-31 | M9: ='090151'!M9 -> 2024-32 | N9: ='090151'!N9 -> 2024-33 | O9: ='090151'!O9 -> 2024-34 | P9: ='090151'!P9 -> 2024-35 | ... U9: ='090151'!U9 -> 2024-40
A10: ='PANEL DE CONTROL DISTRITAL'!A9 -> 1 | B10: ='PANEL DE CONTROL DISTRITAL'!B9 -> Entrevista | C10: ='PANEL DE CONTROL DISTRITAL'!C9 -> Auxiliar de Atención Ciudadana | D10: ='PANEL DE CONTROL DISTRITAL'!D9 -> Fichas requisitadas correctamente. | E10: ='PANEL DE CONTROL DISTRITAL'!E9 -> (Fichas requisitadas correctamente / Fichas revisadas en la muestra del 10%) x 100 | F10: ='PANEL DE CONTROL DISTRITAL'!F9 -> Semanal (remesa) | G10: ='PANEL DE CONTROL DISTRITAL'!G9 -> 0.9 | H10: ='PANEL DE CONTROL DISTRITAL'!H9 -> Fichas requistadas correctamente | I10: 60 | J10: 132 | K10: 128 | L10: 125 | M10: 127 | N10: 123 | O10: 125 | P10: 129 | Q10: 121 | R10: 125 | S10: 129 | T10: 128 | U10: 123 | V10: =IFERROR(SUM(I10:U10)/SUM(I11:U11),0) -> 1
H11: ='PANEL DE CONTROL DISTRITAL'!H10 -> Fichas revisadas en la Muestra del 10% | I11: 60 | J11: 132 | K11: 128 | L11: 125 | M11: 127 | N11: 123 | O11: 125 | P11: 129 | Q11: 121 | R11: 125 | S11: 129 | T11: 128 | U11: 123
A13: ='PANEL DE CONTROL DISTRITAL'!A12 -> 2 | B13: ='PANEL DE CONTROL DISTRITAL'!B12 -> Trámite | C13: ='PANEL DE CONTROL DISTRITAL'!C12 -> Operador de Equipo Tecnológico | D13: ='PANEL DE CONTROL DISTRITAL'!D12 -> Trámites exitosos. | E13: ='PANEL DE CONTROL DISTRITAL'!E12 -> (Número de trámites exitosos / Número de trámites aplicados) x 100 | F13: ='PANEL DE CONTROL DISTRITAL'!F12 -> Semanal (remesa) | G13: ='PANEL DE CONTROL DISTRITAL'!G12 -> 0.9 | H13: ='PANEL DE CONTROL DISTRITAL'!H12 -> Número de trámites exitosos | I13: 575 | J13: 1260 | K13: 1236 | L13: 1214 | M13: 1212 | N13: 1181 | O13: 1210 | P13: 1240 | Q13: 1169 | R13: 1210 | S13: 1261 | T13: 1247 | U13: 1185 | V13: =IFERROR(SUM(I13:U13)/SUM(I14:U14),0) -> 0.99613343
H14: ='PANEL DE CONTROL DISTRITAL'!H13 -> Número de trámites aplicados | I14: 578 | J14: 1262 | K14: 1241 | L14: 1218 | M14: 1219 | N14: 1186 | O14: 1215 | P14: 1243 | Q14: 1174 | R14: 1214 | S14: 1268 | T14: 1251 | U14: 1190
A16: ='PANEL DE CONTROL DISTRITAL'!A15 -> 3 | B16: ='PANEL DE CONTROL DISTRITAL'!B15 -> Transferencia de la Información. | C16: ='PANEL DE CONTROL DISTRITAL'!C15 -> Responsable de Módulo | D16: ='PANEL DE CONTROL DISTRITAL'!D15 -> Reenvíos exitosos. | E16: ='PANEL DE CONTROL DISTRITAL'!E15 -> (Ejecución de los scripts de reenvío de notificaciones / Solicitud de reenvíos de scripts requeridos) x100 | F16: ='PANEL DE CONTROL DISTRITAL'!F15 -> Semanal (remesa) | G16: ='PANEL DE CONTROL DISTRITAL'!G15 -> 1 | H16: ='PANEL DE CONTROL DISTRITAL'!H15 -> Ejecución de los scripts de reenvío de notificaciones | I16: 0 | J16: 1 | K16: 0 | L16: 0 | M16: 0 | N16: 0 | O16: 0 | P16: 0 | Q16: 0 | R16: 0 | S16: 0 | T16: 1 | U16: 0 | V16: =IFERROR(SUM(I16:U16)/SUM(I17:U17),1) -> 1
H17: ='PANEL DE CONTROL DISTRITAL'!H16 -> Solicitud de reevíos de scripts requeridos | I17: 0 | J17: 1 | K17: 0 | L17: 0 | M17: 0 | N17: 0 | O17: 0 | P17: 0 | Q17: 0 | R17: 0 | S17: 0 | T17: 1 | U17: 0
A19: ='PANEL DE CONTROL DISTRITAL'!A18 -> 4 | B19: ='PANEL DE CONTROL DISTRITAL'!B18 -> Conciliación de Credenciales para Votar. | C19: ='PANEL DE CONTROL DISTRITAL'!C18 -> Responsable de Módulo | D19: ='PANEL DE CONTROL DISTRITAL'!D18 -> Credenciales disponibles para entrega. | E19: ='PANEL DE CONTROL DISTRITAL'!E18 -> [(Credenciales recibidas - Credenciales inconsistentes) / Credenciales recibidas] x 100 | F19: ='PANEL DE CONTROL DISTRITAL'!F18 -> Semanal (remesa) | G19: ='PANEL DE CONTROL DISTRITAL'!G18 -> 0.9 | H19: ='PANEL DE CONTROL DISTRITAL'!H18 -> Credenciales Recibidas - Credenciales inconsistentes | I19: 308 | J19: 973 | K19: 1210 | L19: 1228 | M19: 1195 | N19: 1236 | O19: 1187 | P19: 1216 | Q19: 996 | R19: 1380 | S19: 1280 | T19: 1213 | U19: 1240 | V19: =IFERROR(SUM(I19:U19)/SUM(I20:U20),0) -> 0.99986361
H20: ='PANEL DE CONTROL DISTRITAL'!H19 -> Credenciales recibidas | I20: 308 | J20: 973 | K20: 1210 | L20: 1228 | M20: 1195 | N20: 1236 | O20: 1187 | P20: 1216 | Q20: 996 | R20: 1381 | S20: 1280 | T20: 1213 | U20: 1241
A22: ='PANEL DE CONTROL DISTRITAL'!A21 -> 5 | B22: ='PANEL DE CONTROL DISTRITAL'!B21 -> Conciliación de Credenciales para Votar. | C22: ='PANEL DE CONTROL DISTRITAL'!C21 -> Responsable de Módulo | D22: ='PANEL DE CONTROL DISTRITAL'!D21 -> Arqueo de credenciales. | E22: ='PANEL DE CONTROL DISTRITAL'!E21 -> (Credenciales disponibles (físicas) / Credenciales disponibles registradas en SIIRFE-MAC) x 100 | F22: ='PANEL DE CONTROL DISTRITAL'!F21 -> Semanal (remesa) | G22: ='PANEL DE CONTROL DISTRITAL'!G21 -> 1 | H22: ='PANEL DE CONTROL DISTRITAL'!H21 -> Credenciales disponibles (físicas) | I22: 802 | J22: 1528 | K22: 1897 | L22: 1966 | M22: 1983 | N22: 2045 | O22: 2067 | P22: 2189 | Q22: 1989 | R22: 2152 | S22: 2232 | T22: 2228 | U22: 2297 | V22: =IFERROR(SUM(I22:U22)/SUM(I23:U23),0) -> 1
H23: ='PANEL DE CONTROL DISTRITAL'!H22 -> Credenciales disponibles registradas en SIIRFE | I23: 802 | J23: 1528 | K23: 1897 | L23: 1966 | M23: 1983 | N23: 2045 | O23: 2067 | P23: 2189 | Q23: 1989 | R23: 2152 | S23: 2232 | T23: 2228 | U23: 2297
A25: ='PANEL DE CONTROL DISTRITAL'!A24 -> 6 | B25: ='PANEL DE CONTROL DISTRITAL'!B24 -> Entrega de la Credencial para Votar. | C25: ='PANEL DE CONTROL DISTRITAL'!C24 -> Operador de Equipo Tecnológico | D25: ='PANEL DE CONTROL DISTRITAL'!D24 -> Efectividad de entrega de CPV en MAC. | E25: ='PANEL DE CONTROL DISTRITAL'!E24 -> (Total de credenciales entregadas / Total de ciudadanas y ciudadanos que acuden al MAC a recoger su credencial) x 100 | F25: ='PANEL DE CONTROL DISTRITAL'!F24 -> Semanal (remesa) | G25: ='PANEL DE CONTROL DISTRITAL'!G24 -> 0.9 | H25: ='PANEL DE CONTROL DISTRITAL'!H24 -> Total de credenciales entregadas | I25: 25 | J25: 247 | K25: 841 | L25: 1159 | M25: 1125 | N25: 1174 | O25: 1165 | P25: 1094 | Q25: 1196 | R25: 1201 | S25: 1200 | T25: 1217 | U25: 1171 | V25: =IFERROR(SUM(I25:U25)/SUM(I26:U26),0) -> 1
H26: ='PANEL DE CONTROL DISTRITAL'!H25 -> Total de ciudadanos que acuden a MAC a recoger su credencial | I26: 25 | J26: 247 | K26: 841 | L26: 1159 | M26: 1125 | N26: 1174 | O26: 1165 | P26: 1094 | Q26: 1196 | R26: 1201 | S26: 1200 | T26: 1217 | U26: 1171
B27: *Registre el valor nominal solicitado en la celda, el resultado proporcional esta automatizado.
B34: CUADRO DE OBSERVACIONES
B35: Descripción | H35: No conformidad

Sheet 090451
A1: ='PANEL DE CONTROL DISTRITAL'!A1:Q1 -> INSTITUTO NACIONAL ELECTORAL SISTEMA DE GESTIÓN DE LA CALIDAD CIUDAD DE MÉXICO
D2: Distrito | E2: 4 | F2: Módulo | H2: 90451
A4: TABLERO DE CONTROL DE PROCESOS SUSTANTIVOS DEL SISTEMA DE GESTIÓN DE LA CALIDAD
A6: ='PANEL DE CONTROL DISTRITAL'!A6 -> Número | B6: ='PANEL DE CONTROL DISTRITAL'!B6 -> PROCESOS SUSTANTIVOS E INDICADORES | I6: SEMANA OPERATIVA | V6: % AVANCE REGISTRADO
B7: ='PANEL DE CONTROL DISTRITAL'!B7 -> DESCRIPCIÓN | E7: ='PANEL DE CONTROL DISTRITAL'!E7 -> MEDICIÓN | I7: CAMPAÑA ANUAL PERMANENTE 2024
B9: ='PANEL DE CONTROL DISTRITAL'!B8 -> Proceso | C9: ='PANEL DE CONTROL DISTRITAL'!C8 -> Dueño de Proceso | D9: ='PANEL DE CONTROL DISTRITAL'!D8 -> Indicador | E9: ='PANEL DE CONTROL DISTRITAL'!E8 -> Cálculo | F9: ='PANEL DE CONTROL DISTRITAL'!F8 -> Periodo | G9: ='PANEL DE CONTROL DISTRITAL'!G8 -> Estimado | H9: ='PANEL DE CONTROL DISTRITAL'!H8 -> Nominativo | I9: ='090151'!I9 -> 2024-28 | J9: ='090151'!J9 -> 2024-29 | K9: ='090151'!K9 -> 2024-30 | L9: ='090151'!L9 -> 2024-31 | M9: ='090151'!M9 -> 2024-32 | N9: ='090151'!N9 -> 2024-33 | O9: ='090151'!O9 -> 2024-34 | P9: ='090151'!P9 -> 2024-35 | ... U9: ='090151'!U9 -> 2024-40
A10: ='PANEL DE CONTROL DISTRITAL'!A9 -> 1 | B10: ='PANEL DE CONTROL DISTRITAL'!B9 -> Entrevista | C10: ='PANEL DE CONTROL DISTRITAL'!C9 -> Auxiliar de Atención Ciudadana | D10: ='PANEL DE CONTROL DISTRITAL'!D9 -> Fichas requisitadas correctamente. | E10: ='PANEL DE CONTROL DISTRITAL'!E9 -> (Fichas requisitadas correctamente / Fichas revisadas en la muestra del 10%) x 100 | F10: ='PANEL DE CONTROL DISTRITAL'!F9 -> Semanal (remesa) | G10: ='PANEL DE CONTROL DISTRITAL'!G9 -> 0.9 | H10: ='PANEL DE CONTROL DISTRITAL'!H9 -> Fichas requistadas correctamente | I10: 81 | J10: 178 | K10: 181 | L10: 169 | M10: 163 | N10: 164 | O10: 136 | P10: 120 | Q10: 193 | R10: 173 | S10: 173 | T10: 173 | U10: 170 | V10: =IFERROR(SUM(I10:U10)/SUM(I11:U11),0) -> 1
H11: ='PANEL DE CONTROL DISTRITAL'!H10 -> Fichas revisadas en la Muestra del 10% | I11: 81 | J11: 178 | K11: 181 | L11: 169 | M11: 163 | N11: 164 | O11: 136 | P11: 120 | Q11: 193 | R11: 173 | S11: 173 | T11: 173 | U11: 170
A13: ='PANEL DE CONTROL DISTRITAL'!A12 -> 2 | B13: ='PANEL DE CONTROL DISTRITAL'!B12 -> Trámite | C13: ='PANEL DE CONTROL DISTRITAL'!C12 -> Operador de Equipo Tecnológico | D13: ='PANEL DE CONTROL DISTRITAL'!D12 -> Trámites exitosos. | E13: ='PANEL DE CONTROL DISTRITAL'!E12 -> (Número de trámites exitosos / Número de trámites aplicados) x 100 | F13: ='PANEL DE CONTROL DISTRITAL'!F12 -> Semanal (remesa) | G13: ='PANEL DE CONTROL DISTRITAL'!G12 -> 0.9 | H13: ='PANEL DE CONTROL DISTRITAL'!H12 -> Número de trámites exitosos | I13: 803 | J13: 1781 | K13: 1811 | L13: 1687 | M13: 1630 | N13: 1634 | O13: 1362 | P13: 1202 | Q13: 1929 | R13: 1723 | S13: 1719 | T13: 1739 | U13: 1701 | V13: =IFERROR(SUM(I13:U13)/SUM(I14:U14),0) -> 0.99634563
H14: ='PANEL DE CONTROL DISTRITAL'!H13 -> Número de trámites aplicados | I14: 805 | J14: 1785 | K14: 1815 | L14: 1697 | M14: 1637 | N14: 1642 | O14: 1368 | P14: 1209 | Q14: 1936 | R14: 1732 | S14: 1731 | T14: 1739 | U14: 1701
A16: ='PANEL DE CONTROL DISTRITAL'!A15 -> 3 | B16: ='PANEL DE CONTROL DISTRITAL'!B15 -> Transferencia de la Información. | C16: ='PANEL DE CONTROL DISTRITAL'!C15 -> Responsable de Módulo | D16: ='PANEL DE CONTROL DISTRITAL'!D15 -> Reenvíos exitosos. | E16: ='PANEL DE CONTROL DISTRITAL'!E15 -> (Ejecución de los scripts de reenvío de notificaciones / Solicitud de reenvíos de scripts requeridos) x100 | F16: ='PANEL DE CONTROL DISTRITAL'!F15 -> Semanal (remesa) | G16: ='PANEL DE CONTROL DISTRITAL'!G15 -> 1 | H16: ='PANEL DE CONTROL DISTRITAL'!H15 -> Ejecución de los scripts de reenvío de notificaciones | I16: 1 | J16: 0 | K16: 0 | L16: 0 | M16: 1 | N16: 1 | O16: 1 | P16: 1 | Q16: 1 | R16: 1 | S16: 1 | T16: 1 | U16: 0 | V16: =IFERROR(SUM(I16:U16)/SUM(I17:U17),1) -> 1
H17: ='PANEL DE CONTROL DISTRITAL'!H16 -> Solicitud de reevíos de scripts requeridos | I17: 1 | J17: 0 | K17: 0 | L17: 0 | M17: 1 | N17: 1 | O17: 1 | P17: 1 | Q17: 1 | R17: 1 | S17: 1 | T17: 1 | U17: 0
A19: ='PANEL DE CONTROL DISTRITAL'!A18 -> 4 | B19: ='PANEL DE CONTROL DISTRITAL'!B18 -> Conciliación de Credenciales para Votar. | C19: ='PANEL DE CONTROL DISTRITAL'!C18 -> Responsable de Módulo | D19: ='PANEL DE CONTROL DISTRITAL'!D18 -> Credenciales disponibles para entrega. | E19: ='PANEL DE CONTROL DISTRITAL'!E18 -> [(Credenciales recibidas - Credenciales inconsistentes) / Credenciales recibidas] x 100 | F19: ='PANEL DE CONTROL DISTRITAL'!F18 -> Semanal (remesa) | G19: ='PANEL DE CONTROL DISTRITAL'!G18 -> 0.9 | H19: ='PANEL DE CONTROL DISTRITAL'!H18 -> Credenciales Recibidas - Credenciales inconsistentes | I19: 492 | J19: 1227 | K19: 1856 | L19: 1714 | M19: 1639 | N19: 1694 | O19: 1389 | P19: 1299 | Q19: 1294 | R19: 2151 | S19: 1754 | T19: 1719 | U19: 1685 | V19: =IFERROR(SUM(I19:U19)/SUM(I20:U20),0) -> 1
H20: ='PANEL DE CONTROL DISTRITAL'!H19 -> Credenciales recibidas | I20: 492 | J20: 1227 | K20: 1856 | L20: 1714 | M20: 1639 | N20: 1694 | O20: 1389 | P20: 1299 | Q20: 1294 | R20: 2151 | S20: 1754 | T20: 1719 | U20: 1685
A22: ='PANEL DE CONTROL DISTRITAL'!A21 -> 5 | B22: ='PANEL DE CONTROL DISTRITAL'!B21 -> Conciliación de Credenciales para Votar. | C22: ='PANEL DE CONTROL DISTRITAL'!C21 -> Responsable de Módulo | D22: ='PANEL DE CONTROL DISTRITAL'!D21 -> Arqueo de credenciales. | E22: ='PANEL DE CONTROL DISTRITAL'!E21 -> (Credenciales disponibles (físicas) / Credenciales disponibles registradas en SIIRFE-MAC) x 100 | F22: ='PANEL DE CONTROL DISTRITAL'!F21 -> Semanal (remesa) | G22: ='PANEL DE CONTROL DISTRITAL'!G21 -> 1 | H22: ='PANEL DE CONTROL DISTRITAL'!H21 -> Credenciales disponibles (físicas) | I22: 1048 | J22: 1755 | K22: 2469 | L22: 2519 | M22: 2503 | N22: 2554 | O22: 2382 | P22: 2248 | Q22: 2207 | R22: 2778 | S22: 2815 | T22: 2750 | U22: 2789 | V22: =IFERROR(SUM(I22:U22)/SUM(I23:U23),0) -> 1
H23: ='PANEL DE CONTROL DISTRITAL'!H22 -> Credenciales disponibles registradas en SIIRFE | I23: 1048 | J23: 1755 | K23: 2469 | L23: 2519 | M23: 2503 | N23: 2554 | O23: 2382 | P23: 2248 | Q23: 2207 | R23: 2778 | S23: 2815 | T23: 2750 | U23: 2789
A25: ='PANEL DE CONTROL DISTRITAL'!A24 -> 6 | B25: ='PANEL DE CONTROL DISTRITAL'!B24 -> Entrega de la Credencial para Votar. | C25: ='PANEL DE CONTROL DISTRITAL'!C24 -> Operador de Equipo Tecnológico | D25: ='PANEL DE CONTROL DISTRITAL'!D24 -> Efectividad de entrega de CPV en MAC. | E25: ='PANEL DE CONTROL DISTRITAL'!E24 -> (Total de credenciales entregadas / Total de ciudadanas y ciudadanos que acuden al MAC a recoger su credencial) x 100 | F25: ='PANEL DE CONTROL DISTRITAL'!F24 -> Semanal (remesa) | G25: ='PANEL DE CONTROL DISTRITAL'!G24 -> 0.9 | H25: ='PANEL DE CONTROL DISTRITAL'!H24 -> Total de credenciales entregadas | I25: 38 | J25: 520 | K25: 1142 | L25: 1663 | M25: 1610 | N25: 1643 | O25: 1561 | P25: 1433 | Q25: 1335 | R25: 1563 | S25: 1717 | T25: 1784 | U25: 1645 | V25: =IFERROR(SUM(I25:U25)/SUM(I26:U26),0) -> 0.99118522
H26: ='PANEL DE CONTROL DISTRITAL'!H25 -> Total de ciudadanos que acuden a MAC a recoger su credencial | I26: 38 | J26: 530 | K26: 1150 | L26: 1668 | M26: 1635 | N26: 1645 | O26: 1578 | P26: 1456 | Q26: 1348 | R26: 1575 | S26: 1759 | T26: 1784 | U26: 1645
B27: *Registre el valor nominal solicitado en la celda, el resultado proporcional esta automatizado.
B34: CUADRO DE OBSERVACIONES
B35: Descripción | H35: No conformidad
B36: El Folio 2409045110040, No cuenta con proceso de digitalizacion No esta completo por lo que no se pudo enviar (Fecha de Ejecucion 10-04-2024) se levanto Caso CAU REQ000001568233.(10-04-2024).

Sheet 090551
A1: ='PANEL DE CONTROL DISTRITAL'!A1:Q1 -> INSTITUTO NACIONAL ELECTORAL SISTEMA DE GESTIÓN DE LA CALIDAD CIUDAD DE MÉXICO
D2: Distrito | E2: 5 | F2: Módulo | H2: 90551
A4: TABLERO DE CONTROL DE PROCESOS SUSTANTIVOS DEL SISTEMA DE GESTIÓN DE LA CALIDAD
A6: ='PANEL DE CONTROL DISTRITAL'!A6 -> Número | B6: ='PANEL DE CONTROL DISTRITAL'!B6 -> PROCESOS SUSTANTIVOS E INDICADORES | I6: SEMANA OPERATIVA | V6: % AVANCE REGISTRADO
B7: ='PANEL DE CONTROL DISTRITAL'!B7 -> DESCRIPCIÓN | E7: ='PANEL DE CONTROL DISTRITAL'!E7 -> MEDICIÓN | I7: CAMPAÑA ANUAL PERMANENTE 2024
B9: ='PANEL DE CONTROL DISTRITAL'!B8 -> Proceso | C9: ='PANEL DE CONTROL DISTRITAL'!C8 -> Dueño de Proceso | D9: ='PANEL DE CONTROL DISTRITAL'!D8 -> Indicador | E9: ='PANEL DE CONTROL DISTRITAL'!E8 -> Cálculo | F9: ='PANEL DE CONTROL DISTRITAL'!F8 -> Periodo | G9: ='PANEL DE CONTROL DISTRITAL'!G8 -> Estimado | H9: ='PANEL DE CONTROL DISTRITAL'!H8 -> Nominativo | I9: ='090151'!I9 -> 2024-28 | J9: ='090151'!J9 -> 2024-29 | K9: ='090151'!K9 -> 2024-30 | L9: ='090151'!L9 -> 2024-31 | M9: ='090151'!M9 -> 2024-32 | N9: ='090151'!N9 -> 2024-33 | O9: ='090151'!O9 -> 2024-34 | P9: ='090151'!P9 -> 2024-35 | ... U9: ='090151'!U9 -> 2024-40
A10: ='PANEL DE CONTROL DISTRITAL'!A9 -> 1 | B10: ='PANEL DE CONTROL DISTRITAL'!B9 -> Entrevista | C10: ='PANEL DE CONTROL DISTRITAL'!C9 -> Auxiliar de Atención Ciudadana | D10: ='PANEL DE CONTROL DISTRITAL'!D9 -> Fichas requisitadas correctamente. | E10: ='PANEL DE CONTROL DISTRITAL'!E9 -> (Fichas requisitadas correctamente / Fichas revisadas en la muestra del 10%) x 100 | F10: ='PANEL DE CONTROL DISTRITAL'!F9 -> Semanal (remesa) | G10: ='PANEL DE CONTROL DISTRITAL'!G9 -> 0.9 | H10: ='PANEL DE CONTROL DISTRITAL'!H9 -> Fichas requistadas correctamente | I10: 9 | J10: 97 | K10: 92 | L10: 86 | M10: 94 | N10: 98 | O10: 91 | P10: 90 | Q10: 100 | R10: 93 | S10: 97 | T10: 96 | U10: 91 | V10: =IFERROR(SUM(I10:U10)/SUM(I11:U11),0) -> 1
H11: ='PANEL DE CONTROL DISTRITAL'!H10 -> Fichas revisadas en la Muestra del 10% | I11: 9 | J11: 97 | K11: 92 | L11: 86 | M11: 94 | N11: 98 | O11: 91 | P11: 90 | Q11: 100 | R11: 93 | S11: 97 | T11: 96 | U11: 91
A13: ='PANEL DE CONTROL DISTRITAL'!A12 -> 2 | B13: ='PANEL DE CONTROL DISTRITAL'!B12 -> Trámite | C13: ='PANEL DE CONTROL DISTRITAL'!C12 -> Operador de Equipo Tecnológico | D13: ='PANEL DE CONTROL DISTRITAL'!D12 -> Trámites exitosos. | E13: ='PANEL DE CONTROL DISTRITAL'!E12 -> (Número de trámites exitosos / Número de trámites aplicados) x 100 | F13: ='PANEL DE CONTROL DISTRITAL'!F12 -> Semanal (remesa) | G13: ='PANEL DE CONTROL DISTRITAL'!G12 -> 0.9 | H13: ='PANEL DE CONTROL DISTRITAL'!H12 -> Número de trámites exitosos | I13: 89 | J13: 954 | K13: 909 | L13: 853 | M13: 924 | N13: 961 | O13: 907 | P13: 887 | Q13: 974 | R13: 909 | S13: 954 | T13: 939 | U13: 892 | V13: =IFERROR(SUM(I13:U13)/SUM(I14:U14),0) -> 0.99820981
H14: ='PANEL DE CONTROL DISTRITAL'!H13 -> Número de trámites aplicados | I14: 90 | J14: 954 | K14: 911 | L14: 854 | M14: 926 | N14: 962 | O14: 909 | P14: 889 | Q14: 975 | R14: 912 | S14: 954 | T14: 941 | U14: 895
A16: ='PANEL DE CONTROL DISTRITAL'!A15 -> 3 | B16: ='PANEL DE CONTROL DISTRITAL'!B15 -> Transferencia de la Información. | C16: ='PANEL DE CONTROL DISTRITAL'!C15 -> Responsable de Módulo | D16: ='PANEL DE CONTROL DISTRITAL'!D15 -> Reenvíos exitosos. | E16: ='PANEL DE CONTROL DISTRITAL'!E15 -> (Ejecución de los scripts de reenvío de notificaciones / Solicitud de reenvíos de scripts requeridos) x100 | F16: ='PANEL DE CONTROL DISTRITAL'!F15 -> Semanal (remesa) | G16: ='PANEL DE CONTROL DISTRITAL'!G15 -> 1 | H16: ='PANEL DE CONTROL DISTRITAL'!H15 -> Ejecución de los scripts de reenvío de notificaciones | I16: 0 | J16: 0 | K16: 0 | L16: 0 | M16: 0 | N16: 0 | O16: 0 | P16: 0 | Q16: 0 | R16: 0 | S16: 1 | T16: 0 | U16: 0 | V16: =IFERROR(SUM(I16:U16)/SUM(I17:U17),1) -> 1
H17: ='PANEL DE CONTROL DISTRITAL'!H16 -> Solicitud de reevíos de scripts requeridos | I17: 0 | J17: 0 | K17: 0 | L17: 0 | M17: 0 | N17: 0 | O17: 0 | P17: 0 | Q17: 0 | R17: 0 | S17: 1 | T17: 0 | U17: 0
A19: ='PANEL DE CONTROL DISTRITAL'!A18 -> 4 | B19: ='PANEL DE CONTROL DISTRITAL'!B18 -> Conciliación de Credenciales para Votar. | C19: ='PANEL DE CONTROL DISTRITAL'!C18 -> Responsable de Módulo | D19: ='PANEL DE CONTROL DISTRITAL'!D18 -> Credenciales disponibles para entrega. | E19: ='PANEL DE CONTROL DISTRITAL'!E18 -> [(Credenciales recibidas - Credenciales inconsistentes) / Credenciales recibidas] x 100 | F19: ='PANEL DE CONTROL DISTRITAL'!F18 -> Semanal (remesa) | G19: ='PANEL DE CONTROL DISTRITAL'!G18 -> 0.9 | H19: ='PANEL DE CONTROL DISTRITAL'!H18 -> Credenciales Recibidas - Credenciales inconsistentes | I19: 57 | J19: 564 | K19: 906 | L19: 879 | M19: 843 | N19: 986 | O19: 909 | P19: 900 | Q19: 794 | R19: 1090 | S19: 919 | T19: 997 | U19: 896 | V19: =IFERROR(SUM(I19:U19)/SUM(I20:U20),0) -> 0.9999069
H20: ='PANEL DE CONTROL DISTRITAL'!H19 -> Credenciales recibidas | I20: 57 | J20: 564 | K20: 906 | L20: 879 | M20: 843 | N20: 986 | O20: 909 | P20: 900 | Q20: 794 | R20: 1090 | S20: 919 | T20: 998 | U20: 896
A22: ='PANEL DE CONTROL DISTRITAL'!A21 -> 5 | B22: ='PANEL DE CONTROL DISTRITAL'!B21 -> Conciliación de Credenciales para Votar. | C22: ='PANEL DE CONTROL DISTRITAL'!C21 -> Responsable de Módulo | D22: ='PANEL DE CONTROL DISTRITAL'!D21 -> Arqueo de credenciales. | E22: ='PANEL DE CONTROL DISTRITAL'!E21 -> (Credenciales disponibles (físicas) / Credenciales disponibles registradas en SIIRFE-MAC) x 100 | F22: ='PANEL DE CONTROL DISTRITAL'!F21 -> Semanal (remesa) | G22: ='PANEL DE CONTROL DISTRITAL'!G21 -> 1 | H22: ='PANEL DE CONTROL DISTRITAL'!H21 -> Credenciales disponibles (físicas) | I22: 443 | J22: 936 | K22: 1273 | L22: 1318 | M22: 1256 | N22: 1220 | O22: 1207 | P22: 1272 | Q22: 1213 | R22: 1301 | S22: 1412 | T22: 1457 | U22: 1342 | V22: =IFERROR(SUM(I22:U22)/SUM(I23:U23),0) -> 1
H23: ='PANEL DE CONTROL DISTRITAL'!H22 -> Credenciales disponibles registradas en SIIRFE | I23: 443 | J23: 936 | K23: 1273 | L23: 1318 | M23: 1256 | N23: 1220 | O23: 1207 | P23: 1272 | Q23: 1213 | R23: 1301 | S23: 1412 | T23: 1457 | U23: 1342
A25: ='PANEL DE CONTROL DISTRITAL'!A24 -> 6 | B25: ='PANEL DE CONTROL DISTRITAL'!B24 -> Entrega de la Credencial para Votar. | C25: ='PANEL DE CONTROL DISTRITAL'!C24 -> Operador de Equipo Tecnológico | D25: ='PANEL DE CONTROL DISTRITAL'!D24 -> Efectividad de entrega de CPV en MAC. | E25: ='PANEL DE CONTROL DISTRITAL'!E24 -> (Total de credenciales entregadas / Total de ciudadanas y ciudadanos que acuden al MAC a recoger su credencial) x 100 | F25: ='PANEL DE CONTROL DISTRITAL'!F24 -> Semanal (remesa) | G25: ='PANEL DE CONTROL DISTRITAL'!G24 -> 0.9 | H25: ='PANEL DE CONTROL DISTRITAL'!H24 -> Total de credenciales entregadas | I25: 12 | J25: 71 | K25: 569 | L25: 834 | M25: 876 | N25: 1022 | O25: 922 | P25: 835 | Q25: 853 | R25: 988 | S25: 808 | T25: 952 | U25: 1011 | V25: =IFERROR(SUM(I25:U25)/SUM(I26:U26),0) -> 0.99959004
H26: ='PANEL DE CONTROL DISTRITAL'!H25 -> Total de ciudadanos que acuden a MAC a recoger su credencial | I26: 12 | J26: 71 | K26: 569 | L26: 834 | M26: 876 | N26: 1023 | O26: 922 | P26: 835 | Q26: 855 | R26: 989 | S26: 808 | T26: 952 | U26: 1011
B27: *Registre el valor nominal solicitado en la celda, el resultado proporcional esta automatizado.
B34: CUADRO DE OBSERVACIONES
B35: Descripción | H35: No conformidad

Sheet 090651
A1: ='PANEL DE CONTROL DISTRITAL'!A1:Q1 -> INSTITUTO NACIONAL ELECTORAL SISTEMA DE GESTIÓN DE LA CALIDAD CIUDAD DE MÉXICO
D2: Distrito | E2: 6 | F2: Módulo | H2: 90651
A4: TABLERO DE CONTROL DE PROCESOS SUSTANTIVOS DEL SISTEMA DE GESTIÓN DE LA CALIDAD
A6: ='PANEL DE CONTROL DISTRITAL'!A6 -> Número | B6: ='PANEL DE CONTROL DISTRITAL'!B6 -> PROCESOS SUSTANTIVOS E INDICADORES | I6: SEMANA OPERATIVA | V6: % AVANCE REGISTRADO
B7: ='PANEL DE CONTROL DISTRITAL'!B7 -> DESCRIPCIÓN | E7: ='PANEL DE CONTROL DISTRITAL'!E7 -> MEDICIÓN | I7: CAMPAÑA ANUAL PERMANENTE 2024
B9: ='PANEL DE CONTROL DISTRITAL'!B8 -> Proceso | C9: ='PANEL DE CONTROL DISTRITAL'!C8 -> Dueño de Proceso | D9: ='PANEL DE CONTROL DISTRITAL'!D8 -> Indicador | E9: ='PANEL DE CONTROL DISTRITAL'!E8 -> Cálculo | F9: ='PANEL DE CONTROL DISTRITAL'!F8 -> Periodo | G9: ='PANEL DE CONTROL DISTRITAL'!G8 -> Estimado | H9: ='PANEL DE CONTROL DISTRITAL'!H8 -> Nominativo | I9: ='090151'!I9 -> 2024-28 | J9: ='090151'!J9 -> 2024-29 | K9: ='090151'!K9 -> 2024-30 | L9: ='090151'!L9 -> 2024-31 | M9: ='090151'!M9 -> 2024-32 | N9: ='090151'!N9 -> 2024-33 | O9: ='090151'!O9 -> 2024-34 | P9: ='090151'!P9 -> 2024-35 | ... U9: ='090151'!U9 -> 2024-40
A10: ='PANEL DE CONTROL DISTRITAL'!A9 -> 1 | B10: ='PANEL DE CONTROL DISTRITAL'!B9 -> Entrevista | C10: ='PANEL DE CONTROL DISTRITAL'!C9 -> Auxiliar de Atención Ciudadana | D10: ='PANEL DE CONTROL DISTRITAL'!D9 -> Fichas requisitadas correctamente. | E10: ='PANEL DE CONTROL DISTRITAL'!E9 -> (Fichas requisitadas correctamente / Fichas revisadas en la muestra del 10%) x 100 | F10: ='PANEL DE CONTROL DISTRITAL'!F9 -> Semanal (remesa) | G10: ='PANEL DE CONTROL DISTRITAL'!G9 -> 0.9 | H10: ='PANEL DE CONTROL DISTRITAL'!H9 -> Fichas requistadas correctamente | I10: 47 | J10: 94 | K10: 80 | L10: 71 | M10: 91 | N10: 79 | O10: 89 | P10: 88 | Q10: 95 | R10: 81 | S10: 79 | T10: 83 | U10: 82 | V10: =IFERROR(SUM(I10:U10)/SUM(I11:U11),0) -> 0.88693467
H11: ='PANEL DE CONTROL DISTRITAL'!H10 -> Fichas revisadas en la Muestra del 10% | I11: 47 | J11: 94 | K11: 96 | L11: 99 | M11: 97 | N11: 92 | O11: 98 | P11: 93 | Q11: 102 | R11: 99 | S11: 91 | T11: 95 | U11: 91
A13: ='PANEL DE CONTROL DISTRITAL'!A12 -> 2 | B13: ='PANEL DE CONTROL DISTRITAL'!B12 -> Trámite | C13: ='PANEL DE CONTROL DISTRITAL'!C12 -> Operador de Equipo Tecnológico | D13: ='PANEL DE CONTROL DISTRITAL'!D12 -> Trámites exitosos. | E13: ='PANEL DE CONTROL DISTRITAL'!E12 -> (Número de trámites exitosos / Número de trámites aplicados) x 100 | F13: ='PANEL DE CONTROL DISTRITAL'!F12 -> Semanal (remesa) | G13: ='PANEL DE CONTROL DISTRITAL'!G12 -> 0.9 | H13: ='PANEL DE CONTROL DISTRITAL'!H12 -> Número de trámites exitosos | I13: 445 | J13: 896 | K13: 921 | L13: 866 | M13: 934 | N13: 880 | O13: 939 | P13: 894 | Q13: 972 | R13: 941 | S13: 872 | T13: 917 | U13: 610 | V13: =IFERROR(SUM(I13:U13)/SUM(I14:U14),0) -> 0.97356867
H14: ='PANEL DE CONTROL DISTRITAL'!H13 -> Número de trámites aplicados | I14: 445 | J14: 898 | K14: 925 | L14: 867 | M14: 937 | N14: 882 | O14: 942 | P14: 895 | Q14: 974 | R14: 947 | S14: 879 | T14: 920 | U14: 877
A16: ='PANEL DE CONTROL DISTRITAL'!A15 -> 3 | B16: ='PANEL DE CONTROL DISTRITAL'!B15 -> Transferencia de la Información. | C16: ='PANEL DE CONTROL DISTRITAL'!C15 -> Responsable de Módulo | D16: ='PANEL DE CONTROL DISTRITAL'!D15 -> Reenvíos exitosos. | E16: ='PANEL DE CONTROL DISTRITAL'!E15 -> (Ejecución de los scripts de reenvío de notificaciones / Solicitud de reenvíos de scripts requeridos) x100 | F16: ='PANEL DE CONTROL DISTRITAL'!F15 -> Semanal (remesa) | G16: ='PANEL DE CONTROL DISTRITAL'!G15 -> 1 | H16: ='PANEL DE CONTROL DISTRITAL'!H15 -> Ejecución de los scripts de reenvío de notificaciones | I16: 0 | J16: 0 | K16: 0 | L16: 0 | M16: 0 | N16: 0 | O16: 0 | P16: 0 | Q16: 0 | R16: 0 | S16: 0 | T16: 0 | U16: 0 | V16: =IFERROR(SUM(I16:U16)/SUM(I17:U17),1) -> 1
H17: ='PANEL DE CONTROL DISTRITAL'!H16 -> Solicitud de reevíos de scripts requeridos | I17: 0 | J17: 0 | K17: 0 | L17: 0 | M17: 0 | N17: 0 | O17: 0 | P17: 0 | Q17: 0 | R17: 0 | S17: 0 | T17: 0 | U17: 0
A19: ='PANEL DE CONTROL DISTRITAL'!A18 -> 4 | B19: ='PANEL DE CONTROL DISTRITAL'!B18 -> Conciliación de Credenciales para Votar. | C19: ='PANEL DE CONTROL DISTRITAL'!C18 -> Responsable de Módulo | D19: ='PANEL DE CONTROL DISTRITAL'!D18 -> Credenciales disponibles para entrega. | E19: ='PANEL DE CONTROL DISTRITAL'!E18 -> [(Credenciales recibidas - Credenciales inconsistentes) / Credenciales recibidas] x 100 | F19: ='PANEL DE CONTROL DISTRITAL'!F18 -> Semanal (remesa) | G19: ='PANEL DE CONTROL DISTRITAL'!G18 -> 0.9 | H19: ='PANEL DE CONTROL DISTRITAL'!H18 -> Credenciales Recibidas - Credenciales inconsistentes | I19: 259 | J19: 651 | K19: 936 | L19: 871 | M19: 863 | N19: 965 | O19: 886 | P19: 920 | Q19: 763 | R19: 1113 | S19: 917 | T19: 890 | U19: 908 | V19: =IFERROR(SUM(I19:U19)/SUM(I20:U20),0) -> 1
H20: ='PANEL DE CONTROL DISTRITAL'!H19 -> Credenciales recibidas | I20: 259 | J20: 651 | K20: 936 | L20: 871 | M20: 863 | N20: 965 | O20: 886 | P20: 920 | Q20: 763 | R20: 1113 | S20: 917 | T20: 890 | U20: 908
A22: ='PANEL DE CONTROL DISTRITAL'!A21 -> 5 | B22: ='PANEL DE CONTROL DISTRITAL'!B21 -> Conciliación de Credenciales para Votar. | C22: ='PANEL DE CONTROL DISTRITAL'!C21 -> Responsable de Módulo | D22: ='PANEL DE CONTROL DISTRITAL'!D21 -> Arqueo de credenciales. | E22: ='PANEL DE CONTROL DISTRITAL'!E21 -> (Credenciales disponibles (físicas) / Credenciales disponibles registradas en SIIRFE-MAC) x 100 | F22: ='PANEL DE CONTROL DISTRITAL'!F21 -> Semanal (remesa) | G22: ='PANEL DE CONTROL DISTRITAL'!G21 -> 1 | H22: ='PANEL DE CONTROL DISTRITAL'!H21 -> Credenciales disponibles (físicas) | I22: 587 | J22: 970 | K22: 1321 | L22: 1325 | M22: 1376 | N22: 1529 | O22: 1521 | P22: 1611 | Q22: 1471 | R22: 1657 | S22: 1635 | T22: 1572 | U22: 1606 | V22: =IFERROR(SUM(I22:U22)/SUM(I23:U23),0) -> 1
H23: ='PANEL DE CONTROL DISTRITAL'!H22 -> Credenciales disponibles registradas en SIIRFE | I23: 587 | J23: 970 | K23: 1321 | L23: 1325 | M23: 1376 | N23: 1529 | O23: 1521 | P23: 1611 | Q23: 1471 | R23: 1657 | S23: 1635 | T23: 1572 | U23: 1606
A25: ='PANEL DE CONTROL DISTRITAL'!A24 -> 6 | B25: ='PANEL DE CONTROL DISTRITAL'!B24 -> Entrega de la Credencial para Votar. | C25: ='PANEL DE CONTROL DISTRITAL'!C24 -> Operador de Equipo Tecnológico | D25: ='PANEL DE CONTROL DISTRITAL'!D24 -> Efectividad de entrega de CPV en MAC. | E25: ='PANEL DE CONTROL DISTRITAL'!E24 -> (Total de credenciales entregadas / Total de ciudadanas y ciudadanos que acuden al MAC a recoger su credencial) x 100 | F25: ='PANEL DE CONTROL DISTRITAL'!F24 -> Semanal (remesa) | G25: ='PANEL DE CONTROL DISTRITAL'!G24 -> 0.9 | H25: ='PANEL DE CONTROL DISTRITAL'!H24 -> Total de credenciales entregadas | I25: 16 | J25: 268 | K25: 585 | L25: 867 | M25: 783 | N25: 812 | O25: 894 | P25: 830 | Q25: 903 | R25: 921 | S25: 939 | T25: 953 | U25: 874 | V25: =IFERROR(SUM(I25:U25)/SUM(I26:U26),0) -> 1
H26: ='PANEL DE CONTROL DISTRITAL'!H25 -> Total de ciudadanos que acuden a MAC a recoger su credencial | I26: 16 | J26: 268 | K26: 585 | L26: 867 | M26: 783 | N26: 812 | O26: 894 | P26: 830 | Q26: 903 | R26: 921 | S26: 939 | T26: 953 | U26: 874
B27: *Registre el valor nominal solicitado en la celda, el resultado proporcional esta automatizado.
B34: CUADRO DE OBSERVACIONES
B35: Descripción | H35: No conformidad
B36: Con fechas 30 de julio y 01 de agosto de 2024, se llevó a cabo el "Curso de reforzamiento sobre el Mantenimiento del Sistema de Gestión de Calidad", en el cual se analizó entre otros temas la integración de los tableros de procesos sustantivos, incluyendo el proceso sustantivo de entrevista, asi como la integración de la ficha de atención ciudadana.

Sheet 090751
A1: ='PANEL DE CONTROL DISTRITAL'!A1:Q1 -> INSTITUTO NACIONAL ELECTORAL SISTEMA DE GESTIÓN DE LA CALIDAD CIUDAD DE MÉXICO
D2: Distrito | E2: 7 | F2: Módulo | H2: 90751
A4: TABLERO DE CONTROL DE PROCESOS SUSTANTIVOS DEL SISTEMA DE GESTIÓN DE LA CALIDAD
A6: ='PANEL DE CONTROL DISTRITAL'!A6 -> Número | B6: ='PANEL DE CONTROL DISTRITAL'!B6 -> PROCESOS SUSTANTIVOS E INDICADORES | I6: SEMANA OPERATIVA | V6: % AVANCE REGISTRADO
B7: ='PANEL DE CONTROL DISTRITAL'!B7 -> DESCRIPCIÓN | E7: ='PANEL DE CONTROL DISTRITAL'!E7 -> MEDICIÓN | I7: CAMPAÑA ANUAL PERMANENTE 2024
B9: ='PANEL DE CONTROL DISTRITAL'!B8 -> Proceso | C9: ='PANEL DE CONTROL DISTRITAL'!C8 -> Dueño de Proceso | D9: ='PANEL DE CONTROL DISTRITAL'!D8 -> Indicador | E9: ='PANEL DE CONTROL DISTRITAL'!E8 -> Cálculo | F9: ='PANEL DE CONTROL DISTRITAL'!F8 -> Periodo | G9: ='PANEL DE CONTROL DISTRITAL'!G8 -> Estimado | H9: ='PANEL DE CONTROL DISTRITAL'!H8 -> Nominativo | I9: ='090151'!I9 -> 2024-28 | J9: ='090151'!J9 -> 2024-29 | K9: ='090151'!K9 -> 2024-30 | L9: ='090151'!L9 -> 2024-31 | M9: ='090151'!M9 -> 2024-32 | N9: ='090151'!N9 -> 2024-33 | O9: ='090151'!O9 -> 2024-34 | P9: ='090151'!P9 -> 2024-35 | ... U9: ='090151'!U9 -> 2024-40
A10: ='PANEL DE CONTROL DISTRITAL'!A9 -> 1 | B10: ='PANEL DE CONTROL DISTRITAL'!B9 -> Entrevista | C10: ='PANEL DE CONTROL DISTRITAL'!C9 -> Auxiliar de Atención Ciudadana | D10: ='PANEL DE CONTROL DISTRITAL'!D9 -> Fichas requisitadas correctamente. | E10: ='PANEL DE CONTROL DISTRITAL'!E9 -> (Fichas requisitadas correctamente / Fichas revisadas en la muestra del 10%) x 100 | F10: ='PANEL DE CONTROL DISTRITAL'!F9 -> Semanal (remesa) | G10: ='PANEL DE CONTROL DISTRITAL'!G9 -> 0.9 | H10: ='PANEL DE CONTROL DISTRITAL'!H9 -> Fichas requistadas correctamente | I10: 61 | J10: 87 | K10: 90 | L10: 88 | M10: 90 | N10: 87 | O10: 81 | P10: 119 | Q10: 115 | R10: 116 | S10: 115 | T10: 110 | U10: 115 | V10: =IFERROR(SUM(I10:U10)/SUM(I11:U11),0) -> 1
H11: ='PANEL DE CONTROL DISTRITAL'!H10 -> Fichas revisadas en la Muestra del 10% | I11: 61 | J11: 87 | K11: 90 | L11: 88 | M11: 90 | N11: 87 | O11: 81 | P11: 119 | Q11: 115 | R11: 116 | S11: 115 | T11: 110 | U11: 115
A13: ='PANEL DE CONTROL DISTRITAL'!A12 -> 2 | B13: ='PANEL DE CONTROL DISTRITAL'!B12 -> Trámite | C13: ='PANEL DE CONTROL DISTRITAL'!C12 -> Operador de Equipo Tecnológico | D13: ='PANEL DE CONTROL DISTRITAL'!D12 -> Trámites exitosos. | E13: ='PANEL DE CONTROL DISTRITAL'!E12 -> (Número de trámites exitosos / Número de trámites aplicados) x 100 | F13: ='PANEL DE CONTROL DISTRITAL'!F12 -> Semanal (remesa) | G13: ='PANEL DE CONTROL DISTRITAL'!G12 -> 0.9 | H13: ='PANEL DE CONTROL DISTRITAL'!H12 -> Número de trámites exitosos | I13: 586 | J13: 828 | K13: 865 | L13: 839 | M13: 855 | N13: 835 | O13: 819 | P13: 1166 | Q13: 1111 | R13: 1157 | S13: 1110 | T13: 1085 | U13: 1107 | V13: =IFERROR(SUM(I13:U13)/SUM(I14:U14),0) -> 0.99645361
H14: ='PANEL DE CONTROL DISTRITAL'!H13 -> Número de trámites aplicados | I14: 589 | J14: 832 | K14: 869 | L14: 840 | M14: 858 | N14: 838 | O14: 819 | P14: 1169 | Q14: 1113 | R14: 1159 | S14: 1114 | T14: 1091 | U14: 1116
A16: ='PANEL DE CONTROL DISTRITAL'!A15 -> 3 | B16: ='PANEL DE CONTROL DISTRITAL'!B15 -> Transferencia de la Información. | C16: ='PANEL DE CONTROL DISTRITAL'!C15 -> Responsable de Módulo | D16: ='PANEL DE CONTROL DISTRITAL'!D15 -> Reenvíos exitosos. | E16: ='PANEL DE CONTROL DISTRITAL'!E15 -> (Ejecución de los scripts de reenvío de notificaciones / Solicitud de reenvíos de scripts requeridos) x100 | F16: ='PANEL DE CONTROL DISTRITAL'!F15 -> Semanal (remesa) | G16: ='PANEL DE CONTROL DISTRITAL'!G15 -> 1 | H16: ='PANEL DE CONTROL DISTRITAL'!H15 -> Ejecución de los scripts de reenvío de notificaciones | I16: 0 | J16: 0 | K16: 0 | L16: 1 | M16: 0 | N16: 0 | O16: 0 | P16: 0 | Q16: 0 | R16: 0 | S16: 0 | T16: 0 | U16: 0 | V16: =IFERROR(SUM(I16:U16)/SUM(I17:U17),1) -> 1
H17: ='PANEL DE CONTROL DISTRITAL'!H16 -> Solicitud de reevíos de scripts requeridos | I17: 0 | J17: 0 | K17: 0 | L17: 1 | M17: 0 | N17: 0 | O17: 0 | P17: 0 | Q17: 0 | R17: 0 | S17: 0 | T17: 0 | U17: 0
